BEGIN:VCALENDAR
VERSION:2.0
PRODID:-//City of Michigan City Indiana - ECPv6.15.20//NONSGML v1.0//EN
CALSCALE:GREGORIAN
METHOD:PUBLISH
X-WR-CALNAME:City of Michigan City Indiana
X-ORIGINAL-URL:https://michigancityin.gov
X-WR-CALDESC:Events for City of Michigan City Indiana
REFRESH-INTERVAL;VALUE=DURATION:PT1H
X-Robots-Tag:noindex
X-PUBLISHED-TTL:PT1H
BEGIN:VTIMEZONE
TZID:America/Chicago
BEGIN:DAYLIGHT
TZOFFSETFROM:-0600
TZOFFSETTO:-0500
TZNAME:CDT
DTSTART:20260308T080000
END:DAYLIGHT
BEGIN:STANDARD
TZOFFSETFROM:-0500
TZOFFSETTO:-0600
TZNAME:CST
DTSTART:20261101T070000
END:STANDARD
BEGIN:DAYLIGHT
TZOFFSETFROM:-0600
TZOFFSETTO:-0500
TZNAME:CDT
DTSTART:20270314T080000
END:DAYLIGHT
BEGIN:STANDARD
TZOFFSETFROM:-0500
TZOFFSETTO:-0600
TZNAME:CST
DTSTART:20271107T070000
END:STANDARD
BEGIN:DAYLIGHT
TZOFFSETFROM:-0600
TZOFFSETTO:-0500
TZNAME:CDT
DTSTART:20280312T080000
END:DAYLIGHT
BEGIN:STANDARD
TZOFFSETFROM:-0500
TZOFFSETTO:-0600
TZNAME:CST
DTSTART:20281105T070000
END:STANDARD
BEGIN:DAYLIGHT
TZOFFSETFROM:-0600
TZOFFSETTO:-0500
TZNAME:CDT
DTSTART:20290311T080000
END:DAYLIGHT
BEGIN:STANDARD
TZOFFSETFROM:-0500
TZOFFSETTO:-0600
TZNAME:CST
DTSTART:20291104T070000
END:STANDARD
BEGIN:DAYLIGHT
TZOFFSETFROM:-0600
TZOFFSETTO:-0500
TZNAME:CDT
DTSTART:20300310T080000
END:DAYLIGHT
BEGIN:STANDARD
TZOFFSETFROM:-0500
TZOFFSETTO:-0600
TZNAME:CST
DTSTART:20301103T070000
END:STANDARD
END:VTIMEZONE
BEGIN:VEVENT
DTSTART;TZID=America/Chicago:20270520T150000
DTEND;TZID=America/Chicago:20270520T160000
DTSTAMP:20260422T211617
CREATED:20250909T152147Z
LAST-MODIFIED:20250909T192239Z
UID:10002461-1810825200-1810828800@michigancityin.gov
SUMMARY:Board of Aviation Commissioners Regular Meeting
DESCRIPTION:
URL:https://michigancityin.gov/city-event/board-of-aviation-commissioners-regular-meeting-2/2027-05-20/
LOCATION:Terminal Building Conference Room\, 1300 North Highway 212\, Michigan City\, 46360\, United States
CATEGORIES:Board of Aviation Commissioners
END:VEVENT
BEGIN:VEVENT
DTSTART;TZID=America/Chicago:20270617T150000
DTEND;TZID=America/Chicago:20270617T160000
DTSTAMP:20260422T211617
CREATED:20250909T152147Z
LAST-MODIFIED:20250909T192239Z
UID:10002462-1813244400-1813248000@michigancityin.gov
SUMMARY:Board of Aviation Commissioners Regular Meeting
DESCRIPTION:
URL:https://michigancityin.gov/city-event/board-of-aviation-commissioners-regular-meeting-2/2027-06-17/
LOCATION:Terminal Building Conference Room\, 1300 North Highway 212\, Michigan City\, 46360\, United States
CATEGORIES:Board of Aviation Commissioners
END:VEVENT
BEGIN:VEVENT
DTSTART;TZID=America/Chicago:20270715T150000
DTEND;TZID=America/Chicago:20270715T160000
DTSTAMP:20260422T211617
CREATED:20250909T152147Z
LAST-MODIFIED:20250909T192239Z
UID:10002463-1815663600-1815667200@michigancityin.gov
SUMMARY:Board of Aviation Commissioners Regular Meeting
DESCRIPTION:
URL:https://michigancityin.gov/city-event/board-of-aviation-commissioners-regular-meeting-2/2027-07-15/
LOCATION:Terminal Building Conference Room\, 1300 North Highway 212\, Michigan City\, 46360\, United States
CATEGORIES:Board of Aviation Commissioners
END:VEVENT
BEGIN:VEVENT
DTSTART;TZID=America/Chicago:20270819T150000
DTEND;TZID=America/Chicago:20270819T160000
DTSTAMP:20260422T211617
CREATED:20250909T152147Z
LAST-MODIFIED:20250909T192239Z
UID:10002464-1818687600-1818691200@michigancityin.gov
SUMMARY:Board of Aviation Commissioners Regular Meeting
DESCRIPTION:
URL:https://michigancityin.gov/city-event/board-of-aviation-commissioners-regular-meeting-2/2027-08-19/
LOCATION:Terminal Building Conference Room\, 1300 North Highway 212\, Michigan City\, 46360\, United States
CATEGORIES:Board of Aviation Commissioners
END:VEVENT
BEGIN:VEVENT
DTSTART;TZID=America/Chicago:20270916T150000
DTEND;TZID=America/Chicago:20270916T160000
DTSTAMP:20260422T211617
CREATED:20250909T152147Z
LAST-MODIFIED:20250909T192239Z
UID:10002465-1821106800-1821110400@michigancityin.gov
SUMMARY:Board of Aviation Commissioners Regular Meeting
DESCRIPTION:
URL:https://michigancityin.gov/city-event/board-of-aviation-commissioners-regular-meeting-2/2027-09-16/
LOCATION:Terminal Building Conference Room\, 1300 North Highway 212\, Michigan City\, 46360\, United States
CATEGORIES:Board of Aviation Commissioners
END:VEVENT
BEGIN:VEVENT
DTSTART;TZID=America/Chicago:20271021T150000
DTEND;TZID=America/Chicago:20271021T160000
DTSTAMP:20260422T211617
CREATED:20250909T152147Z
LAST-MODIFIED:20250909T192239Z
UID:10002466-1824130800-1824134400@michigancityin.gov
SUMMARY:Board of Aviation Commissioners Regular Meeting
DESCRIPTION:
URL:https://michigancityin.gov/city-event/board-of-aviation-commissioners-regular-meeting-2/2027-10-21/
LOCATION:Terminal Building Conference Room\, 1300 North Highway 212\, Michigan City\, 46360\, United States
CATEGORIES:Board of Aviation Commissioners
END:VEVENT
BEGIN:VEVENT
DTSTART;TZID=America/Chicago:20271118T150000
DTEND;TZID=America/Chicago:20271118T160000
DTSTAMP:20260422T211617
CREATED:20250909T152147Z
LAST-MODIFIED:20250909T192239Z
UID:10002467-1826550000-1826553600@michigancityin.gov
SUMMARY:Board of Aviation Commissioners Regular Meeting
DESCRIPTION:
URL:https://michigancityin.gov/city-event/board-of-aviation-commissioners-regular-meeting-2/2027-11-18/
LOCATION:Terminal Building Conference Room\, 1300 North Highway 212\, Michigan City\, 46360\, United States
CATEGORIES:Board of Aviation Commissioners
END:VEVENT
BEGIN:VEVENT
DTSTART;TZID=America/Chicago:20271216T150000
DTEND;TZID=America/Chicago:20271216T160000
DTSTAMP:20260422T211617
CREATED:20250909T152147Z
LAST-MODIFIED:20250909T192239Z
UID:10002468-1828969200-1828972800@michigancityin.gov
SUMMARY:Board of Aviation Commissioners Regular Meeting
DESCRIPTION:
URL:https://michigancityin.gov/city-event/board-of-aviation-commissioners-regular-meeting-2/2027-12-16/
LOCATION:Terminal Building Conference Room\, 1300 North Highway 212\, Michigan City\, 46360\, United States
CATEGORIES:Board of Aviation Commissioners
END:VEVENT
BEGIN:VEVENT
DTSTART;TZID=America/Chicago:20280120T150000
DTEND;TZID=America/Chicago:20280120T160000
DTSTAMP:20260422T211617
CREATED:20250909T152147Z
LAST-MODIFIED:20250909T192239Z
UID:10002469-1831993200-1831996800@michigancityin.gov
SUMMARY:Board of Aviation Commissioners Regular Meeting
DESCRIPTION:
URL:https://michigancityin.gov/city-event/board-of-aviation-commissioners-regular-meeting-2/2028-01-20/
LOCATION:Terminal Building Conference Room\, 1300 North Highway 212\, Michigan City\, 46360\, United States
CATEGORIES:Board of Aviation Commissioners
END:VEVENT
BEGIN:VEVENT
DTSTART;TZID=America/Chicago:20280217T150000
DTEND;TZID=America/Chicago:20280217T160000
DTSTAMP:20260422T211617
CREATED:20250909T152147Z
LAST-MODIFIED:20250909T192239Z
UID:10002470-1834412400-1834416000@michigancityin.gov
SUMMARY:Board of Aviation Commissioners Regular Meeting
DESCRIPTION:
URL:https://michigancityin.gov/city-event/board-of-aviation-commissioners-regular-meeting-2/2028-02-17/
LOCATION:Terminal Building Conference Room\, 1300 North Highway 212\, Michigan City\, 46360\, United States
CATEGORIES:Board of Aviation Commissioners
END:VEVENT
BEGIN:VEVENT
DTSTART;TZID=America/Chicago:20280316T150000
DTEND;TZID=America/Chicago:20280316T160000
DTSTAMP:20260422T211617
CREATED:20250909T152147Z
LAST-MODIFIED:20250909T192239Z
UID:10002471-1836831600-1836835200@michigancityin.gov
SUMMARY:Board of Aviation Commissioners Regular Meeting
DESCRIPTION:
URL:https://michigancityin.gov/city-event/board-of-aviation-commissioners-regular-meeting-2/2028-03-16/
LOCATION:Terminal Building Conference Room\, 1300 North Highway 212\, Michigan City\, 46360\, United States
CATEGORIES:Board of Aviation Commissioners
END:VEVENT
BEGIN:VEVENT
DTSTART;TZID=America/Chicago:20280420T150000
DTEND;TZID=America/Chicago:20280420T160000
DTSTAMP:20260422T211617
CREATED:20250909T152147Z
LAST-MODIFIED:20250909T192239Z
UID:10002472-1839855600-1839859200@michigancityin.gov
SUMMARY:Board of Aviation Commissioners Regular Meeting
DESCRIPTION:
URL:https://michigancityin.gov/city-event/board-of-aviation-commissioners-regular-meeting-2/2028-04-20/
LOCATION:Terminal Building Conference Room\, 1300 North Highway 212\, Michigan City\, 46360\, United States
CATEGORIES:Board of Aviation Commissioners
END:VEVENT
BEGIN:VEVENT
DTSTART;TZID=America/Chicago:20280518T150000
DTEND;TZID=America/Chicago:20280518T160000
DTSTAMP:20260422T211617
CREATED:20250909T152147Z
LAST-MODIFIED:20250909T192239Z
UID:10002473-1842274800-1842278400@michigancityin.gov
SUMMARY:Board of Aviation Commissioners Regular Meeting
DESCRIPTION:
URL:https://michigancityin.gov/city-event/board-of-aviation-commissioners-regular-meeting-2/2028-05-18/
LOCATION:Terminal Building Conference Room\, 1300 North Highway 212\, Michigan City\, 46360\, United States
CATEGORIES:Board of Aviation Commissioners
END:VEVENT
BEGIN:VEVENT
DTSTART;TZID=America/Chicago:20280615T150000
DTEND;TZID=America/Chicago:20280615T160000
DTSTAMP:20260422T211617
CREATED:20250909T152147Z
LAST-MODIFIED:20250909T192239Z
UID:10002474-1844694000-1844697600@michigancityin.gov
SUMMARY:Board of Aviation Commissioners Regular Meeting
DESCRIPTION:
URL:https://michigancityin.gov/city-event/board-of-aviation-commissioners-regular-meeting-2/2028-06-15/
LOCATION:Terminal Building Conference Room\, 1300 North Highway 212\, Michigan City\, 46360\, United States
CATEGORIES:Board of Aviation Commissioners
END:VEVENT
BEGIN:VEVENT
DTSTART;TZID=America/Chicago:20280720T150000
DTEND;TZID=America/Chicago:20280720T160000
DTSTAMP:20260422T211617
CREATED:20250909T152147Z
LAST-MODIFIED:20250909T192239Z
UID:10002475-1847718000-1847721600@michigancityin.gov
SUMMARY:Board of Aviation Commissioners Regular Meeting
DESCRIPTION:
URL:https://michigancityin.gov/city-event/board-of-aviation-commissioners-regular-meeting-2/2028-07-20/
LOCATION:Terminal Building Conference Room\, 1300 North Highway 212\, Michigan City\, 46360\, United States
CATEGORIES:Board of Aviation Commissioners
END:VEVENT
BEGIN:VEVENT
DTSTART;TZID=America/Chicago:20280817T150000
DTEND;TZID=America/Chicago:20280817T160000
DTSTAMP:20260422T211617
CREATED:20250909T152147Z
LAST-MODIFIED:20250909T192239Z
UID:10002476-1850137200-1850140800@michigancityin.gov
SUMMARY:Board of Aviation Commissioners Regular Meeting
DESCRIPTION:
URL:https://michigancityin.gov/city-event/board-of-aviation-commissioners-regular-meeting-2/2028-08-17/
LOCATION:Terminal Building Conference Room\, 1300 North Highway 212\, Michigan City\, 46360\, United States
CATEGORIES:Board of Aviation Commissioners
END:VEVENT
BEGIN:VEVENT
DTSTART;TZID=America/Chicago:20280921T150000
DTEND;TZID=America/Chicago:20280921T160000
DTSTAMP:20260422T211617
CREATED:20250909T152147Z
LAST-MODIFIED:20250909T192239Z
UID:10002477-1853161200-1853164800@michigancityin.gov
SUMMARY:Board of Aviation Commissioners Regular Meeting
DESCRIPTION:
URL:https://michigancityin.gov/city-event/board-of-aviation-commissioners-regular-meeting-2/2028-09-21/
LOCATION:Terminal Building Conference Room\, 1300 North Highway 212\, Michigan City\, 46360\, United States
CATEGORIES:Board of Aviation Commissioners
END:VEVENT
BEGIN:VEVENT
DTSTART;TZID=America/Chicago:20281019T150000
DTEND;TZID=America/Chicago:20281019T160000
DTSTAMP:20260422T211617
CREATED:20250909T152147Z
LAST-MODIFIED:20250909T192239Z
UID:10002478-1855580400-1855584000@michigancityin.gov
SUMMARY:Board of Aviation Commissioners Regular Meeting
DESCRIPTION:
URL:https://michigancityin.gov/city-event/board-of-aviation-commissioners-regular-meeting-2/2028-10-19/
LOCATION:Terminal Building Conference Room\, 1300 North Highway 212\, Michigan City\, 46360\, United States
CATEGORIES:Board of Aviation Commissioners
END:VEVENT
BEGIN:VEVENT
DTSTART;TZID=America/Chicago:20281116T150000
DTEND;TZID=America/Chicago:20281116T160000
DTSTAMP:20260422T211617
CREATED:20250909T152147Z
LAST-MODIFIED:20250909T192239Z
UID:10002479-1857999600-1858003200@michigancityin.gov
SUMMARY:Board of Aviation Commissioners Regular Meeting
DESCRIPTION:
URL:https://michigancityin.gov/city-event/board-of-aviation-commissioners-regular-meeting-2/2028-11-16/
LOCATION:Terminal Building Conference Room\, 1300 North Highway 212\, Michigan City\, 46360\, United States
CATEGORIES:Board of Aviation Commissioners
END:VEVENT
BEGIN:VEVENT
DTSTART;TZID=America/Chicago:20281221T150000
DTEND;TZID=America/Chicago:20281221T160000
DTSTAMP:20260422T211617
CREATED:20250909T152147Z
LAST-MODIFIED:20250909T192239Z
UID:10002480-1861023600-1861027200@michigancityin.gov
SUMMARY:Board of Aviation Commissioners Regular Meeting
DESCRIPTION:
URL:https://michigancityin.gov/city-event/board-of-aviation-commissioners-regular-meeting-2/2028-12-21/
LOCATION:Terminal Building Conference Room\, 1300 North Highway 212\, Michigan City\, 46360\, United States
CATEGORIES:Board of Aviation Commissioners
END:VEVENT
BEGIN:VEVENT
DTSTART;TZID=America/Chicago:20290118T150000
DTEND;TZID=America/Chicago:20290118T160000
DTSTAMP:20260422T211617
CREATED:20250909T152147Z
LAST-MODIFIED:20250909T192239Z
UID:10002481-1863442800-1863446400@michigancityin.gov
SUMMARY:Board of Aviation Commissioners Regular Meeting
DESCRIPTION:
URL:https://michigancityin.gov/city-event/board-of-aviation-commissioners-regular-meeting-2/2029-01-18/
LOCATION:Terminal Building Conference Room\, 1300 North Highway 212\, Michigan City\, 46360\, United States
CATEGORIES:Board of Aviation Commissioners
END:VEVENT
BEGIN:VEVENT
DTSTART;TZID=America/Chicago:20290215T150000
DTEND;TZID=America/Chicago:20290215T160000
DTSTAMP:20260422T211617
CREATED:20250909T152147Z
LAST-MODIFIED:20250909T192239Z
UID:10002482-1865862000-1865865600@michigancityin.gov
SUMMARY:Board of Aviation Commissioners Regular Meeting
DESCRIPTION:
URL:https://michigancityin.gov/city-event/board-of-aviation-commissioners-regular-meeting-2/2029-02-15/
LOCATION:Terminal Building Conference Room\, 1300 North Highway 212\, Michigan City\, 46360\, United States
CATEGORIES:Board of Aviation Commissioners
END:VEVENT
BEGIN:VEVENT
DTSTART;TZID=America/Chicago:20290315T150000
DTEND;TZID=America/Chicago:20290315T160000
DTSTAMP:20260422T211617
CREATED:20250909T152147Z
LAST-MODIFIED:20250909T192239Z
UID:10002483-1868281200-1868284800@michigancityin.gov
SUMMARY:Board of Aviation Commissioners Regular Meeting
DESCRIPTION:
URL:https://michigancityin.gov/city-event/board-of-aviation-commissioners-regular-meeting-2/2029-03-15/
LOCATION:Terminal Building Conference Room\, 1300 North Highway 212\, Michigan City\, 46360\, United States
CATEGORIES:Board of Aviation Commissioners
END:VEVENT
BEGIN:VEVENT
DTSTART;TZID=America/Chicago:20290419T150000
DTEND;TZID=America/Chicago:20290419T160000
DTSTAMP:20260422T211617
CREATED:20250909T152147Z
LAST-MODIFIED:20250909T192239Z
UID:10002484-1871305200-1871308800@michigancityin.gov
SUMMARY:Board of Aviation Commissioners Regular Meeting
DESCRIPTION:
URL:https://michigancityin.gov/city-event/board-of-aviation-commissioners-regular-meeting-2/2029-04-19/
LOCATION:Terminal Building Conference Room\, 1300 North Highway 212\, Michigan City\, 46360\, United States
CATEGORIES:Board of Aviation Commissioners
END:VEVENT
BEGIN:VEVENT
DTSTART;TZID=America/Chicago:20290517T150000
DTEND;TZID=America/Chicago:20290517T160000
DTSTAMP:20260422T211617
CREATED:20250909T152147Z
LAST-MODIFIED:20250909T192239Z
UID:10002485-1873724400-1873728000@michigancityin.gov
SUMMARY:Board of Aviation Commissioners Regular Meeting
DESCRIPTION:
URL:https://michigancityin.gov/city-event/board-of-aviation-commissioners-regular-meeting-2/2029-05-17/
LOCATION:Terminal Building Conference Room\, 1300 North Highway 212\, Michigan City\, 46360\, United States
CATEGORIES:Board of Aviation Commissioners
END:VEVENT
BEGIN:VEVENT
DTSTART;TZID=America/Chicago:20290621T150000
DTEND;TZID=America/Chicago:20290621T160000
DTSTAMP:20260422T211617
CREATED:20250909T152147Z
LAST-MODIFIED:20250909T192239Z
UID:10002486-1876748400-1876752000@michigancityin.gov
SUMMARY:Board of Aviation Commissioners Regular Meeting
DESCRIPTION:
URL:https://michigancityin.gov/city-event/board-of-aviation-commissioners-regular-meeting-2/2029-06-21/
LOCATION:Terminal Building Conference Room\, 1300 North Highway 212\, Michigan City\, 46360\, United States
CATEGORIES:Board of Aviation Commissioners
END:VEVENT
BEGIN:VEVENT
DTSTART;TZID=America/Chicago:20290719T150000
DTEND;TZID=America/Chicago:20290719T160000
DTSTAMP:20260422T211617
CREATED:20250909T152147Z
LAST-MODIFIED:20250909T192239Z
UID:10002487-1879167600-1879171200@michigancityin.gov
SUMMARY:Board of Aviation Commissioners Regular Meeting
DESCRIPTION:
URL:https://michigancityin.gov/city-event/board-of-aviation-commissioners-regular-meeting-2/2029-07-19/
LOCATION:Terminal Building Conference Room\, 1300 North Highway 212\, Michigan City\, 46360\, United States
CATEGORIES:Board of Aviation Commissioners
END:VEVENT
BEGIN:VEVENT
DTSTART;TZID=America/Chicago:20290816T150000
DTEND;TZID=America/Chicago:20290816T160000
DTSTAMP:20260422T211617
CREATED:20250909T152147Z
LAST-MODIFIED:20250909T192239Z
UID:10002488-1881586800-1881590400@michigancityin.gov
SUMMARY:Board of Aviation Commissioners Regular Meeting
DESCRIPTION:
URL:https://michigancityin.gov/city-event/board-of-aviation-commissioners-regular-meeting-2/2029-08-16/
LOCATION:Terminal Building Conference Room\, 1300 North Highway 212\, Michigan City\, 46360\, United States
CATEGORIES:Board of Aviation Commissioners
END:VEVENT
BEGIN:VEVENT
DTSTART;TZID=America/Chicago:20290920T150000
DTEND;TZID=America/Chicago:20290920T160000
DTSTAMP:20260422T211617
CREATED:20250909T152147Z
LAST-MODIFIED:20250909T192239Z
UID:10002489-1884610800-1884614400@michigancityin.gov
SUMMARY:Board of Aviation Commissioners Regular Meeting
DESCRIPTION:
URL:https://michigancityin.gov/city-event/board-of-aviation-commissioners-regular-meeting-2/2029-09-20/
LOCATION:Terminal Building Conference Room\, 1300 North Highway 212\, Michigan City\, 46360\, United States
CATEGORIES:Board of Aviation Commissioners
END:VEVENT
BEGIN:VEVENT
DTSTART;TZID=America/Chicago:20291018T150000
DTEND;TZID=America/Chicago:20291018T160000
DTSTAMP:20260422T211617
CREATED:20250909T152147Z
LAST-MODIFIED:20250909T192239Z
UID:10002490-1887030000-1887033600@michigancityin.gov
SUMMARY:Board of Aviation Commissioners Regular Meeting
DESCRIPTION:
URL:https://michigancityin.gov/city-event/board-of-aviation-commissioners-regular-meeting-2/2029-10-18/
LOCATION:Terminal Building Conference Room\, 1300 North Highway 212\, Michigan City\, 46360\, United States
CATEGORIES:Board of Aviation Commissioners
END:VEVENT
END:VCALENDAR