BEGIN:VCALENDAR
VERSION:2.0
PRODID:-//City of Michigan City Indiana - ECPv6.15.20//NONSGML v1.0//EN
CALSCALE:GREGORIAN
METHOD:PUBLISH
X-ORIGINAL-URL:https://michigancityin.gov
X-WR-CALDESC:Events for City of Michigan City Indiana
REFRESH-INTERVAL;VALUE=DURATION:PT1H
X-Robots-Tag:noindex
X-PUBLISHED-TTL:PT1H
BEGIN:VTIMEZONE
TZID:America/Chicago
BEGIN:DAYLIGHT
TZOFFSETFROM:-0600
TZOFFSETTO:-0500
TZNAME:CDT
DTSTART:20240310T080000
END:DAYLIGHT
BEGIN:STANDARD
TZOFFSETFROM:-0500
TZOFFSETTO:-0600
TZNAME:CST
DTSTART:20241103T070000
END:STANDARD
BEGIN:DAYLIGHT
TZOFFSETFROM:-0600
TZOFFSETTO:-0500
TZNAME:CDT
DTSTART:20250309T080000
END:DAYLIGHT
BEGIN:STANDARD
TZOFFSETFROM:-0500
TZOFFSETTO:-0600
TZNAME:CST
DTSTART:20251102T070000
END:STANDARD
BEGIN:DAYLIGHT
TZOFFSETFROM:-0600
TZOFFSETTO:-0500
TZNAME:CDT
DTSTART:20260308T080000
END:DAYLIGHT
BEGIN:STANDARD
TZOFFSETFROM:-0500
TZOFFSETTO:-0600
TZNAME:CST
DTSTART:20261101T070000
END:STANDARD
BEGIN:DAYLIGHT
TZOFFSETFROM:-0600
TZOFFSETTO:-0500
TZNAME:CDT
DTSTART:20270314T080000
END:DAYLIGHT
BEGIN:STANDARD
TZOFFSETFROM:-0500
TZOFFSETTO:-0600
TZNAME:CST
DTSTART:20271107T070000
END:STANDARD
END:VTIMEZONE
BEGIN:VEVENT
DTSTART;TZID=America/Chicago:20260409T150000
DTEND;TZID=America/Chicago:20260409T160000
DTSTAMP:20260422T180021
CREATED:20250608T211322Z
LAST-MODIFIED:20250608T211322Z
UID:10000429-1775746800-1775750400@michigancityin.gov
SUMMARY:Board of Cemetery Trustees Regular Meeting
DESCRIPTION:
URL:https://michigancityin.gov/city-event/board-of-cemetery-trustees-regular-meeting/2026-04-09/
LOCATION:Swan Lake Cemetery Office\, 5700 East US Highway 20\, Michigan City\, 46360\, United States
CATEGORIES:Board of Cemetery Trustees
END:VEVENT
BEGIN:VEVENT
DTSTART;TZID=America/Chicago:20260312T150000
DTEND;TZID=America/Chicago:20260312T160000
DTSTAMP:20260422T180021
CREATED:20250608T211322Z
LAST-MODIFIED:20250608T211322Z
UID:10000428-1773327600-1773331200@michigancityin.gov
SUMMARY:Board of Cemetery Trustees Regular Meeting
DESCRIPTION:
URL:https://michigancityin.gov/city-event/board-of-cemetery-trustees-regular-meeting/2026-03-12/
LOCATION:Swan Lake Cemetery Office\, 5700 East US Highway 20\, Michigan City\, 46360\, United States
CATEGORIES:Board of Cemetery Trustees
END:VEVENT
BEGIN:VEVENT
DTSTART;TZID=America/Chicago:20260212T150000
DTEND;TZID=America/Chicago:20260212T160000
DTSTAMP:20260422T180021
CREATED:20250608T211322Z
LAST-MODIFIED:20250608T211322Z
UID:10000427-1770908400-1770912000@michigancityin.gov
SUMMARY:Board of Cemetery Trustees Regular Meeting
DESCRIPTION:
URL:https://michigancityin.gov/city-event/board-of-cemetery-trustees-regular-meeting/2026-02-12/
LOCATION:Swan Lake Cemetery Office\, 5700 East US Highway 20\, Michigan City\, 46360\, United States
CATEGORIES:Board of Cemetery Trustees
END:VEVENT
BEGIN:VEVENT
DTSTART;TZID=America/Chicago:20260108T150000
DTEND;TZID=America/Chicago:20260108T160000
DTSTAMP:20260422T180021
CREATED:20250608T211322Z
LAST-MODIFIED:20250608T211322Z
UID:10000426-1767884400-1767888000@michigancityin.gov
SUMMARY:Board of Cemetery Trustees Regular Meeting
DESCRIPTION:
URL:https://michigancityin.gov/city-event/board-of-cemetery-trustees-regular-meeting/2026-01-08/
LOCATION:Swan Lake Cemetery Office\, 5700 East US Highway 20\, Michigan City\, 46360\, United States
CATEGORIES:Board of Cemetery Trustees
END:VEVENT
BEGIN:VEVENT
DTSTART;TZID=America/Chicago:20251211T150000
DTEND;TZID=America/Chicago:20251211T160000
DTSTAMP:20260422T180021
CREATED:20250608T211322Z
LAST-MODIFIED:20250608T211322Z
UID:10000425-1765465200-1765468800@michigancityin.gov
SUMMARY:Board of Cemetery Trustees Regular Meeting
DESCRIPTION:
URL:https://michigancityin.gov/city-event/board-of-cemetery-trustees-regular-meeting/2025-12-11/
LOCATION:Swan Lake Cemetery Office\, 5700 East US Highway 20\, Michigan City\, 46360\, United States
CATEGORIES:Board of Cemetery Trustees
END:VEVENT
BEGIN:VEVENT
DTSTART;TZID=America/Chicago:20251113T150000
DTEND;TZID=America/Chicago:20251113T160000
DTSTAMP:20260422T180021
CREATED:20250608T211322Z
LAST-MODIFIED:20250608T211322Z
UID:10000424-1763046000-1763049600@michigancityin.gov
SUMMARY:Board of Cemetery Trustees Regular Meeting
DESCRIPTION:
URL:https://michigancityin.gov/city-event/board-of-cemetery-trustees-regular-meeting/2025-11-13/
LOCATION:Swan Lake Cemetery Office\, 5700 East US Highway 20\, Michigan City\, 46360\, United States
CATEGORIES:Board of Cemetery Trustees
END:VEVENT
BEGIN:VEVENT
DTSTART;TZID=America/Chicago:20251009T150000
DTEND;TZID=America/Chicago:20251009T160000
DTSTAMP:20260422T180021
CREATED:20250608T211322Z
LAST-MODIFIED:20250608T211322Z
UID:10000423-1760022000-1760025600@michigancityin.gov
SUMMARY:Board of Cemetery Trustees Regular Meeting
DESCRIPTION:
URL:https://michigancityin.gov/city-event/board-of-cemetery-trustees-regular-meeting/2025-10-09/
LOCATION:Swan Lake Cemetery Office\, 5700 East US Highway 20\, Michigan City\, 46360\, United States
CATEGORIES:Board of Cemetery Trustees
END:VEVENT
BEGIN:VEVENT
DTSTART;TZID=America/Chicago:20250911T150000
DTEND;TZID=America/Chicago:20250911T160000
DTSTAMP:20260422T180021
CREATED:20250608T211322Z
LAST-MODIFIED:20250608T211322Z
UID:10000422-1757602800-1757606400@michigancityin.gov
SUMMARY:Board of Cemetery Trustees Regular Meeting
DESCRIPTION:
URL:https://michigancityin.gov/city-event/board-of-cemetery-trustees-regular-meeting/2025-09-11/
LOCATION:Swan Lake Cemetery Office\, 5700 East US Highway 20\, Michigan City\, 46360\, United States
CATEGORIES:Board of Cemetery Trustees
END:VEVENT
BEGIN:VEVENT
DTSTART;TZID=America/Chicago:20250814T150000
DTEND;TZID=America/Chicago:20250814T160000
DTSTAMP:20260422T180021
CREATED:20250608T211322Z
LAST-MODIFIED:20250608T211322Z
UID:10000421-1755183600-1755187200@michigancityin.gov
SUMMARY:Board of Cemetery Trustees Regular Meeting
DESCRIPTION:
URL:https://michigancityin.gov/city-event/board-of-cemetery-trustees-regular-meeting/2025-08-14/
LOCATION:Swan Lake Cemetery Office\, 5700 East US Highway 20\, Michigan City\, 46360\, United States
CATEGORIES:Board of Cemetery Trustees
END:VEVENT
BEGIN:VEVENT
DTSTART;TZID=America/Chicago:20250710T150000
DTEND;TZID=America/Chicago:20250710T160000
DTSTAMP:20260422T180021
CREATED:20250608T211322Z
LAST-MODIFIED:20250608T211322Z
UID:10000420-1752159600-1752163200@michigancityin.gov
SUMMARY:Board of Cemetery Trustees Regular Meeting
DESCRIPTION:
URL:https://michigancityin.gov/city-event/board-of-cemetery-trustees-regular-meeting/2025-07-10/
LOCATION:Swan Lake Cemetery Office\, 5700 East US Highway 20\, Michigan City\, 46360\, United States
CATEGORIES:Board of Cemetery Trustees
END:VEVENT
BEGIN:VEVENT
DTSTART;TZID=America/Chicago:20250612T150000
DTEND;TZID=America/Chicago:20250612T160000
DTSTAMP:20260422T180021
CREATED:20250608T211322Z
LAST-MODIFIED:20250608T211322Z
UID:10000419-1749740400-1749744000@michigancityin.gov
SUMMARY:Board of Cemetery Trustees Regular Meeting
DESCRIPTION:
URL:https://michigancityin.gov/city-event/board-of-cemetery-trustees-regular-meeting/2025-06-12/
LOCATION:Swan Lake Cemetery Office\, 5700 East US Highway 20\, Michigan City\, 46360\, United States
CATEGORIES:Board of Cemetery Trustees
END:VEVENT
END:VCALENDAR