BEGIN:VCALENDAR
VERSION:2.0
PRODID:-//City of Michigan City Indiana - ECPv6.15.20//NONSGML v1.0//EN
CALSCALE:GREGORIAN
METHOD:PUBLISH
X-WR-CALNAME:City of Michigan City Indiana
X-ORIGINAL-URL:https://michigancityin.gov
X-WR-CALDESC:Events for City of Michigan City Indiana
REFRESH-INTERVAL;VALUE=DURATION:PT1H
X-Robots-Tag:noindex
X-PUBLISHED-TTL:PT1H
BEGIN:VTIMEZONE
TZID:America/Chicago
BEGIN:DAYLIGHT
TZOFFSETFROM:-0600
TZOFFSETTO:-0500
TZNAME:CDT
DTSTART:20240310T080000
END:DAYLIGHT
BEGIN:STANDARD
TZOFFSETFROM:-0500
TZOFFSETTO:-0600
TZNAME:CST
DTSTART:20241103T070000
END:STANDARD
BEGIN:DAYLIGHT
TZOFFSETFROM:-0600
TZOFFSETTO:-0500
TZNAME:CDT
DTSTART:20250309T080000
END:DAYLIGHT
BEGIN:STANDARD
TZOFFSETFROM:-0500
TZOFFSETTO:-0600
TZNAME:CST
DTSTART:20251102T070000
END:STANDARD
BEGIN:DAYLIGHT
TZOFFSETFROM:-0600
TZOFFSETTO:-0500
TZNAME:CDT
DTSTART:20260308T080000
END:DAYLIGHT
BEGIN:STANDARD
TZOFFSETFROM:-0500
TZOFFSETTO:-0600
TZNAME:CST
DTSTART:20261101T070000
END:STANDARD
END:VTIMEZONE
BEGIN:VEVENT
DTSTART;TZID=America/Chicago:20251117T160000
DTEND;TZID=America/Chicago:20251117T170000
DTSTAMP:20260422T195701
CREATED:20250608T211534Z
LAST-MODIFIED:20250608T211534Z
UID:10000484-1763395200-1763398800@michigancityin.gov
SUMMARY:Board of Public Works and Safety Regular Meeting
DESCRIPTION:
URL:https://michigancityin.gov/city-event/board-of-public-works-and-safety-regular-meeting/2025-11-17/
LOCATION:Council Chambers – City Hall 100 East  Michigan Boulevard Michigan City IN 46360
CATEGORIES:Board of Public Works and Safety
END:VEVENT
BEGIN:VEVENT
DTSTART;TZID=America/Chicago:20251103T083000
DTEND;TZID=America/Chicago:20251103T093000
DTSTAMP:20260422T195701
CREATED:20250905T195739Z
LAST-MODIFIED:20250905T195740Z
UID:10002313-1762158600-1762162200@michigancityin.gov
SUMMARY:Board of Public Works and Safety Regular Meeting
DESCRIPTION:
URL:https://michigancityin.gov/city-event/board-of-public-works-and-safety-regular-meeting-2-2-2/2025-11-03/
LOCATION:Council Chambers – City Hall 100 East  Michigan Boulevard Michigan City IN 46360
CATEGORIES:Board of Public Works and Safety
END:VEVENT
BEGIN:VEVENT
DTSTART;TZID=America/Chicago:20251020T160000
DTEND;TZID=America/Chicago:20251020T170000
DTSTAMP:20260422T195701
CREATED:20250608T211534Z
LAST-MODIFIED:20250608T211534Z
UID:10000483-1760976000-1760979600@michigancityin.gov
SUMMARY:Board of Public Works and Safety Regular Meeting
DESCRIPTION:
URL:https://michigancityin.gov/city-event/board-of-public-works-and-safety-regular-meeting/2025-10-20/
LOCATION:Council Chambers – City Hall 100 East  Michigan Boulevard Michigan City IN 46360
CATEGORIES:Board of Public Works and Safety
END:VEVENT
BEGIN:VEVENT
DTSTART;TZID=America/Chicago:20251006T083000
DTEND;TZID=America/Chicago:20251006T093000
DTSTAMP:20260422T195701
CREATED:20250905T195739Z
LAST-MODIFIED:20250905T195740Z
UID:10002253-1759739400-1759743000@michigancityin.gov
SUMMARY:Board of Public Works and Safety Regular Meeting
DESCRIPTION:
URL:https://michigancityin.gov/city-event/board-of-public-works-and-safety-regular-meeting-2-2-2/2025-10-06/
LOCATION:Council Chambers – City Hall 100 East  Michigan Boulevard Michigan City IN 46360
CATEGORIES:Board of Public Works and Safety
END:VEVENT
BEGIN:VEVENT
DTSTART;TZID=America/Chicago:20250915T160000
DTEND;TZID=America/Chicago:20250915T170000
DTSTAMP:20260422T195701
CREATED:20250608T211534Z
LAST-MODIFIED:20250608T211534Z
UID:10000482-1757952000-1757955600@michigancityin.gov
SUMMARY:Board of Public Works and Safety Regular Meeting
DESCRIPTION:
URL:https://michigancityin.gov/city-event/board-of-public-works-and-safety-regular-meeting/2025-09-15/
LOCATION:Council Chambers – City Hall 100 East  Michigan Boulevard Michigan City IN 46360
CATEGORIES:Board of Public Works and Safety
END:VEVENT
BEGIN:VEVENT
DTSTART;TZID=America/Chicago:20250902T083000
DTEND;TZID=America/Chicago:20250902T093000
DTSTAMP:20260422T195701
CREATED:20250905T195538Z
LAST-MODIFIED:20250905T195539Z
UID:10000541-1756801800-1756805400@michigancityin.gov
SUMMARY:Board of Public Works and Safety Regular Meeting
DESCRIPTION:
URL:https://michigancityin.gov/city-event/board-of-public-works-and-safety-regular-meeting-2-2/
LOCATION:Council Chambers – City Hall 100 East  Michigan Boulevard Michigan City IN 46360
CATEGORIES:Board of Public Works and Safety
END:VEVENT
BEGIN:VEVENT
DTSTART;TZID=America/Chicago:20250818T160000
DTEND;TZID=America/Chicago:20250818T170000
DTSTAMP:20260422T195701
CREATED:20250608T211534Z
LAST-MODIFIED:20250608T211534Z
UID:10000481-1755532800-1755536400@michigancityin.gov
SUMMARY:Board of Public Works and Safety Regular Meeting
DESCRIPTION:
URL:https://michigancityin.gov/city-event/board-of-public-works-and-safety-regular-meeting/2025-08-18/
LOCATION:Council Chambers – City Hall 100 East  Michigan Boulevard Michigan City IN 46360
CATEGORIES:Board of Public Works and Safety
END:VEVENT
BEGIN:VEVENT
DTSTART;TZID=America/Chicago:20250804T083000
DTEND;TZID=America/Chicago:20250804T093000
DTSTAMP:20260422T195701
CREATED:20250608T211716Z
LAST-MODIFIED:20250608T211716Z
UID:10000540-1754296200-1754299800@michigancityin.gov
SUMMARY:Board of Public Works and Safety Regular Meeting
DESCRIPTION:
URL:https://michigancityin.gov/city-event/board-of-public-works-and-safety-regular-meeting-2/2025-08-04/
LOCATION:Council Chambers – City Hall 100 East  Michigan Boulevard Michigan City IN 46360
CATEGORIES:Board of Public Works and Safety
END:VEVENT
BEGIN:VEVENT
DTSTART;TZID=America/Chicago:20250721T160000
DTEND;TZID=America/Chicago:20250721T170000
DTSTAMP:20260422T195701
CREATED:20250608T211534Z
LAST-MODIFIED:20250608T211534Z
UID:10000480-1753113600-1753117200@michigancityin.gov
SUMMARY:Board of Public Works and Safety Regular Meeting
DESCRIPTION:
URL:https://michigancityin.gov/city-event/board-of-public-works-and-safety-regular-meeting/2025-07-21/
LOCATION:Council Chambers – City Hall 100 East  Michigan Boulevard Michigan City IN 46360
CATEGORIES:Board of Public Works and Safety
END:VEVENT
BEGIN:VEVENT
DTSTART;TZID=America/Chicago:20250707T083000
DTEND;TZID=America/Chicago:20250707T093000
DTSTAMP:20260422T195701
CREATED:20250608T211716Z
LAST-MODIFIED:20250608T211716Z
UID:10000539-1751877000-1751880600@michigancityin.gov
SUMMARY:Board of Public Works and Safety Regular Meeting
DESCRIPTION:
URL:https://michigancityin.gov/city-event/board-of-public-works-and-safety-regular-meeting-2/2025-07-07/
LOCATION:Council Chambers – City Hall 100 East  Michigan Boulevard Michigan City IN 46360
CATEGORIES:Board of Public Works and Safety
END:VEVENT
BEGIN:VEVENT
DTSTART;TZID=America/Chicago:20250616T160000
DTEND;TZID=America/Chicago:20250616T170000
DTSTAMP:20260422T195701
CREATED:20250608T211534Z
LAST-MODIFIED:20250608T211534Z
UID:10000479-1750089600-1750093200@michigancityin.gov
SUMMARY:Board of Public Works and Safety Regular Meeting
DESCRIPTION:
URL:https://michigancityin.gov/city-event/board-of-public-works-and-safety-regular-meeting/2025-06-16/
LOCATION:Council Chambers – City Hall 100 East  Michigan Boulevard Michigan City IN 46360
CATEGORIES:Board of Public Works and Safety
END:VEVENT
END:VCALENDAR