BEGIN:VCALENDAR
VERSION:2.0
PRODID:-//City of Michigan City Indiana - ECPv6.15.20//NONSGML v1.0//EN
CALSCALE:GREGORIAN
METHOD:PUBLISH
X-WR-CALNAME:City of Michigan City Indiana
X-ORIGINAL-URL:https://michigancityin.gov
X-WR-CALDESC:Events for City of Michigan City Indiana
REFRESH-INTERVAL;VALUE=DURATION:PT1H
X-Robots-Tag:noindex
X-PUBLISHED-TTL:PT1H
BEGIN:VTIMEZONE
TZID:America/Chicago
BEGIN:DAYLIGHT
TZOFFSETFROM:-0600
TZOFFSETTO:-0500
TZNAME:CDT
DTSTART:20260308T080000
END:DAYLIGHT
BEGIN:STANDARD
TZOFFSETFROM:-0500
TZOFFSETTO:-0600
TZNAME:CST
DTSTART:20261101T070000
END:STANDARD
BEGIN:DAYLIGHT
TZOFFSETFROM:-0600
TZOFFSETTO:-0500
TZNAME:CDT
DTSTART:20270314T080000
END:DAYLIGHT
BEGIN:STANDARD
TZOFFSETFROM:-0500
TZOFFSETTO:-0600
TZNAME:CST
DTSTART:20271107T070000
END:STANDARD
BEGIN:DAYLIGHT
TZOFFSETFROM:-0600
TZOFFSETTO:-0500
TZNAME:CDT
DTSTART:20280312T080000
END:DAYLIGHT
BEGIN:STANDARD
TZOFFSETFROM:-0500
TZOFFSETTO:-0600
TZNAME:CST
DTSTART:20281105T070000
END:STANDARD
BEGIN:DAYLIGHT
TZOFFSETFROM:-0600
TZOFFSETTO:-0500
TZNAME:CDT
DTSTART:20290311T080000
END:DAYLIGHT
BEGIN:STANDARD
TZOFFSETFROM:-0500
TZOFFSETTO:-0600
TZNAME:CST
DTSTART:20291104T070000
END:STANDARD
BEGIN:DAYLIGHT
TZOFFSETFROM:-0600
TZOFFSETTO:-0500
TZNAME:CDT
DTSTART:20300310T080000
END:DAYLIGHT
BEGIN:STANDARD
TZOFFSETFROM:-0500
TZOFFSETTO:-0600
TZNAME:CST
DTSTART:20301103T070000
END:STANDARD
END:VTIMEZONE
BEGIN:VEVENT
DTSTART;TZID=America/Chicago:20271101T083000
DTEND;TZID=America/Chicago:20271101T093000
DTSTAMP:20260422T182137
CREATED:20250905T195739Z
LAST-MODIFIED:20250905T195740Z
UID:10002337-1825057800-1825061400@michigancityin.gov
SUMMARY:Board of Public Works and Safety Regular Meeting
DESCRIPTION:
URL:https://michigancityin.gov/city-event/board-of-public-works-and-safety-regular-meeting-2-2-2/2027-11-01/
LOCATION:Council Chambers – City Hall 100 East  Michigan Boulevard Michigan City IN 46360
CATEGORIES:Board of Public Works and Safety
END:VEVENT
BEGIN:VEVENT
DTSTART;TZID=America/Chicago:20271115T160000
DTEND;TZID=America/Chicago:20271115T170000
DTSTAMP:20260422T182137
CREATED:20250608T211534Z
LAST-MODIFIED:20250608T211534Z
UID:10000508-1826294400-1826298000@michigancityin.gov
SUMMARY:Board of Public Works and Safety Regular Meeting
DESCRIPTION:
URL:https://michigancityin.gov/city-event/board-of-public-works-and-safety-regular-meeting/2027-11-15/
LOCATION:Council Chambers – City Hall 100 East  Michigan Boulevard Michigan City IN 46360
CATEGORIES:Board of Public Works and Safety
END:VEVENT
BEGIN:VEVENT
DTSTART;TZID=America/Chicago:20271206T083000
DTEND;TZID=America/Chicago:20271206T093000
DTSTAMP:20260422T182137
CREATED:20250905T195739Z
LAST-MODIFIED:20250905T195740Z
UID:10002338-1828081800-1828085400@michigancityin.gov
SUMMARY:Board of Public Works and Safety Regular Meeting
DESCRIPTION:
URL:https://michigancityin.gov/city-event/board-of-public-works-and-safety-regular-meeting-2-2-2/2027-12-06/
LOCATION:Council Chambers – City Hall 100 East  Michigan Boulevard Michigan City IN 46360
CATEGORIES:Board of Public Works and Safety
END:VEVENT
BEGIN:VEVENT
DTSTART;TZID=America/Chicago:20271220T160000
DTEND;TZID=America/Chicago:20271220T170000
DTSTAMP:20260422T182137
CREATED:20250608T211534Z
LAST-MODIFIED:20250608T211534Z
UID:10000509-1829318400-1829322000@michigancityin.gov
SUMMARY:Board of Public Works and Safety Regular Meeting
DESCRIPTION:
URL:https://michigancityin.gov/city-event/board-of-public-works-and-safety-regular-meeting/2027-12-20/
LOCATION:Council Chambers – City Hall 100 East  Michigan Boulevard Michigan City IN 46360
CATEGORIES:Board of Public Works and Safety
END:VEVENT
BEGIN:VEVENT
DTSTART;TZID=America/Chicago:20280103T083000
DTEND;TZID=America/Chicago:20280103T093000
DTSTAMP:20260422T182137
CREATED:20250905T195739Z
LAST-MODIFIED:20250905T195740Z
UID:10002339-1830501000-1830504600@michigancityin.gov
SUMMARY:Board of Public Works and Safety Regular Meeting
DESCRIPTION:
URL:https://michigancityin.gov/city-event/board-of-public-works-and-safety-regular-meeting-2-2-2/2028-01-03/
LOCATION:Council Chambers – City Hall 100 East  Michigan Boulevard Michigan City IN 46360
CATEGORIES:Board of Public Works and Safety
END:VEVENT
BEGIN:VEVENT
DTSTART;TZID=America/Chicago:20280117T160000
DTEND;TZID=America/Chicago:20280117T170000
DTSTAMP:20260422T182137
CREATED:20250608T211534Z
LAST-MODIFIED:20250608T211534Z
UID:10000510-1831737600-1831741200@michigancityin.gov
SUMMARY:Board of Public Works and Safety Regular Meeting
DESCRIPTION:
URL:https://michigancityin.gov/city-event/board-of-public-works-and-safety-regular-meeting/2028-01-17/
LOCATION:Council Chambers – City Hall 100 East  Michigan Boulevard Michigan City IN 46360
CATEGORIES:Board of Public Works and Safety
END:VEVENT
BEGIN:VEVENT
DTSTART;TZID=America/Chicago:20280207T083000
DTEND;TZID=America/Chicago:20280207T093000
DTSTAMP:20260422T182137
CREATED:20250905T195739Z
LAST-MODIFIED:20250905T195740Z
UID:10002340-1833525000-1833528600@michigancityin.gov
SUMMARY:Board of Public Works and Safety Regular Meeting
DESCRIPTION:
URL:https://michigancityin.gov/city-event/board-of-public-works-and-safety-regular-meeting-2-2-2/2028-02-07/
LOCATION:Council Chambers – City Hall 100 East  Michigan Boulevard Michigan City IN 46360
CATEGORIES:Board of Public Works and Safety
END:VEVENT
BEGIN:VEVENT
DTSTART;TZID=America/Chicago:20280221T160000
DTEND;TZID=America/Chicago:20280221T170000
DTSTAMP:20260422T182137
CREATED:20250608T211534Z
LAST-MODIFIED:20250608T211534Z
UID:10000511-1834761600-1834765200@michigancityin.gov
SUMMARY:Board of Public Works and Safety Regular Meeting
DESCRIPTION:
URL:https://michigancityin.gov/city-event/board-of-public-works-and-safety-regular-meeting/2028-02-21/
LOCATION:Council Chambers – City Hall 100 East  Michigan Boulevard Michigan City IN 46360
CATEGORIES:Board of Public Works and Safety
END:VEVENT
BEGIN:VEVENT
DTSTART;TZID=America/Chicago:20280306T083000
DTEND;TZID=America/Chicago:20280306T093000
DTSTAMP:20260422T182137
CREATED:20250905T195739Z
LAST-MODIFIED:20250905T195740Z
UID:10002341-1835944200-1835947800@michigancityin.gov
SUMMARY:Board of Public Works and Safety Regular Meeting
DESCRIPTION:
URL:https://michigancityin.gov/city-event/board-of-public-works-and-safety-regular-meeting-2-2-2/2028-03-06/
LOCATION:Council Chambers – City Hall 100 East  Michigan Boulevard Michigan City IN 46360
CATEGORIES:Board of Public Works and Safety
END:VEVENT
BEGIN:VEVENT
DTSTART;TZID=America/Chicago:20280320T160000
DTEND;TZID=America/Chicago:20280320T170000
DTSTAMP:20260422T182137
CREATED:20250608T211534Z
LAST-MODIFIED:20250608T211534Z
UID:10000512-1837180800-1837184400@michigancityin.gov
SUMMARY:Board of Public Works and Safety Regular Meeting
DESCRIPTION:
URL:https://michigancityin.gov/city-event/board-of-public-works-and-safety-regular-meeting/2028-03-20/
LOCATION:Council Chambers – City Hall 100 East  Michigan Boulevard Michigan City IN 46360
CATEGORIES:Board of Public Works and Safety
END:VEVENT
BEGIN:VEVENT
DTSTART;TZID=America/Chicago:20280403T083000
DTEND;TZID=America/Chicago:20280403T093000
DTSTAMP:20260422T182137
CREATED:20250905T195739Z
LAST-MODIFIED:20250905T195740Z
UID:10002342-1838363400-1838367000@michigancityin.gov
SUMMARY:Board of Public Works and Safety Regular Meeting
DESCRIPTION:
URL:https://michigancityin.gov/city-event/board-of-public-works-and-safety-regular-meeting-2-2-2/2028-04-03/
LOCATION:Council Chambers – City Hall 100 East  Michigan Boulevard Michigan City IN 46360
CATEGORIES:Board of Public Works and Safety
END:VEVENT
BEGIN:VEVENT
DTSTART;TZID=America/Chicago:20280417T160000
DTEND;TZID=America/Chicago:20280417T170000
DTSTAMP:20260422T182137
CREATED:20250608T211534Z
LAST-MODIFIED:20250608T211534Z
UID:10000513-1839600000-1839603600@michigancityin.gov
SUMMARY:Board of Public Works and Safety Regular Meeting
DESCRIPTION:
URL:https://michigancityin.gov/city-event/board-of-public-works-and-safety-regular-meeting/2028-04-17/
LOCATION:Council Chambers – City Hall 100 East  Michigan Boulevard Michigan City IN 46360
CATEGORIES:Board of Public Works and Safety
END:VEVENT
BEGIN:VEVENT
DTSTART;TZID=America/Chicago:20280501T083000
DTEND;TZID=America/Chicago:20280501T093000
DTSTAMP:20260422T182137
CREATED:20250905T195739Z
LAST-MODIFIED:20250905T195740Z
UID:10002343-1840782600-1840786200@michigancityin.gov
SUMMARY:Board of Public Works and Safety Regular Meeting
DESCRIPTION:
URL:https://michigancityin.gov/city-event/board-of-public-works-and-safety-regular-meeting-2-2-2/2028-05-01/
LOCATION:Council Chambers – City Hall 100 East  Michigan Boulevard Michigan City IN 46360
CATEGORIES:Board of Public Works and Safety
END:VEVENT
BEGIN:VEVENT
DTSTART;TZID=America/Chicago:20280515T160000
DTEND;TZID=America/Chicago:20280515T170000
DTSTAMP:20260422T182137
CREATED:20250608T211534Z
LAST-MODIFIED:20250608T211534Z
UID:10000514-1842019200-1842022800@michigancityin.gov
SUMMARY:Board of Public Works and Safety Regular Meeting
DESCRIPTION:
URL:https://michigancityin.gov/city-event/board-of-public-works-and-safety-regular-meeting/2028-05-15/
LOCATION:Council Chambers – City Hall 100 East  Michigan Boulevard Michigan City IN 46360
CATEGORIES:Board of Public Works and Safety
END:VEVENT
BEGIN:VEVENT
DTSTART;TZID=America/Chicago:20280605T083000
DTEND;TZID=America/Chicago:20280605T093000
DTSTAMP:20260422T182137
CREATED:20250905T195739Z
LAST-MODIFIED:20250905T195740Z
UID:10002344-1843806600-1843810200@michigancityin.gov
SUMMARY:Board of Public Works and Safety Regular Meeting
DESCRIPTION:
URL:https://michigancityin.gov/city-event/board-of-public-works-and-safety-regular-meeting-2-2-2/2028-06-05/
LOCATION:Council Chambers – City Hall 100 East  Michigan Boulevard Michigan City IN 46360
CATEGORIES:Board of Public Works and Safety
END:VEVENT
BEGIN:VEVENT
DTSTART;TZID=America/Chicago:20280619T160000
DTEND;TZID=America/Chicago:20280619T170000
DTSTAMP:20260422T182137
CREATED:20250608T211534Z
LAST-MODIFIED:20250608T211534Z
UID:10000515-1845043200-1845046800@michigancityin.gov
SUMMARY:Board of Public Works and Safety Regular Meeting
DESCRIPTION:
URL:https://michigancityin.gov/city-event/board-of-public-works-and-safety-regular-meeting/2028-06-19/
LOCATION:Council Chambers – City Hall 100 East  Michigan Boulevard Michigan City IN 46360
CATEGORIES:Board of Public Works and Safety
END:VEVENT
BEGIN:VEVENT
DTSTART;TZID=America/Chicago:20280703T083000
DTEND;TZID=America/Chicago:20280703T093000
DTSTAMP:20260422T182137
CREATED:20250905T195739Z
LAST-MODIFIED:20250905T195740Z
UID:10002345-1846225800-1846229400@michigancityin.gov
SUMMARY:Board of Public Works and Safety Regular Meeting
DESCRIPTION:
URL:https://michigancityin.gov/city-event/board-of-public-works-and-safety-regular-meeting-2-2-2/2028-07-03/
LOCATION:Council Chambers – City Hall 100 East  Michigan Boulevard Michigan City IN 46360
CATEGORIES:Board of Public Works and Safety
END:VEVENT
BEGIN:VEVENT
DTSTART;TZID=America/Chicago:20280717T160000
DTEND;TZID=America/Chicago:20280717T170000
DTSTAMP:20260422T182137
CREATED:20250608T211534Z
LAST-MODIFIED:20250608T211534Z
UID:10000516-1847462400-1847466000@michigancityin.gov
SUMMARY:Board of Public Works and Safety Regular Meeting
DESCRIPTION:
URL:https://michigancityin.gov/city-event/board-of-public-works-and-safety-regular-meeting/2028-07-17/
LOCATION:Council Chambers – City Hall 100 East  Michigan Boulevard Michigan City IN 46360
CATEGORIES:Board of Public Works and Safety
END:VEVENT
BEGIN:VEVENT
DTSTART;TZID=America/Chicago:20280807T083000
DTEND;TZID=America/Chicago:20280807T093000
DTSTAMP:20260422T182137
CREATED:20250905T195739Z
LAST-MODIFIED:20250905T195740Z
UID:10002346-1849249800-1849253400@michigancityin.gov
SUMMARY:Board of Public Works and Safety Regular Meeting
DESCRIPTION:
URL:https://michigancityin.gov/city-event/board-of-public-works-and-safety-regular-meeting-2-2-2/2028-08-07/
LOCATION:Council Chambers – City Hall 100 East  Michigan Boulevard Michigan City IN 46360
CATEGORIES:Board of Public Works and Safety
END:VEVENT
BEGIN:VEVENT
DTSTART;TZID=America/Chicago:20280821T160000
DTEND;TZID=America/Chicago:20280821T170000
DTSTAMP:20260422T182137
CREATED:20250608T211534Z
LAST-MODIFIED:20250608T211534Z
UID:10000517-1850486400-1850490000@michigancityin.gov
SUMMARY:Board of Public Works and Safety Regular Meeting
DESCRIPTION:
URL:https://michigancityin.gov/city-event/board-of-public-works-and-safety-regular-meeting/2028-08-21/
LOCATION:Council Chambers – City Hall 100 East  Michigan Boulevard Michigan City IN 46360
CATEGORIES:Board of Public Works and Safety
END:VEVENT
BEGIN:VEVENT
DTSTART;TZID=America/Chicago:20280904T083000
DTEND;TZID=America/Chicago:20280904T093000
DTSTAMP:20260422T182137
CREATED:20250905T195739Z
LAST-MODIFIED:20250905T195740Z
UID:10002347-1851669000-1851672600@michigancityin.gov
SUMMARY:Board of Public Works and Safety Regular Meeting
DESCRIPTION:
URL:https://michigancityin.gov/city-event/board-of-public-works-and-safety-regular-meeting-2-2-2/2028-09-04/
LOCATION:Council Chambers – City Hall 100 East  Michigan Boulevard Michigan City IN 46360
CATEGORIES:Board of Public Works and Safety
END:VEVENT
BEGIN:VEVENT
DTSTART;TZID=America/Chicago:20280918T160000
DTEND;TZID=America/Chicago:20280918T170000
DTSTAMP:20260422T182137
CREATED:20250608T211534Z
LAST-MODIFIED:20250608T211534Z
UID:10000518-1852905600-1852909200@michigancityin.gov
SUMMARY:Board of Public Works and Safety Regular Meeting
DESCRIPTION:
URL:https://michigancityin.gov/city-event/board-of-public-works-and-safety-regular-meeting/2028-09-18/
LOCATION:Council Chambers – City Hall 100 East  Michigan Boulevard Michigan City IN 46360
CATEGORIES:Board of Public Works and Safety
END:VEVENT
BEGIN:VEVENT
DTSTART;TZID=America/Chicago:20281002T083000
DTEND;TZID=America/Chicago:20281002T093000
DTSTAMP:20260422T182137
CREATED:20250905T195739Z
LAST-MODIFIED:20250905T195740Z
UID:10002348-1854088200-1854091800@michigancityin.gov
SUMMARY:Board of Public Works and Safety Regular Meeting
DESCRIPTION:
URL:https://michigancityin.gov/city-event/board-of-public-works-and-safety-regular-meeting-2-2-2/2028-10-02/
LOCATION:Council Chambers – City Hall 100 East  Michigan Boulevard Michigan City IN 46360
CATEGORIES:Board of Public Works and Safety
END:VEVENT
BEGIN:VEVENT
DTSTART;TZID=America/Chicago:20281016T160000
DTEND;TZID=America/Chicago:20281016T170000
DTSTAMP:20260422T182137
CREATED:20250608T211534Z
LAST-MODIFIED:20250608T211534Z
UID:10000519-1855324800-1855328400@michigancityin.gov
SUMMARY:Board of Public Works and Safety Regular Meeting
DESCRIPTION:
URL:https://michigancityin.gov/city-event/board-of-public-works-and-safety-regular-meeting/2028-10-16/
LOCATION:Council Chambers – City Hall 100 East  Michigan Boulevard Michigan City IN 46360
CATEGORIES:Board of Public Works and Safety
END:VEVENT
BEGIN:VEVENT
DTSTART;TZID=America/Chicago:20281106T083000
DTEND;TZID=America/Chicago:20281106T093000
DTSTAMP:20260422T182137
CREATED:20250905T195739Z
LAST-MODIFIED:20250905T195740Z
UID:10002349-1857112200-1857115800@michigancityin.gov
SUMMARY:Board of Public Works and Safety Regular Meeting
DESCRIPTION:
URL:https://michigancityin.gov/city-event/board-of-public-works-and-safety-regular-meeting-2-2-2/2028-11-06/
LOCATION:Council Chambers – City Hall 100 East  Michigan Boulevard Michigan City IN 46360
CATEGORIES:Board of Public Works and Safety
END:VEVENT
BEGIN:VEVENT
DTSTART;TZID=America/Chicago:20281120T160000
DTEND;TZID=America/Chicago:20281120T170000
DTSTAMP:20260422T182137
CREATED:20250608T211534Z
LAST-MODIFIED:20250608T211534Z
UID:10000520-1858348800-1858352400@michigancityin.gov
SUMMARY:Board of Public Works and Safety Regular Meeting
DESCRIPTION:
URL:https://michigancityin.gov/city-event/board-of-public-works-and-safety-regular-meeting/2028-11-20/
LOCATION:Council Chambers – City Hall 100 East  Michigan Boulevard Michigan City IN 46360
CATEGORIES:Board of Public Works and Safety
END:VEVENT
BEGIN:VEVENT
DTSTART;TZID=America/Chicago:20281204T083000
DTEND;TZID=America/Chicago:20281204T093000
DTSTAMP:20260422T182137
CREATED:20250905T195739Z
LAST-MODIFIED:20250905T195740Z
UID:10002350-1859531400-1859535000@michigancityin.gov
SUMMARY:Board of Public Works and Safety Regular Meeting
DESCRIPTION:
URL:https://michigancityin.gov/city-event/board-of-public-works-and-safety-regular-meeting-2-2-2/2028-12-04/
LOCATION:Council Chambers – City Hall 100 East  Michigan Boulevard Michigan City IN 46360
CATEGORIES:Board of Public Works and Safety
END:VEVENT
BEGIN:VEVENT
DTSTART;TZID=America/Chicago:20281218T160000
DTEND;TZID=America/Chicago:20281218T170000
DTSTAMP:20260422T182137
CREATED:20250608T211534Z
LAST-MODIFIED:20250608T211534Z
UID:10000521-1860768000-1860771600@michigancityin.gov
SUMMARY:Board of Public Works and Safety Regular Meeting
DESCRIPTION:
URL:https://michigancityin.gov/city-event/board-of-public-works-and-safety-regular-meeting/2028-12-18/
LOCATION:Council Chambers – City Hall 100 East  Michigan Boulevard Michigan City IN 46360
CATEGORIES:Board of Public Works and Safety
END:VEVENT
BEGIN:VEVENT
DTSTART;TZID=America/Chicago:20290101T083000
DTEND;TZID=America/Chicago:20290101T093000
DTSTAMP:20260422T182137
CREATED:20250905T195739Z
LAST-MODIFIED:20250905T195740Z
UID:10002351-1861950600-1861954200@michigancityin.gov
SUMMARY:Board of Public Works and Safety Regular Meeting
DESCRIPTION:
URL:https://michigancityin.gov/city-event/board-of-public-works-and-safety-regular-meeting-2-2-2/2029-01-01/
LOCATION:Council Chambers – City Hall 100 East  Michigan Boulevard Michigan City IN 46360
CATEGORIES:Board of Public Works and Safety
END:VEVENT
BEGIN:VEVENT
DTSTART;TZID=America/Chicago:20290115T160000
DTEND;TZID=America/Chicago:20290115T170000
DTSTAMP:20260422T182137
CREATED:20250608T211534Z
LAST-MODIFIED:20250608T211534Z
UID:10000522-1863187200-1863190800@michigancityin.gov
SUMMARY:Board of Public Works and Safety Regular Meeting
DESCRIPTION:
URL:https://michigancityin.gov/city-event/board-of-public-works-and-safety-regular-meeting/2029-01-15/
LOCATION:Council Chambers – City Hall 100 East  Michigan Boulevard Michigan City IN 46360
CATEGORIES:Board of Public Works and Safety
END:VEVENT
END:VCALENDAR