BEGIN:VCALENDAR
VERSION:2.0
PRODID:-//City of Michigan City Indiana - ECPv6.15.20//NONSGML v1.0//EN
CALSCALE:GREGORIAN
METHOD:PUBLISH
X-WR-CALNAME:City of Michigan City Indiana
X-ORIGINAL-URL:https://michigancityin.gov
X-WR-CALDESC:Events for City of Michigan City Indiana
REFRESH-INTERVAL;VALUE=DURATION:PT1H
X-Robots-Tag:noindex
X-PUBLISHED-TTL:PT1H
BEGIN:VTIMEZONE
TZID:America/Chicago
BEGIN:DAYLIGHT
TZOFFSETFROM:-0600
TZOFFSETTO:-0500
TZNAME:CDT
DTSTART:20240310T080000
END:DAYLIGHT
BEGIN:STANDARD
TZOFFSETFROM:-0500
TZOFFSETTO:-0600
TZNAME:CST
DTSTART:20241103T070000
END:STANDARD
BEGIN:DAYLIGHT
TZOFFSETFROM:-0600
TZOFFSETTO:-0500
TZNAME:CDT
DTSTART:20250309T080000
END:DAYLIGHT
BEGIN:STANDARD
TZOFFSETFROM:-0500
TZOFFSETTO:-0600
TZNAME:CST
DTSTART:20251102T070000
END:STANDARD
BEGIN:DAYLIGHT
TZOFFSETFROM:-0600
TZOFFSETTO:-0500
TZNAME:CDT
DTSTART:20260308T080000
END:DAYLIGHT
BEGIN:STANDARD
TZOFFSETFROM:-0500
TZOFFSETTO:-0600
TZNAME:CST
DTSTART:20261101T070000
END:STANDARD
END:VTIMEZONE
BEGIN:VEVENT
DTSTART;TZID=America/Chicago:20250902T180000
DTEND;TZID=America/Chicago:20250902T183000
DTSTAMP:20260423T051329
CREATED:20250320T161200Z
LAST-MODIFIED:20250320T170803Z
UID:10000017-1756836000-1756837800@michigancityin.gov
SUMMARY:City Council Financial Committee Meeting
DESCRIPTION:
URL:https://michigancityin.gov/city-event/city-council-financial-committee-meeting/2025-09-02/
LOCATION:Council Chambers – City Hall 100 East  Michigan Boulevard Michigan City IN 46360
CATEGORIES:City Council
END:VEVENT
BEGIN:VEVENT
DTSTART;TZID=America/Chicago:20250902T183000
DTEND;TZID=America/Chicago:20250902T193000
DTSTAMP:20260423T051329
CREATED:20250320T161201Z
LAST-MODIFIED:20250320T170523Z
UID:10000076-1756837800-1756841400@michigancityin.gov
SUMMARY:City Council Regular Meeting
DESCRIPTION:
URL:https://michigancityin.gov/city-event/michigan-city-city-council-regular-meeting/2025-09-02/
LOCATION:Council Chambers – City Hall 100 East  Michigan Boulevard Michigan City IN 46360
CATEGORIES:City Council
END:VEVENT
BEGIN:VEVENT
DTSTART;TZID=America/Chicago:20250911T173000
DTEND;TZID=America/Chicago:20250911T183000
DTSTAMP:20260423T051329
CREATED:20250909T191417Z
LAST-MODIFIED:20250909T191417Z
UID:10002431-1757611800-1757615400@michigancityin.gov
SUMMARY:City Council Workshop
DESCRIPTION:Common Council to propose 2026 Budget
URL:https://michigancityin.gov/city-event/city-council-workshop/
LOCATION:EOC Room\, 100 E Michigan Blvd\, Michigan City\, 46360\, United States
CATEGORIES:City Council
END:VEVENT
BEGIN:VEVENT
DTSTART;TZID=America/Chicago:20250916T180000
DTEND;TZID=America/Chicago:20250916T183000
DTSTAMP:20260423T051329
CREATED:20250320T161202Z
LAST-MODIFIED:20250320T170902Z
UID:10000135-1758045600-1758047400@michigancityin.gov
SUMMARY:City Council Financial Committee Meeting
DESCRIPTION:
URL:https://michigancityin.gov/city-event/michigan-city-council-financial-committee-meeting-2/2025-09-16/
LOCATION:Council Chambers – City Hall 100 East  Michigan Boulevard Michigan City IN 46360
CATEGORIES:City Council
END:VEVENT
BEGIN:VEVENT
DTSTART;TZID=America/Chicago:20250916T183000
DTEND;TZID=America/Chicago:20250916T193000
DTSTAMP:20260423T051329
CREATED:20250320T161204Z
LAST-MODIFIED:20250320T171226Z
UID:10000194-1758047400-1758051000@michigancityin.gov
SUMMARY:City Council Regular Meeting
DESCRIPTION:
URL:https://michigancityin.gov/city-event/city-council-regular-meeting-2/2025-09-16/
LOCATION:Council Chambers – City Hall 100 East  Michigan Boulevard Michigan City IN 46360
CATEGORIES:City Council
END:VEVENT
BEGIN:VEVENT
DTSTART;TZID=America/Chicago:20250924T173000
DTEND;TZID=America/Chicago:20250924T183000
DTSTAMP:20260423T051329
CREATED:20250915T190344Z
LAST-MODIFIED:20250915T190344Z
UID:10002688-1758735000-1758738600@michigancityin.gov
SUMMARY:City Council Workshop
DESCRIPTION:
URL:https://michigancityin.gov/city-event/city-council-workshop-2/
LOCATION:EOC Room\, 100 E Michigan Blvd\, Michigan City\, 46360\, United States
CATEGORIES:City Council
END:VEVENT
END:VCALENDAR