BEGIN:VCALENDAR
VERSION:2.0
PRODID:-//City of Michigan City Indiana - ECPv6.15.20//NONSGML v1.0//EN
CALSCALE:GREGORIAN
METHOD:PUBLISH
X-ORIGINAL-URL:https://michigancityin.gov
X-WR-CALDESC:Events for City of Michigan City Indiana
REFRESH-INTERVAL;VALUE=DURATION:PT1H
X-Robots-Tag:noindex
X-PUBLISHED-TTL:PT1H
BEGIN:VTIMEZONE
TZID:America/Chicago
BEGIN:DAYLIGHT
TZOFFSETFROM:-0600
TZOFFSETTO:-0500
TZNAME:CDT
DTSTART:20240310T080000
END:DAYLIGHT
BEGIN:STANDARD
TZOFFSETFROM:-0500
TZOFFSETTO:-0600
TZNAME:CST
DTSTART:20241103T070000
END:STANDARD
BEGIN:DAYLIGHT
TZOFFSETFROM:-0600
TZOFFSETTO:-0500
TZNAME:CDT
DTSTART:20250309T080000
END:DAYLIGHT
BEGIN:STANDARD
TZOFFSETFROM:-0500
TZOFFSETTO:-0600
TZNAME:CST
DTSTART:20251102T070000
END:STANDARD
BEGIN:DAYLIGHT
TZOFFSETFROM:-0600
TZOFFSETTO:-0500
TZNAME:CDT
DTSTART:20260308T080000
END:DAYLIGHT
BEGIN:STANDARD
TZOFFSETFROM:-0500
TZOFFSETTO:-0600
TZNAME:CST
DTSTART:20261101T070000
END:STANDARD
END:VTIMEZONE
BEGIN:VEVENT
DTSTART;TZID=America/Chicago:20251007T180000
DTEND;TZID=America/Chicago:20251007T183000
DTSTAMP:20260423T032740
CREATED:20250320T161200Z
LAST-MODIFIED:20250320T170803Z
UID:10000018-1759860000-1759861800@michigancityin.gov
SUMMARY:City Council Financial Committee Meeting
DESCRIPTION:
URL:https://michigancityin.gov/city-event/city-council-financial-committee-meeting/2025-10-07/
LOCATION:Council Chambers – City Hall 100 East  Michigan Boulevard Michigan City IN 46360
CATEGORIES:City Council
END:VEVENT
BEGIN:VEVENT
DTSTART;TZID=America/Chicago:20251007T183000
DTEND;TZID=America/Chicago:20251007T193000
DTSTAMP:20260423T032740
CREATED:20250320T161201Z
LAST-MODIFIED:20250320T170523Z
UID:10000077-1759861800-1759865400@michigancityin.gov
SUMMARY:City Council Regular Meeting
DESCRIPTION:
URL:https://michigancityin.gov/city-event/michigan-city-city-council-regular-meeting/2025-10-07/
LOCATION:Council Chambers – City Hall 100 East  Michigan Boulevard Michigan City IN 46360
CATEGORIES:City Council
END:VEVENT
BEGIN:VEVENT
DTSTART;TZID=America/Chicago:20251021T180000
DTEND;TZID=America/Chicago:20251021T183000
DTSTAMP:20260423T032740
CREATED:20250320T161202Z
LAST-MODIFIED:20250320T170902Z
UID:10000136-1761069600-1761071400@michigancityin.gov
SUMMARY:City Council Financial Committee Meeting
DESCRIPTION:
URL:https://michigancityin.gov/city-event/michigan-city-council-financial-committee-meeting-2/2025-10-21/
LOCATION:Council Chambers – City Hall 100 East  Michigan Boulevard Michigan City IN 46360
CATEGORIES:City Council
END:VEVENT
BEGIN:VEVENT
DTSTART;TZID=America/Chicago:20251021T183000
DTEND;TZID=America/Chicago:20251021T193000
DTSTAMP:20260423T032740
CREATED:20250320T161204Z
LAST-MODIFIED:20250320T171226Z
UID:10000195-1761071400-1761075000@michigancityin.gov
SUMMARY:City Council Regular Meeting
DESCRIPTION:
URL:https://michigancityin.gov/city-event/city-council-regular-meeting-2/2025-10-21/
LOCATION:Council Chambers – City Hall 100 East  Michigan Boulevard Michigan City IN 46360
CATEGORIES:City Council
END:VEVENT
BEGIN:VEVENT
DTSTART;TZID=America/Chicago:20251030T153000
DTEND;TZID=America/Chicago:20251030T163000
DTSTAMP:20260423T032740
CREATED:20251028T203537Z
LAST-MODIFIED:20251028T203537Z
UID:10002818-1761838200-1761841800@michigancityin.gov
SUMMARY:MCFD Labor Relations
DESCRIPTION:
URL:https://michigancityin.gov/city-event/mcfd-labor-relations/
LOCATION:EOC Room\, 100 E Michigan Blvd\, Michigan City\, 46360\, United States
CATEGORIES:City Council
END:VEVENT
BEGIN:VEVENT
DTSTART;TZID=America/Chicago:20251030T163000
DTEND;TZID=America/Chicago:20251030T173000
DTSTAMP:20260423T032740
CREATED:20251028T203437Z
LAST-MODIFIED:20251028T203612Z
UID:10002817-1761841800-1761845400@michigancityin.gov
SUMMARY:MCPD Labor Relations
DESCRIPTION:
URL:https://michigancityin.gov/city-event/mcpd-labor-relations/
LOCATION:EOC Room\, 100 E Michigan Blvd\, Michigan City\, 46360\, United States
CATEGORIES:City Council
END:VEVENT
END:VCALENDAR