BEGIN:VCALENDAR
VERSION:2.0
PRODID:-//City of Michigan City Indiana - ECPv6.15.20//NONSGML v1.0//EN
CALSCALE:GREGORIAN
METHOD:PUBLISH
X-WR-CALNAME:City of Michigan City Indiana
X-ORIGINAL-URL:https://michigancityin.gov
X-WR-CALDESC:Events for City of Michigan City Indiana
REFRESH-INTERVAL;VALUE=DURATION:PT1H
X-Robots-Tag:noindex
X-PUBLISHED-TTL:PT1H
BEGIN:VTIMEZONE
TZID:America/Chicago
BEGIN:DAYLIGHT
TZOFFSETFROM:-0600
TZOFFSETTO:-0500
TZNAME:CDT
DTSTART:20240310T080000
END:DAYLIGHT
BEGIN:STANDARD
TZOFFSETFROM:-0500
TZOFFSETTO:-0600
TZNAME:CST
DTSTART:20241103T070000
END:STANDARD
BEGIN:DAYLIGHT
TZOFFSETFROM:-0600
TZOFFSETTO:-0500
TZNAME:CDT
DTSTART:20250309T080000
END:DAYLIGHT
BEGIN:STANDARD
TZOFFSETFROM:-0500
TZOFFSETTO:-0600
TZNAME:CST
DTSTART:20251102T070000
END:STANDARD
BEGIN:DAYLIGHT
TZOFFSETFROM:-0600
TZOFFSETTO:-0500
TZNAME:CDT
DTSTART:20260308T080000
END:DAYLIGHT
BEGIN:STANDARD
TZOFFSETFROM:-0500
TZOFFSETTO:-0600
TZNAME:CST
DTSTART:20261101T070000
END:STANDARD
BEGIN:DAYLIGHT
TZOFFSETFROM:-0600
TZOFFSETTO:-0500
TZNAME:CDT
DTSTART:20270314T080000
END:DAYLIGHT
BEGIN:STANDARD
TZOFFSETFROM:-0500
TZOFFSETTO:-0600
TZNAME:CST
DTSTART:20271107T070000
END:STANDARD
END:VTIMEZONE
BEGIN:VEVENT
DTSTART;TZID=America/Chicago:20260106T180000
DTEND;TZID=America/Chicago:20260106T183000
DTSTAMP:20260422T225454
CREATED:20260106T203255Z
LAST-MODIFIED:20260106T203256Z
UID:10000021-1767722400-1767724200@michigancityin.gov
SUMMARY:City Council Financial Committee Meeting
DESCRIPTION:
URL:https://michigancityin.gov/city-event/city-council-financial-committee-meeting-3/
LOCATION:Council Chambers – City Hall 100 East  Michigan Boulevard Michigan City IN 46360
CATEGORIES:City Council
END:VEVENT
BEGIN:VEVENT
DTSTART;TZID=America/Chicago:20260106T180000
DTEND;TZID=America/Chicago:20260106T183000
DTSTAMP:20260422T225454
CREATED:20250320T161200Z
LAST-MODIFIED:20250320T170803Z
UID:10003501-1767722400-1767724200@michigancityin.gov
SUMMARY:City Council Financial Committee Meeting
DESCRIPTION:
URL:https://michigancityin.gov/city-event/city-council-financial-committee-meeting/2026-01-06/
LOCATION:Council Chambers – City Hall 100 East  Michigan Boulevard Michigan City IN 46360
CATEGORIES:City Council
END:VEVENT
BEGIN:VEVENT
DTSTART;TZID=America/Chicago:20251230T080000
DTEND;TZID=America/Chicago:20251230T170000
DTSTAMP:20260422T225454
CREATED:20251216T212010Z
LAST-MODIFIED:20251216T212010Z
UID:10003087-1767081600-1767114000@michigancityin.gov
SUMMARY:
DESCRIPTION:January 6\, 2026 Council Deadline
URL:https://michigancityin.gov/city-event/5563/
LOCATION:Council Chambers – City Hall 100 East  Michigan Boulevard Michigan City IN 46360
CATEGORIES:City Council
END:VEVENT
BEGIN:VEVENT
DTSTART;TZID=America/Chicago:20251216T183000
DTEND;TZID=America/Chicago:20251216T193000
DTSTAMP:20260422T225454
CREATED:20250320T161204Z
LAST-MODIFIED:20250320T171226Z
UID:10000197-1765909800-1765913400@michigancityin.gov
SUMMARY:City Council Regular Meeting
DESCRIPTION:
URL:https://michigancityin.gov/city-event/city-council-regular-meeting-2/2025-12-16/
LOCATION:Council Chambers – City Hall 100 East  Michigan Boulevard Michigan City IN 46360
CATEGORIES:City Council
END:VEVENT
BEGIN:VEVENT
DTSTART;TZID=America/Chicago:20251216T180000
DTEND;TZID=America/Chicago:20251216T183000
DTSTAMP:20260422T225454
CREATED:20250320T161202Z
LAST-MODIFIED:20250320T170902Z
UID:10000138-1765908000-1765909800@michigancityin.gov
SUMMARY:City Council Financial Committee Meeting
DESCRIPTION:
URL:https://michigancityin.gov/city-event/michigan-city-council-financial-committee-meeting-2/2025-12-16/
LOCATION:Council Chambers – City Hall 100 East  Michigan Boulevard Michigan City IN 46360
CATEGORIES:City Council
END:VEVENT
BEGIN:VEVENT
DTSTART;TZID=America/Chicago:20251211T170000
DTEND;TZID=America/Chicago:20251211T190000
DTSTAMP:20260422T225454
CREATED:20251118T163909Z
LAST-MODIFIED:20251118T163909Z
UID:10002824-1765472400-1765479600@michigancityin.gov
SUMMARY:Common Council’s Public Health and Safety Committee Meeting
DESCRIPTION:
URL:https://michigancityin.gov/city-event/common-councils-public-health-and-safety-committee-meeting-2/
LOCATION:Council Chambers – City Hall 100 East  Michigan Boulevard Michigan City IN 46360
CATEGORIES:City Council
END:VEVENT
BEGIN:VEVENT
DTSTART;TZID=America/Chicago:20251202T183000
DTEND;TZID=America/Chicago:20251202T193000
DTSTAMP:20260422T225454
CREATED:20250320T161201Z
LAST-MODIFIED:20250320T170523Z
UID:10000079-1764700200-1764703800@michigancityin.gov
SUMMARY:City Council Regular Meeting
DESCRIPTION:
URL:https://michigancityin.gov/city-event/michigan-city-city-council-regular-meeting/2025-12-02/
LOCATION:Council Chambers – City Hall 100 East  Michigan Boulevard Michigan City IN 46360
CATEGORIES:City Council
END:VEVENT
BEGIN:VEVENT
DTSTART;TZID=America/Chicago:20251202T180000
DTEND;TZID=America/Chicago:20251202T183000
DTSTAMP:20260422T225454
CREATED:20250320T161200Z
LAST-MODIFIED:20250320T170803Z
UID:10000020-1764698400-1764700200@michigancityin.gov
SUMMARY:City Council Financial Committee Meeting
DESCRIPTION:
URL:https://michigancityin.gov/city-event/city-council-financial-committee-meeting/2025-12-02/
LOCATION:Council Chambers – City Hall 100 East  Michigan Boulevard Michigan City IN 46360
CATEGORIES:City Council
END:VEVENT
BEGIN:VEVENT
DTSTART;TZID=America/Chicago:20251202T173000
DTEND;TZID=America/Chicago:20251202T180000
DTSTAMP:20260422T225454
CREATED:20251202T211032Z
LAST-MODIFIED:20251202T211032Z
UID:10002950-1764696600-1764698400@michigancityin.gov
SUMMARY:Workshop
DESCRIPTION:
URL:https://michigancityin.gov/city-event/workshop/
LOCATION:EOC Room\, 100 E Michigan Blvd\, Michigan City\, 46360\, United States
CATEGORIES:City Council
END:VEVENT
BEGIN:VEVENT
DTSTART;TZID=America/Chicago:20251119T170000
DTEND;TZID=America/Chicago:20251119T190000
DTSTAMP:20260422T225454
CREATED:20251103T175632Z
LAST-MODIFIED:20251103T200716Z
UID:10002820-1763571600-1763578800@michigancityin.gov
SUMMARY:Common Council’s Public Health and Safety Committee Meeting
DESCRIPTION:
URL:https://michigancityin.gov/city-event/common-councils-public-health-and-safety-committee-meeting/
LOCATION:EOC Room\, 100 E Michigan Blvd\, Michigan City\, 46360\, United States
CATEGORIES:City Council
END:VEVENT
BEGIN:VEVENT
DTSTART;TZID=America/Chicago:20251118T183000
DTEND;TZID=America/Chicago:20251118T193000
DTSTAMP:20260422T225454
CREATED:20250320T161204Z
LAST-MODIFIED:20250320T171226Z
UID:10000196-1763490600-1763494200@michigancityin.gov
SUMMARY:City Council Regular Meeting
DESCRIPTION:
URL:https://michigancityin.gov/city-event/city-council-regular-meeting-2/2025-11-18/
LOCATION:Council Chambers – City Hall 100 East  Michigan Boulevard Michigan City IN 46360
CATEGORIES:City Council
END:VEVENT
BEGIN:VEVENT
DTSTART;TZID=America/Chicago:20251118T180000
DTEND;TZID=America/Chicago:20251118T183000
DTSTAMP:20260422T225454
CREATED:20251118T163110Z
LAST-MODIFIED:20251118T163111Z
UID:10000137-1763488800-1763490600@michigancityin.gov
SUMMARY:City Council Financial Committee Meeting
DESCRIPTION:
URL:https://michigancityin.gov/city-event/michigan-city-council-financial-committee-meeting-2-2/
LOCATION:Council Chambers – City Hall 100 East  Michigan Boulevard Michigan City IN 46360
CATEGORIES:City Council
END:VEVENT
BEGIN:VEVENT
DTSTART;TZID=America/Chicago:20251118T180000
DTEND;TZID=America/Chicago:20251118T183000
DTSTAMP:20260422T225454
CREATED:20250320T161202Z
LAST-MODIFIED:20250320T170902Z
UID:10003453-1763488800-1763490600@michigancityin.gov
SUMMARY:City Council Financial Committee Meeting
DESCRIPTION:
URL:https://michigancityin.gov/city-event/michigan-city-council-financial-committee-meeting-2/2025-11-18/
LOCATION:Council Chambers – City Hall 100 East  Michigan Boulevard Michigan City IN 46360
CATEGORIES:City Council
END:VEVENT
BEGIN:VEVENT
DTSTART;TZID=America/Chicago:20251113T163000
DTEND;TZID=America/Chicago:20251113T173000
DTSTAMP:20260422T225454
CREATED:20251107T201850Z
LAST-MODIFIED:20251107T201850Z
UID:10002822-1763051400-1763055000@michigancityin.gov
SUMMARY:MCPD Labor Relations
DESCRIPTION:
URL:https://michigancityin.gov/city-event/mcpd-labor-relations-2/
LOCATION:Council Chambers – City Hall 100 East  Michigan Boulevard Michigan City IN 46360
CATEGORIES:City Council
END:VEVENT
BEGIN:VEVENT
DTSTART;TZID=America/Chicago:20251113T153000
DTEND;TZID=America/Chicago:20251113T163000
DTSTAMP:20260422T225454
CREATED:20251107T201515Z
LAST-MODIFIED:20251107T201515Z
UID:10002821-1763047800-1763051400@michigancityin.gov
SUMMARY:MCFD Labor Relations
DESCRIPTION:
URL:https://michigancityin.gov/city-event/mcfd-labor-relations-2/
LOCATION:Council Chambers – City Hall 100 East  Michigan Boulevard Michigan City IN 46360
CATEGORIES:City Council
END:VEVENT
BEGIN:VEVENT
DTSTART;TZID=America/Chicago:20251113T150000
DTEND;TZID=America/Chicago:20251113T160000
DTSTAMP:20260422T225454
CREATED:20251111T001743Z
LAST-MODIFIED:20251111T001743Z
UID:10002823-1763046000-1763049600@michigancityin.gov
SUMMARY:City Council Executive Session
DESCRIPTION:
URL:https://michigancityin.gov/city-event/city-council-executive-session/
LOCATION:Council Chambers – City Hall 100 East  Michigan Boulevard Michigan City IN 46360
CATEGORIES:City Council
END:VEVENT
BEGIN:VEVENT
DTSTART;TZID=America/Chicago:20251104T183000
DTEND;TZID=America/Chicago:20251104T193000
DTSTAMP:20260422T225454
CREATED:20250320T161201Z
LAST-MODIFIED:20250320T170523Z
UID:10000078-1762281000-1762284600@michigancityin.gov
SUMMARY:City Council Regular Meeting
DESCRIPTION:
URL:https://michigancityin.gov/city-event/michigan-city-city-council-regular-meeting/2025-11-04/
LOCATION:Council Chambers – City Hall 100 East  Michigan Boulevard Michigan City IN 46360
CATEGORIES:City Council
END:VEVENT
BEGIN:VEVENT
DTSTART;TZID=America/Chicago:20251104T180000
DTEND;TZID=America/Chicago:20251104T183000
DTSTAMP:20260422T225454
CREATED:20250320T161200Z
LAST-MODIFIED:20250320T170803Z
UID:10000019-1762279200-1762281000@michigancityin.gov
SUMMARY:City Council Financial Committee Meeting
DESCRIPTION:
URL:https://michigancityin.gov/city-event/city-council-financial-committee-meeting/2025-11-04/
LOCATION:Council Chambers – City Hall 100 East  Michigan Boulevard Michigan City IN 46360
CATEGORIES:City Council
END:VEVENT
BEGIN:VEVENT
DTSTART;TZID=America/Chicago:20251030T163000
DTEND;TZID=America/Chicago:20251030T173000
DTSTAMP:20260422T225454
CREATED:20251028T203437Z
LAST-MODIFIED:20251028T203612Z
UID:10002817-1761841800-1761845400@michigancityin.gov
SUMMARY:MCPD Labor Relations
DESCRIPTION:
URL:https://michigancityin.gov/city-event/mcpd-labor-relations/
LOCATION:EOC Room\, 100 E Michigan Blvd\, Michigan City\, 46360\, United States
CATEGORIES:City Council
END:VEVENT
BEGIN:VEVENT
DTSTART;TZID=America/Chicago:20251030T153000
DTEND;TZID=America/Chicago:20251030T163000
DTSTAMP:20260422T225454
CREATED:20251028T203537Z
LAST-MODIFIED:20251028T203537Z
UID:10002818-1761838200-1761841800@michigancityin.gov
SUMMARY:MCFD Labor Relations
DESCRIPTION:
URL:https://michigancityin.gov/city-event/mcfd-labor-relations/
LOCATION:EOC Room\, 100 E Michigan Blvd\, Michigan City\, 46360\, United States
CATEGORIES:City Council
END:VEVENT
BEGIN:VEVENT
DTSTART;TZID=America/Chicago:20251021T183000
DTEND;TZID=America/Chicago:20251021T193000
DTSTAMP:20260422T225454
CREATED:20250320T161204Z
LAST-MODIFIED:20250320T171226Z
UID:10000195-1761071400-1761075000@michigancityin.gov
SUMMARY:City Council Regular Meeting
DESCRIPTION:
URL:https://michigancityin.gov/city-event/city-council-regular-meeting-2/2025-10-21/
LOCATION:Council Chambers – City Hall 100 East  Michigan Boulevard Michigan City IN 46360
CATEGORIES:City Council
END:VEVENT
BEGIN:VEVENT
DTSTART;TZID=America/Chicago:20251021T180000
DTEND;TZID=America/Chicago:20251021T183000
DTSTAMP:20260422T225454
CREATED:20250320T161202Z
LAST-MODIFIED:20250320T170902Z
UID:10000136-1761069600-1761071400@michigancityin.gov
SUMMARY:City Council Financial Committee Meeting
DESCRIPTION:
URL:https://michigancityin.gov/city-event/michigan-city-council-financial-committee-meeting-2/2025-10-21/
LOCATION:Council Chambers – City Hall 100 East  Michigan Boulevard Michigan City IN 46360
CATEGORIES:City Council
END:VEVENT
BEGIN:VEVENT
DTSTART;TZID=America/Chicago:20251007T183000
DTEND;TZID=America/Chicago:20251007T193000
DTSTAMP:20260422T225454
CREATED:20250320T161201Z
LAST-MODIFIED:20250320T170523Z
UID:10000077-1759861800-1759865400@michigancityin.gov
SUMMARY:City Council Regular Meeting
DESCRIPTION:
URL:https://michigancityin.gov/city-event/michigan-city-city-council-regular-meeting/2025-10-07/
LOCATION:Council Chambers – City Hall 100 East  Michigan Boulevard Michigan City IN 46360
CATEGORIES:City Council
END:VEVENT
BEGIN:VEVENT
DTSTART;TZID=America/Chicago:20251007T180000
DTEND;TZID=America/Chicago:20251007T183000
DTSTAMP:20260422T225454
CREATED:20250320T161200Z
LAST-MODIFIED:20250320T170803Z
UID:10000018-1759860000-1759861800@michigancityin.gov
SUMMARY:City Council Financial Committee Meeting
DESCRIPTION:
URL:https://michigancityin.gov/city-event/city-council-financial-committee-meeting/2025-10-07/
LOCATION:Council Chambers – City Hall 100 East  Michigan Boulevard Michigan City IN 46360
CATEGORIES:City Council
END:VEVENT
BEGIN:VEVENT
DTSTART;TZID=America/Chicago:20250924T173000
DTEND;TZID=America/Chicago:20250924T183000
DTSTAMP:20260422T225454
CREATED:20250915T190344Z
LAST-MODIFIED:20250915T190344Z
UID:10002688-1758735000-1758738600@michigancityin.gov
SUMMARY:City Council Workshop
DESCRIPTION:
URL:https://michigancityin.gov/city-event/city-council-workshop-2/
LOCATION:EOC Room\, 100 E Michigan Blvd\, Michigan City\, 46360\, United States
CATEGORIES:City Council
END:VEVENT
BEGIN:VEVENT
DTSTART;TZID=America/Chicago:20250916T183000
DTEND;TZID=America/Chicago:20250916T193000
DTSTAMP:20260422T225454
CREATED:20250320T161204Z
LAST-MODIFIED:20250320T171226Z
UID:10000194-1758047400-1758051000@michigancityin.gov
SUMMARY:City Council Regular Meeting
DESCRIPTION:
URL:https://michigancityin.gov/city-event/city-council-regular-meeting-2/2025-09-16/
LOCATION:Council Chambers – City Hall 100 East  Michigan Boulevard Michigan City IN 46360
CATEGORIES:City Council
END:VEVENT
BEGIN:VEVENT
DTSTART;TZID=America/Chicago:20250916T180000
DTEND;TZID=America/Chicago:20250916T183000
DTSTAMP:20260422T225454
CREATED:20250320T161202Z
LAST-MODIFIED:20250320T170902Z
UID:10000135-1758045600-1758047400@michigancityin.gov
SUMMARY:City Council Financial Committee Meeting
DESCRIPTION:
URL:https://michigancityin.gov/city-event/michigan-city-council-financial-committee-meeting-2/2025-09-16/
LOCATION:Council Chambers – City Hall 100 East  Michigan Boulevard Michigan City IN 46360
CATEGORIES:City Council
END:VEVENT
BEGIN:VEVENT
DTSTART;TZID=America/Chicago:20250911T173000
DTEND;TZID=America/Chicago:20250911T183000
DTSTAMP:20260422T225454
CREATED:20250909T191417Z
LAST-MODIFIED:20250909T191417Z
UID:10002431-1757611800-1757615400@michigancityin.gov
SUMMARY:City Council Workshop
DESCRIPTION:Common Council to propose 2026 Budget
URL:https://michigancityin.gov/city-event/city-council-workshop/
LOCATION:EOC Room\, 100 E Michigan Blvd\, Michigan City\, 46360\, United States
CATEGORIES:City Council
END:VEVENT
BEGIN:VEVENT
DTSTART;TZID=America/Chicago:20250902T183000
DTEND;TZID=America/Chicago:20250902T193000
DTSTAMP:20260422T225454
CREATED:20250320T161201Z
LAST-MODIFIED:20250320T170523Z
UID:10000076-1756837800-1756841400@michigancityin.gov
SUMMARY:City Council Regular Meeting
DESCRIPTION:
URL:https://michigancityin.gov/city-event/michigan-city-city-council-regular-meeting/2025-09-02/
LOCATION:Council Chambers – City Hall 100 East  Michigan Boulevard Michigan City IN 46360
CATEGORIES:City Council
END:VEVENT
BEGIN:VEVENT
DTSTART;TZID=America/Chicago:20250902T180000
DTEND;TZID=America/Chicago:20250902T183000
DTSTAMP:20260422T225454
CREATED:20250320T161200Z
LAST-MODIFIED:20250320T170803Z
UID:10000017-1756836000-1756837800@michigancityin.gov
SUMMARY:City Council Financial Committee Meeting
DESCRIPTION:
URL:https://michigancityin.gov/city-event/city-council-financial-committee-meeting/2025-09-02/
LOCATION:Council Chambers – City Hall 100 East  Michigan Boulevard Michigan City IN 46360
CATEGORIES:City Council
END:VEVENT
END:VCALENDAR