BEGIN:VCALENDAR
VERSION:2.0
PRODID:-//City of Michigan City Indiana - ECPv6.15.20//NONSGML v1.0//EN
CALSCALE:GREGORIAN
METHOD:PUBLISH
X-ORIGINAL-URL:https://michigancityin.gov
X-WR-CALDESC:Events for City of Michigan City Indiana
REFRESH-INTERVAL;VALUE=DURATION:PT1H
X-Robots-Tag:noindex
X-PUBLISHED-TTL:PT1H
BEGIN:VTIMEZONE
TZID:America/Chicago
BEGIN:DAYLIGHT
TZOFFSETFROM:-0600
TZOFFSETTO:-0500
TZNAME:CDT
DTSTART:20270314T080000
END:DAYLIGHT
BEGIN:STANDARD
TZOFFSETFROM:-0500
TZOFFSETTO:-0600
TZNAME:CST
DTSTART:20271107T070000
END:STANDARD
BEGIN:DAYLIGHT
TZOFFSETFROM:-0600
TZOFFSETTO:-0500
TZNAME:CDT
DTSTART:20280312T080000
END:DAYLIGHT
BEGIN:STANDARD
TZOFFSETFROM:-0500
TZOFFSETTO:-0600
TZNAME:CST
DTSTART:20281105T070000
END:STANDARD
BEGIN:DAYLIGHT
TZOFFSETFROM:-0600
TZOFFSETTO:-0500
TZNAME:CDT
DTSTART:20290311T080000
END:DAYLIGHT
BEGIN:STANDARD
TZOFFSETFROM:-0500
TZOFFSETTO:-0600
TZNAME:CST
DTSTART:20291104T070000
END:STANDARD
BEGIN:DAYLIGHT
TZOFFSETFROM:-0600
TZOFFSETTO:-0500
TZNAME:CDT
DTSTART:20300310T080000
END:DAYLIGHT
BEGIN:STANDARD
TZOFFSETFROM:-0500
TZOFFSETTO:-0600
TZNAME:CST
DTSTART:20301103T070000
END:STANDARD
END:VTIMEZONE
BEGIN:VEVENT
DTSTART;TZID=America/Chicago:20280718T183000
DTEND;TZID=America/Chicago:20280718T193000
DTSTAMP:20260423T154357
CREATED:20250320T161204Z
LAST-MODIFIED:20250320T171226Z
UID:10000228-1847557800-1847561400@michigancityin.gov
SUMMARY:City Council Regular Meeting
DESCRIPTION:
URL:https://michigancityin.gov/city-event/city-council-regular-meeting-2/2028-07-18/
LOCATION:Council Chambers – City Hall 100 East  Michigan Boulevard Michigan City IN 46360
CATEGORIES:City Council
END:VEVENT
BEGIN:VEVENT
DTSTART;TZID=America/Chicago:20280801T180000
DTEND;TZID=America/Chicago:20280801T183000
DTSTAMP:20260423T154357
CREATED:20250320T161200Z
LAST-MODIFIED:20250320T170803Z
UID:10000052-1848765600-1848767400@michigancityin.gov
SUMMARY:City Council Financial Committee Meeting
DESCRIPTION:
URL:https://michigancityin.gov/city-event/city-council-financial-committee-meeting/2028-08-01/
LOCATION:Council Chambers – City Hall 100 East  Michigan Boulevard Michigan City IN 46360
CATEGORIES:City Council
END:VEVENT
BEGIN:VEVENT
DTSTART;TZID=America/Chicago:20280801T183000
DTEND;TZID=America/Chicago:20280801T193000
DTSTAMP:20260423T154357
CREATED:20250320T161201Z
LAST-MODIFIED:20250320T170523Z
UID:10000111-1848767400-1848771000@michigancityin.gov
SUMMARY:City Council Regular Meeting
DESCRIPTION:
URL:https://michigancityin.gov/city-event/michigan-city-city-council-regular-meeting/2028-08-01/
LOCATION:Council Chambers – City Hall 100 East  Michigan Boulevard Michigan City IN 46360
CATEGORIES:City Council
END:VEVENT
BEGIN:VEVENT
DTSTART;TZID=America/Chicago:20280815T180000
DTEND;TZID=America/Chicago:20280815T183000
DTSTAMP:20260423T154357
CREATED:20250320T161202Z
LAST-MODIFIED:20250320T170902Z
UID:10000170-1849975200-1849977000@michigancityin.gov
SUMMARY:City Council Financial Committee Meeting
DESCRIPTION:
URL:https://michigancityin.gov/city-event/michigan-city-council-financial-committee-meeting-2/2028-08-15/
LOCATION:Council Chambers – City Hall 100 East  Michigan Boulevard Michigan City IN 46360
CATEGORIES:City Council
END:VEVENT
BEGIN:VEVENT
DTSTART;TZID=America/Chicago:20280815T183000
DTEND;TZID=America/Chicago:20280815T193000
DTSTAMP:20260423T154357
CREATED:20250320T161204Z
LAST-MODIFIED:20250320T171226Z
UID:10000229-1849977000-1849980600@michigancityin.gov
SUMMARY:City Council Regular Meeting
DESCRIPTION:
URL:https://michigancityin.gov/city-event/city-council-regular-meeting-2/2028-08-15/
LOCATION:Council Chambers – City Hall 100 East  Michigan Boulevard Michigan City IN 46360
CATEGORIES:City Council
END:VEVENT
BEGIN:VEVENT
DTSTART;TZID=America/Chicago:20280905T180000
DTEND;TZID=America/Chicago:20280905T183000
DTSTAMP:20260423T154357
CREATED:20250320T161200Z
LAST-MODIFIED:20250320T170803Z
UID:10000053-1851789600-1851791400@michigancityin.gov
SUMMARY:City Council Financial Committee Meeting
DESCRIPTION:
URL:https://michigancityin.gov/city-event/city-council-financial-committee-meeting/2028-09-05/
LOCATION:Council Chambers – City Hall 100 East  Michigan Boulevard Michigan City IN 46360
CATEGORIES:City Council
END:VEVENT
BEGIN:VEVENT
DTSTART;TZID=America/Chicago:20280905T183000
DTEND;TZID=America/Chicago:20280905T193000
DTSTAMP:20260423T154357
CREATED:20250320T161201Z
LAST-MODIFIED:20250320T170523Z
UID:10000112-1851791400-1851795000@michigancityin.gov
SUMMARY:City Council Regular Meeting
DESCRIPTION:
URL:https://michigancityin.gov/city-event/michigan-city-city-council-regular-meeting/2028-09-05/
LOCATION:Council Chambers – City Hall 100 East  Michigan Boulevard Michigan City IN 46360
CATEGORIES:City Council
END:VEVENT
BEGIN:VEVENT
DTSTART;TZID=America/Chicago:20280919T180000
DTEND;TZID=America/Chicago:20280919T183000
DTSTAMP:20260423T154357
CREATED:20250320T161202Z
LAST-MODIFIED:20250320T170902Z
UID:10000171-1852999200-1853001000@michigancityin.gov
SUMMARY:City Council Financial Committee Meeting
DESCRIPTION:
URL:https://michigancityin.gov/city-event/michigan-city-council-financial-committee-meeting-2/2028-09-19/
LOCATION:Council Chambers – City Hall 100 East  Michigan Boulevard Michigan City IN 46360
CATEGORIES:City Council
END:VEVENT
BEGIN:VEVENT
DTSTART;TZID=America/Chicago:20280919T183000
DTEND;TZID=America/Chicago:20280919T193000
DTSTAMP:20260423T154357
CREATED:20250320T161204Z
LAST-MODIFIED:20250320T171226Z
UID:10000230-1853001000-1853004600@michigancityin.gov
SUMMARY:City Council Regular Meeting
DESCRIPTION:
URL:https://michigancityin.gov/city-event/city-council-regular-meeting-2/2028-09-19/
LOCATION:Council Chambers – City Hall 100 East  Michigan Boulevard Michigan City IN 46360
CATEGORIES:City Council
END:VEVENT
BEGIN:VEVENT
DTSTART;TZID=America/Chicago:20281003T180000
DTEND;TZID=America/Chicago:20281003T183000
DTSTAMP:20260423T154357
CREATED:20250320T161200Z
LAST-MODIFIED:20250320T170803Z
UID:10000054-1854208800-1854210600@michigancityin.gov
SUMMARY:City Council Financial Committee Meeting
DESCRIPTION:
URL:https://michigancityin.gov/city-event/city-council-financial-committee-meeting/2028-10-03/
LOCATION:Council Chambers – City Hall 100 East  Michigan Boulevard Michigan City IN 46360
CATEGORIES:City Council
END:VEVENT
BEGIN:VEVENT
DTSTART;TZID=America/Chicago:20281003T183000
DTEND;TZID=America/Chicago:20281003T193000
DTSTAMP:20260423T154357
CREATED:20250320T161201Z
LAST-MODIFIED:20250320T170523Z
UID:10000113-1854210600-1854214200@michigancityin.gov
SUMMARY:City Council Regular Meeting
DESCRIPTION:
URL:https://michigancityin.gov/city-event/michigan-city-city-council-regular-meeting/2028-10-03/
LOCATION:Council Chambers – City Hall 100 East  Michigan Boulevard Michigan City IN 46360
CATEGORIES:City Council
END:VEVENT
BEGIN:VEVENT
DTSTART;TZID=America/Chicago:20281017T180000
DTEND;TZID=America/Chicago:20281017T183000
DTSTAMP:20260423T154357
CREATED:20250320T161202Z
LAST-MODIFIED:20250320T170902Z
UID:10000172-1855418400-1855420200@michigancityin.gov
SUMMARY:City Council Financial Committee Meeting
DESCRIPTION:
URL:https://michigancityin.gov/city-event/michigan-city-council-financial-committee-meeting-2/2028-10-17/
LOCATION:Council Chambers – City Hall 100 East  Michigan Boulevard Michigan City IN 46360
CATEGORIES:City Council
END:VEVENT
BEGIN:VEVENT
DTSTART;TZID=America/Chicago:20281017T183000
DTEND;TZID=America/Chicago:20281017T193000
DTSTAMP:20260423T154357
CREATED:20250320T161204Z
LAST-MODIFIED:20250320T171226Z
UID:10000231-1855420200-1855423800@michigancityin.gov
SUMMARY:City Council Regular Meeting
DESCRIPTION:
URL:https://michigancityin.gov/city-event/city-council-regular-meeting-2/2028-10-17/
LOCATION:Council Chambers – City Hall 100 East  Michigan Boulevard Michigan City IN 46360
CATEGORIES:City Council
END:VEVENT
BEGIN:VEVENT
DTSTART;TZID=America/Chicago:20281107T180000
DTEND;TZID=America/Chicago:20281107T183000
DTSTAMP:20260423T154357
CREATED:20250320T161200Z
LAST-MODIFIED:20250320T170803Z
UID:10000055-1857232800-1857234600@michigancityin.gov
SUMMARY:City Council Financial Committee Meeting
DESCRIPTION:
URL:https://michigancityin.gov/city-event/city-council-financial-committee-meeting/2028-11-07/
LOCATION:Council Chambers – City Hall 100 East  Michigan Boulevard Michigan City IN 46360
CATEGORIES:City Council
END:VEVENT
BEGIN:VEVENT
DTSTART;TZID=America/Chicago:20281107T183000
DTEND;TZID=America/Chicago:20281107T193000
DTSTAMP:20260423T154357
CREATED:20250320T161201Z
LAST-MODIFIED:20250320T170523Z
UID:10000114-1857234600-1857238200@michigancityin.gov
SUMMARY:City Council Regular Meeting
DESCRIPTION:
URL:https://michigancityin.gov/city-event/michigan-city-city-council-regular-meeting/2028-11-07/
LOCATION:Council Chambers – City Hall 100 East  Michigan Boulevard Michigan City IN 46360
CATEGORIES:City Council
END:VEVENT
BEGIN:VEVENT
DTSTART;TZID=America/Chicago:20281121T180000
DTEND;TZID=America/Chicago:20281121T183000
DTSTAMP:20260423T154357
CREATED:20250320T161202Z
LAST-MODIFIED:20250320T170902Z
UID:10000173-1858442400-1858444200@michigancityin.gov
SUMMARY:City Council Financial Committee Meeting
DESCRIPTION:
URL:https://michigancityin.gov/city-event/michigan-city-council-financial-committee-meeting-2/2028-11-21/
LOCATION:Council Chambers – City Hall 100 East  Michigan Boulevard Michigan City IN 46360
CATEGORIES:City Council
END:VEVENT
BEGIN:VEVENT
DTSTART;TZID=America/Chicago:20281121T183000
DTEND;TZID=America/Chicago:20281121T193000
DTSTAMP:20260423T154357
CREATED:20250320T161204Z
LAST-MODIFIED:20250320T171226Z
UID:10000232-1858444200-1858447800@michigancityin.gov
SUMMARY:City Council Regular Meeting
DESCRIPTION:
URL:https://michigancityin.gov/city-event/city-council-regular-meeting-2/2028-11-21/
LOCATION:Council Chambers – City Hall 100 East  Michigan Boulevard Michigan City IN 46360
CATEGORIES:City Council
END:VEVENT
BEGIN:VEVENT
DTSTART;TZID=America/Chicago:20281205T180000
DTEND;TZID=America/Chicago:20281205T183000
DTSTAMP:20260423T154357
CREATED:20250320T161200Z
LAST-MODIFIED:20250320T170803Z
UID:10000056-1859652000-1859653800@michigancityin.gov
SUMMARY:City Council Financial Committee Meeting
DESCRIPTION:
URL:https://michigancityin.gov/city-event/city-council-financial-committee-meeting/2028-12-05/
LOCATION:Council Chambers – City Hall 100 East  Michigan Boulevard Michigan City IN 46360
CATEGORIES:City Council
END:VEVENT
BEGIN:VEVENT
DTSTART;TZID=America/Chicago:20281205T183000
DTEND;TZID=America/Chicago:20281205T193000
DTSTAMP:20260423T154357
CREATED:20250320T161201Z
LAST-MODIFIED:20250320T170523Z
UID:10000115-1859653800-1859657400@michigancityin.gov
SUMMARY:City Council Regular Meeting
DESCRIPTION:
URL:https://michigancityin.gov/city-event/michigan-city-city-council-regular-meeting/2028-12-05/
LOCATION:Council Chambers – City Hall 100 East  Michigan Boulevard Michigan City IN 46360
CATEGORIES:City Council
END:VEVENT
BEGIN:VEVENT
DTSTART;TZID=America/Chicago:20281219T180000
DTEND;TZID=America/Chicago:20281219T183000
DTSTAMP:20260423T154357
CREATED:20250320T161202Z
LAST-MODIFIED:20250320T170902Z
UID:10000174-1860861600-1860863400@michigancityin.gov
SUMMARY:City Council Financial Committee Meeting
DESCRIPTION:
URL:https://michigancityin.gov/city-event/michigan-city-council-financial-committee-meeting-2/2028-12-19/
LOCATION:Council Chambers – City Hall 100 East  Michigan Boulevard Michigan City IN 46360
CATEGORIES:City Council
END:VEVENT
BEGIN:VEVENT
DTSTART;TZID=America/Chicago:20281219T183000
DTEND;TZID=America/Chicago:20281219T193000
DTSTAMP:20260423T154357
CREATED:20250320T161204Z
LAST-MODIFIED:20250320T171226Z
UID:10000233-1860863400-1860867000@michigancityin.gov
SUMMARY:City Council Regular Meeting
DESCRIPTION:
URL:https://michigancityin.gov/city-event/city-council-regular-meeting-2/2028-12-19/
LOCATION:Council Chambers – City Hall 100 East  Michigan Boulevard Michigan City IN 46360
CATEGORIES:City Council
END:VEVENT
BEGIN:VEVENT
DTSTART;TZID=America/Chicago:20290102T180000
DTEND;TZID=America/Chicago:20290102T183000
DTSTAMP:20260423T154357
CREATED:20250320T161200Z
LAST-MODIFIED:20250320T170803Z
UID:10000057-1862071200-1862073000@michigancityin.gov
SUMMARY:City Council Financial Committee Meeting
DESCRIPTION:
URL:https://michigancityin.gov/city-event/city-council-financial-committee-meeting/2029-01-02/
LOCATION:Council Chambers – City Hall 100 East  Michigan Boulevard Michigan City IN 46360
CATEGORIES:City Council
END:VEVENT
BEGIN:VEVENT
DTSTART;TZID=America/Chicago:20290102T183000
DTEND;TZID=America/Chicago:20290102T193000
DTSTAMP:20260423T154357
CREATED:20250320T161201Z
LAST-MODIFIED:20250320T170523Z
UID:10000116-1862073000-1862076600@michigancityin.gov
SUMMARY:City Council Regular Meeting
DESCRIPTION:
URL:https://michigancityin.gov/city-event/michigan-city-city-council-regular-meeting/2029-01-02/
LOCATION:Council Chambers – City Hall 100 East  Michigan Boulevard Michigan City IN 46360
CATEGORIES:City Council
END:VEVENT
BEGIN:VEVENT
DTSTART;TZID=America/Chicago:20290116T180000
DTEND;TZID=America/Chicago:20290116T183000
DTSTAMP:20260423T154357
CREATED:20250320T161202Z
LAST-MODIFIED:20250320T170902Z
UID:10000175-1863280800-1863282600@michigancityin.gov
SUMMARY:City Council Financial Committee Meeting
DESCRIPTION:
URL:https://michigancityin.gov/city-event/michigan-city-council-financial-committee-meeting-2/2029-01-16/
LOCATION:Council Chambers – City Hall 100 East  Michigan Boulevard Michigan City IN 46360
CATEGORIES:City Council
END:VEVENT
BEGIN:VEVENT
DTSTART;TZID=America/Chicago:20290116T183000
DTEND;TZID=America/Chicago:20290116T193000
DTSTAMP:20260423T154357
CREATED:20250320T161204Z
LAST-MODIFIED:20250320T171226Z
UID:10000234-1863282600-1863286200@michigancityin.gov
SUMMARY:City Council Regular Meeting
DESCRIPTION:
URL:https://michigancityin.gov/city-event/city-council-regular-meeting-2/2029-01-16/
LOCATION:Council Chambers – City Hall 100 East  Michigan Boulevard Michigan City IN 46360
CATEGORIES:City Council
END:VEVENT
BEGIN:VEVENT
DTSTART;TZID=America/Chicago:20290206T180000
DTEND;TZID=America/Chicago:20290206T183000
DTSTAMP:20260423T154357
CREATED:20250320T161200Z
LAST-MODIFIED:20250320T170803Z
UID:10000058-1865095200-1865097000@michigancityin.gov
SUMMARY:City Council Financial Committee Meeting
DESCRIPTION:
URL:https://michigancityin.gov/city-event/city-council-financial-committee-meeting/2029-02-06/
LOCATION:Council Chambers – City Hall 100 East  Michigan Boulevard Michigan City IN 46360
CATEGORIES:City Council
END:VEVENT
BEGIN:VEVENT
DTSTART;TZID=America/Chicago:20290206T183000
DTEND;TZID=America/Chicago:20290206T193000
DTSTAMP:20260423T154357
CREATED:20250320T161201Z
LAST-MODIFIED:20250320T170523Z
UID:10000117-1865097000-1865100600@michigancityin.gov
SUMMARY:City Council Regular Meeting
DESCRIPTION:
URL:https://michigancityin.gov/city-event/michigan-city-city-council-regular-meeting/2029-02-06/
LOCATION:Council Chambers – City Hall 100 East  Michigan Boulevard Michigan City IN 46360
CATEGORIES:City Council
END:VEVENT
BEGIN:VEVENT
DTSTART;TZID=America/Chicago:20290220T180000
DTEND;TZID=America/Chicago:20290220T183000
DTSTAMP:20260423T154357
CREATED:20250320T161202Z
LAST-MODIFIED:20250320T170902Z
UID:10000176-1866304800-1866306600@michigancityin.gov
SUMMARY:City Council Financial Committee Meeting
DESCRIPTION:
URL:https://michigancityin.gov/city-event/michigan-city-council-financial-committee-meeting-2/2029-02-20/
LOCATION:Council Chambers – City Hall 100 East  Michigan Boulevard Michigan City IN 46360
CATEGORIES:City Council
END:VEVENT
BEGIN:VEVENT
DTSTART;TZID=America/Chicago:20290220T183000
DTEND;TZID=America/Chicago:20290220T193000
DTSTAMP:20260423T154357
CREATED:20250320T161204Z
LAST-MODIFIED:20250320T171226Z
UID:10000235-1866306600-1866310200@michigancityin.gov
SUMMARY:City Council Regular Meeting
DESCRIPTION:
URL:https://michigancityin.gov/city-event/city-council-regular-meeting-2/2029-02-20/
LOCATION:Council Chambers – City Hall 100 East  Michigan Boulevard Michigan City IN 46360
CATEGORIES:City Council
END:VEVENT
BEGIN:VEVENT
DTSTART;TZID=America/Chicago:20290306T180000
DTEND;TZID=America/Chicago:20290306T183000
DTSTAMP:20260423T154357
CREATED:20250320T161200Z
LAST-MODIFIED:20250320T170803Z
UID:10000059-1867514400-1867516200@michigancityin.gov
SUMMARY:City Council Financial Committee Meeting
DESCRIPTION:
URL:https://michigancityin.gov/city-event/city-council-financial-committee-meeting/2029-03-06/
LOCATION:Council Chambers – City Hall 100 East  Michigan Boulevard Michigan City IN 46360
CATEGORIES:City Council
END:VEVENT
END:VCALENDAR