BEGIN:VCALENDAR
VERSION:2.0
PRODID:-//City of Michigan City Indiana - ECPv6.15.20//NONSGML v1.0//EN
CALSCALE:GREGORIAN
METHOD:PUBLISH
X-WR-CALNAME:City of Michigan City Indiana
X-ORIGINAL-URL:https://michigancityin.gov
X-WR-CALDESC:Events for City of Michigan City Indiana
REFRESH-INTERVAL;VALUE=DURATION:PT1H
X-Robots-Tag:noindex
X-PUBLISHED-TTL:PT1H
BEGIN:VTIMEZONE
TZID:America/Chicago
BEGIN:DAYLIGHT
TZOFFSETFROM:-0600
TZOFFSETTO:-0500
TZNAME:CDT
DTSTART:20240310T080000
END:DAYLIGHT
BEGIN:STANDARD
TZOFFSETFROM:-0500
TZOFFSETTO:-0600
TZNAME:CST
DTSTART:20241103T070000
END:STANDARD
BEGIN:DAYLIGHT
TZOFFSETFROM:-0600
TZOFFSETTO:-0500
TZNAME:CDT
DTSTART:20250309T080000
END:DAYLIGHT
BEGIN:STANDARD
TZOFFSETFROM:-0500
TZOFFSETTO:-0600
TZNAME:CST
DTSTART:20251102T070000
END:STANDARD
BEGIN:DAYLIGHT
TZOFFSETFROM:-0600
TZOFFSETTO:-0500
TZNAME:CDT
DTSTART:20260308T080000
END:DAYLIGHT
BEGIN:STANDARD
TZOFFSETFROM:-0500
TZOFFSETTO:-0600
TZNAME:CST
DTSTART:20261101T070000
END:STANDARD
BEGIN:DAYLIGHT
TZOFFSETFROM:-0600
TZOFFSETTO:-0500
TZNAME:CDT
DTSTART:20270314T080000
END:DAYLIGHT
BEGIN:STANDARD
TZOFFSETFROM:-0500
TZOFFSETTO:-0600
TZNAME:CST
DTSTART:20271107T070000
END:STANDARD
END:VTIMEZONE
BEGIN:VEVENT
DTSTART;TZID=America/Chicago:20260408T120000
DTEND;TZID=America/Chicago:20260408T130000
DTSTAMP:20260422T195819
CREATED:20250909T192135Z
LAST-MODIFIED:20250909T192135Z
UID:10000734-1775649600-1775653200@michigancityin.gov
SUMMARY:Commission on the Social Status of African-American Males Regular Meeting
DESCRIPTION:
URL:https://michigancityin.gov/city-event/commission-on-the-social-status-of-african-american-males-regular-meeting-2/2026-04-08/
LOCATION:ALCO Meeting Studio\, 301 E. 8th St.\, Michigan City\, 46360\, United States
CATEGORIES:Commission on the Social Status of African-American Males
END:VEVENT
BEGIN:VEVENT
DTSTART;TZID=America/Chicago:20260311T120000
DTEND;TZID=America/Chicago:20260311T130000
DTSTAMP:20260422T195819
CREATED:20250909T192135Z
LAST-MODIFIED:20250909T192135Z
UID:10000733-1773230400-1773234000@michigancityin.gov
SUMMARY:Commission on the Social Status of African-American Males Regular Meeting
DESCRIPTION:
URL:https://michigancityin.gov/city-event/commission-on-the-social-status-of-african-american-males-regular-meeting-2/2026-03-11/
LOCATION:ALCO Meeting Studio\, 301 E. 8th St.\, Michigan City\, 46360\, United States
CATEGORIES:Commission on the Social Status of African-American Males
END:VEVENT
BEGIN:VEVENT
DTSTART;TZID=America/Chicago:20260211T120000
DTEND;TZID=America/Chicago:20260211T130000
DTSTAMP:20260422T195819
CREATED:20250909T192135Z
LAST-MODIFIED:20250909T192135Z
UID:10000732-1770811200-1770814800@michigancityin.gov
SUMMARY:Commission on the Social Status of African-American Males Regular Meeting
DESCRIPTION:
URL:https://michigancityin.gov/city-event/commission-on-the-social-status-of-african-american-males-regular-meeting-2/2026-02-11/
LOCATION:ALCO Meeting Studio\, 301 E. 8th St.\, Michigan City\, 46360\, United States
CATEGORIES:Commission on the Social Status of African-American Males
END:VEVENT
BEGIN:VEVENT
DTSTART;TZID=America/Chicago:20260114T120000
DTEND;TZID=America/Chicago:20260114T130000
DTSTAMP:20260422T195819
CREATED:20250909T192135Z
LAST-MODIFIED:20250909T192135Z
UID:10000731-1768392000-1768395600@michigancityin.gov
SUMMARY:Commission on the Social Status of African-American Males Regular Meeting
DESCRIPTION:
URL:https://michigancityin.gov/city-event/commission-on-the-social-status-of-african-american-males-regular-meeting-2/2026-01-14/
LOCATION:ALCO Meeting Studio\, 301 E. 8th St.\, Michigan City\, 46360\, United States
CATEGORIES:Commission on the Social Status of African-American Males
END:VEVENT
BEGIN:VEVENT
DTSTART;TZID=America/Chicago:20251210T120000
DTEND;TZID=America/Chicago:20251210T130000
DTSTAMP:20260422T195819
CREATED:20250909T192135Z
LAST-MODIFIED:20250909T192135Z
UID:10000730-1765368000-1765371600@michigancityin.gov
SUMMARY:Commission on the Social Status of African-American Males Regular Meeting
DESCRIPTION:
URL:https://michigancityin.gov/city-event/commission-on-the-social-status-of-african-american-males-regular-meeting-2/2025-12-10/
LOCATION:ALCO Meeting Studio\, 301 E. 8th St.\, Michigan City\, 46360\, United States
CATEGORIES:Commission on the Social Status of African-American Males
END:VEVENT
BEGIN:VEVENT
DTSTART;TZID=America/Chicago:20251112T120000
DTEND;TZID=America/Chicago:20251112T130000
DTSTAMP:20260422T195819
CREATED:20250909T192135Z
LAST-MODIFIED:20250909T192135Z
UID:10000729-1762948800-1762952400@michigancityin.gov
SUMMARY:Commission on the Social Status of African-American Males Regular Meeting
DESCRIPTION:
URL:https://michigancityin.gov/city-event/commission-on-the-social-status-of-african-american-males-regular-meeting-2/2025-11-12/
LOCATION:ALCO Meeting Studio\, 301 E. 8th St.\, Michigan City\, 46360\, United States
CATEGORIES:Commission on the Social Status of African-American Males
END:VEVENT
BEGIN:VEVENT
DTSTART;TZID=America/Chicago:20251008T120000
DTEND;TZID=America/Chicago:20251008T130000
DTSTAMP:20260422T195819
CREATED:20250909T192135Z
LAST-MODIFIED:20250909T192135Z
UID:10000728-1759924800-1759928400@michigancityin.gov
SUMMARY:Commission on the Social Status of African-American Males Regular Meeting
DESCRIPTION:
URL:https://michigancityin.gov/city-event/commission-on-the-social-status-of-african-american-males-regular-meeting-2/2025-10-08/
LOCATION:ALCO Meeting Studio\, 301 E. 8th St.\, Michigan City\, 46360\, United States
CATEGORIES:Commission on the Social Status of African-American Males
END:VEVENT
BEGIN:VEVENT
DTSTART;TZID=America/Chicago:20250917T120000
DTEND;TZID=America/Chicago:20250917T130000
DTSTAMP:20260422T195819
CREATED:20250912T181130Z
LAST-MODIFIED:20250912T181130Z
UID:10002624-1758110400-1758114000@michigancityin.gov
SUMMARY:Commission on the Social Status of African-American Males Regular Meeting
DESCRIPTION:
URL:https://michigancityin.gov/city-event/commission-on-the-social-status-of-african-american-males-regular-meeting-3/
LOCATION:ALCO Meeting Studio\, 301 E. 8th St.\, Michigan City\, 46360\, United States
CATEGORIES:Commission on the Social Status of African-American Males
END:VEVENT
BEGIN:VEVENT
DTSTART;TZID=America/Chicago:20250910T120000
DTEND;TZID=America/Chicago:20250910T130000
DTSTAMP:20260422T195819
CREATED:20250909T202228Z
LAST-MODIFIED:20250915T125755Z
UID:10000727-1757505600-1757509200@michigancityin.gov
SUMMARY:Commission on the Social Status of African-American Males Regular Meeting
DESCRIPTION:This event has been canceled
URL:https://michigancityin.gov/city-event/commission-on-the-social-status-of-african-american-males-regular-meeting-2-2/
LOCATION:ALCO Meeting Studio\, 301 E. 8th St.\, Michigan City\, 46360\, United States
CATEGORIES:Commission on the Social Status of African-American Males
END:VEVENT
BEGIN:VEVENT
DTSTART;TZID=America/Chicago:20250813T120000
DTEND;TZID=America/Chicago:20250813T130000
DTSTAMP:20260422T195819
CREATED:20250608T213505Z
LAST-MODIFIED:20250608T213505Z
UID:10000726-1755086400-1755090000@michigancityin.gov
SUMMARY:Commission on the Social Status of African-American Males Regular Meeting
DESCRIPTION:
URL:https://michigancityin.gov/city-event/commission-on-the-social-status-of-african-american-males-regular-meeting/2025-08-13/
LOCATION:EOC Room\, 100 E Michigan Blvd\, Michigan City\, 46360\, United States
CATEGORIES:Commission on the Social Status of African-American Males
END:VEVENT
BEGIN:VEVENT
DTSTART;TZID=America/Chicago:20250709T120000
DTEND;TZID=America/Chicago:20250709T130000
DTSTAMP:20260422T195819
CREATED:20250608T213505Z
LAST-MODIFIED:20250608T213505Z
UID:10000725-1752062400-1752066000@michigancityin.gov
SUMMARY:Commission on the Social Status of African-American Males Regular Meeting
DESCRIPTION:
URL:https://michigancityin.gov/city-event/commission-on-the-social-status-of-african-american-males-regular-meeting/2025-07-09/
LOCATION:EOC Room\, 100 E Michigan Blvd\, Michigan City\, 46360\, United States
CATEGORIES:Commission on the Social Status of African-American Males
END:VEVENT
BEGIN:VEVENT
DTSTART;TZID=America/Chicago:20250611T120000
DTEND;TZID=America/Chicago:20250611T130000
DTSTAMP:20260422T195819
CREATED:20250608T213505Z
LAST-MODIFIED:20250608T213505Z
UID:10000724-1749643200-1749646800@michigancityin.gov
SUMMARY:Commission on the Social Status of African-American Males Regular Meeting
DESCRIPTION:
URL:https://michigancityin.gov/city-event/commission-on-the-social-status-of-african-american-males-regular-meeting/2025-06-11/
LOCATION:EOC Room\, 100 E Michigan Blvd\, Michigan City\, 46360\, United States
CATEGORIES:Commission on the Social Status of African-American Males
END:VEVENT
END:VCALENDAR