BEGIN:VCALENDAR
VERSION:2.0
PRODID:-//City of Michigan City Indiana - ECPv6.15.20//NONSGML v1.0//EN
CALSCALE:GREGORIAN
METHOD:PUBLISH
X-ORIGINAL-URL:https://michigancityin.gov
X-WR-CALDESC:Events for City of Michigan City Indiana
REFRESH-INTERVAL;VALUE=DURATION:PT1H
X-Robots-Tag:noindex
X-PUBLISHED-TTL:PT1H
BEGIN:VTIMEZONE
TZID:America/Chicago
BEGIN:DAYLIGHT
TZOFFSETFROM:-0600
TZOFFSETTO:-0500
TZNAME:CDT
DTSTART:20250309T080000
END:DAYLIGHT
BEGIN:STANDARD
TZOFFSETFROM:-0500
TZOFFSETTO:-0600
TZNAME:CST
DTSTART:20251102T070000
END:STANDARD
BEGIN:DAYLIGHT
TZOFFSETFROM:-0600
TZOFFSETTO:-0500
TZNAME:CDT
DTSTART:20260308T080000
END:DAYLIGHT
BEGIN:STANDARD
TZOFFSETFROM:-0500
TZOFFSETTO:-0600
TZNAME:CST
DTSTART:20261101T070000
END:STANDARD
BEGIN:DAYLIGHT
TZOFFSETFROM:-0600
TZOFFSETTO:-0500
TZNAME:CDT
DTSTART:20270314T080000
END:DAYLIGHT
BEGIN:STANDARD
TZOFFSETFROM:-0500
TZOFFSETTO:-0600
TZNAME:CST
DTSTART:20271107T070000
END:STANDARD
BEGIN:DAYLIGHT
TZOFFSETFROM:-0600
TZOFFSETTO:-0500
TZNAME:CDT
DTSTART:20280312T080000
END:DAYLIGHT
BEGIN:STANDARD
TZOFFSETFROM:-0500
TZOFFSETTO:-0600
TZNAME:CST
DTSTART:20281105T070000
END:STANDARD
BEGIN:DAYLIGHT
TZOFFSETFROM:-0600
TZOFFSETTO:-0500
TZNAME:CDT
DTSTART:20290311T080000
END:DAYLIGHT
BEGIN:STANDARD
TZOFFSETFROM:-0500
TZOFFSETTO:-0600
TZNAME:CST
DTSTART:20291104T070000
END:STANDARD
END:VTIMEZONE
BEGIN:VEVENT
DTSTART;TZID=America/Chicago:20260506T170000
DTEND;TZID=America/Chicago:20260506T180000
DTSTAMP:20260422T170744
CREATED:20250608T213740Z
LAST-MODIFIED:20250608T213740Z
UID:10000794-1778086800-1778090400@michigancityin.gov
SUMMARY:Community Enrichment Corporation Regular Meeting
DESCRIPTION:
URL:https://michigancityin.gov/city-event/community-enrichment-corporation-regular-meeting/2026-05-06/
LOCATION:Mayor’s West Conference Room\, 100 E Michigan Blvd\, Michigan City\, 46360\, United States
CATEGORIES:Community Enrichment Corporation
END:VEVENT
BEGIN:VEVENT
DTSTART;TZID=America/Chicago:20260603T170000
DTEND;TZID=America/Chicago:20260603T180000
DTSTAMP:20260422T170744
CREATED:20250608T213740Z
LAST-MODIFIED:20250608T213740Z
UID:10000795-1780506000-1780509600@michigancityin.gov
SUMMARY:Community Enrichment Corporation Regular Meeting
DESCRIPTION:
URL:https://michigancityin.gov/city-event/community-enrichment-corporation-regular-meeting/2026-06-03/
LOCATION:Mayor’s West Conference Room\, 100 E Michigan Blvd\, Michigan City\, 46360\, United States
CATEGORIES:Community Enrichment Corporation
END:VEVENT
BEGIN:VEVENT
DTSTART;TZID=America/Chicago:20260701T170000
DTEND;TZID=America/Chicago:20260701T180000
DTSTAMP:20260422T170744
CREATED:20250608T213740Z
LAST-MODIFIED:20250608T213740Z
UID:10000796-1782925200-1782928800@michigancityin.gov
SUMMARY:Community Enrichment Corporation Regular Meeting
DESCRIPTION:
URL:https://michigancityin.gov/city-event/community-enrichment-corporation-regular-meeting/2026-07-01/
LOCATION:Mayor’s West Conference Room\, 100 E Michigan Blvd\, Michigan City\, 46360\, United States
CATEGORIES:Community Enrichment Corporation
END:VEVENT
BEGIN:VEVENT
DTSTART;TZID=America/Chicago:20260805T170000
DTEND;TZID=America/Chicago:20260805T180000
DTSTAMP:20260422T170744
CREATED:20250608T213740Z
LAST-MODIFIED:20250608T213740Z
UID:10000797-1785949200-1785952800@michigancityin.gov
SUMMARY:Community Enrichment Corporation Regular Meeting
DESCRIPTION:
URL:https://michigancityin.gov/city-event/community-enrichment-corporation-regular-meeting/2026-08-05/
LOCATION:Mayor’s West Conference Room\, 100 E Michigan Blvd\, Michigan City\, 46360\, United States
CATEGORIES:Community Enrichment Corporation
END:VEVENT
BEGIN:VEVENT
DTSTART;TZID=America/Chicago:20260902T170000
DTEND;TZID=America/Chicago:20260902T180000
DTSTAMP:20260422T170744
CREATED:20250608T213740Z
LAST-MODIFIED:20250608T213740Z
UID:10000798-1788368400-1788372000@michigancityin.gov
SUMMARY:Community Enrichment Corporation Regular Meeting
DESCRIPTION:
URL:https://michigancityin.gov/city-event/community-enrichment-corporation-regular-meeting/2026-09-02/
LOCATION:Mayor’s West Conference Room\, 100 E Michigan Blvd\, Michigan City\, 46360\, United States
CATEGORIES:Community Enrichment Corporation
END:VEVENT
BEGIN:VEVENT
DTSTART;TZID=America/Chicago:20261007T170000
DTEND;TZID=America/Chicago:20261007T180000
DTSTAMP:20260422T170744
CREATED:20250608T213740Z
LAST-MODIFIED:20250608T213740Z
UID:10000799-1791392400-1791396000@michigancityin.gov
SUMMARY:Community Enrichment Corporation Regular Meeting
DESCRIPTION:
URL:https://michigancityin.gov/city-event/community-enrichment-corporation-regular-meeting/2026-10-07/
LOCATION:Mayor’s West Conference Room\, 100 E Michigan Blvd\, Michigan City\, 46360\, United States
CATEGORIES:Community Enrichment Corporation
END:VEVENT
BEGIN:VEVENT
DTSTART;TZID=America/Chicago:20261104T170000
DTEND;TZID=America/Chicago:20261104T180000
DTSTAMP:20260422T170744
CREATED:20250608T213740Z
LAST-MODIFIED:20250608T213740Z
UID:10000800-1793811600-1793815200@michigancityin.gov
SUMMARY:Community Enrichment Corporation Regular Meeting
DESCRIPTION:
URL:https://michigancityin.gov/city-event/community-enrichment-corporation-regular-meeting/2026-11-04/
LOCATION:Mayor’s West Conference Room\, 100 E Michigan Blvd\, Michigan City\, 46360\, United States
CATEGORIES:Community Enrichment Corporation
END:VEVENT
BEGIN:VEVENT
DTSTART;TZID=America/Chicago:20261202T170000
DTEND;TZID=America/Chicago:20261202T180000
DTSTAMP:20260422T170744
CREATED:20250608T213740Z
LAST-MODIFIED:20250608T213740Z
UID:10000801-1796230800-1796234400@michigancityin.gov
SUMMARY:Community Enrichment Corporation Regular Meeting
DESCRIPTION:
URL:https://michigancityin.gov/city-event/community-enrichment-corporation-regular-meeting/2026-12-02/
LOCATION:Mayor’s West Conference Room\, 100 E Michigan Blvd\, Michigan City\, 46360\, United States
CATEGORIES:Community Enrichment Corporation
END:VEVENT
BEGIN:VEVENT
DTSTART;TZID=America/Chicago:20270106T170000
DTEND;TZID=America/Chicago:20270106T180000
DTSTAMP:20260422T170744
CREATED:20250608T213740Z
LAST-MODIFIED:20250608T213740Z
UID:10000802-1799254800-1799258400@michigancityin.gov
SUMMARY:Community Enrichment Corporation Regular Meeting
DESCRIPTION:
URL:https://michigancityin.gov/city-event/community-enrichment-corporation-regular-meeting/2027-01-06/
LOCATION:Mayor’s West Conference Room\, 100 E Michigan Blvd\, Michigan City\, 46360\, United States
CATEGORIES:Community Enrichment Corporation
END:VEVENT
BEGIN:VEVENT
DTSTART;TZID=America/Chicago:20270203T170000
DTEND;TZID=America/Chicago:20270203T180000
DTSTAMP:20260422T170744
CREATED:20250608T213740Z
LAST-MODIFIED:20250608T213740Z
UID:10000803-1801674000-1801677600@michigancityin.gov
SUMMARY:Community Enrichment Corporation Regular Meeting
DESCRIPTION:
URL:https://michigancityin.gov/city-event/community-enrichment-corporation-regular-meeting/2027-02-03/
LOCATION:Mayor’s West Conference Room\, 100 E Michigan Blvd\, Michigan City\, 46360\, United States
CATEGORIES:Community Enrichment Corporation
END:VEVENT
BEGIN:VEVENT
DTSTART;TZID=America/Chicago:20270303T170000
DTEND;TZID=America/Chicago:20270303T180000
DTSTAMP:20260422T170744
CREATED:20250608T213740Z
LAST-MODIFIED:20250608T213740Z
UID:10000804-1804093200-1804096800@michigancityin.gov
SUMMARY:Community Enrichment Corporation Regular Meeting
DESCRIPTION:
URL:https://michigancityin.gov/city-event/community-enrichment-corporation-regular-meeting/2027-03-03/
LOCATION:Mayor’s West Conference Room\, 100 E Michigan Blvd\, Michigan City\, 46360\, United States
CATEGORIES:Community Enrichment Corporation
END:VEVENT
BEGIN:VEVENT
DTSTART;TZID=America/Chicago:20270407T170000
DTEND;TZID=America/Chicago:20270407T180000
DTSTAMP:20260422T170744
CREATED:20250608T213740Z
LAST-MODIFIED:20250608T213740Z
UID:10000805-1807117200-1807120800@michigancityin.gov
SUMMARY:Community Enrichment Corporation Regular Meeting
DESCRIPTION:
URL:https://michigancityin.gov/city-event/community-enrichment-corporation-regular-meeting/2027-04-07/
LOCATION:Mayor’s West Conference Room\, 100 E Michigan Blvd\, Michigan City\, 46360\, United States
CATEGORIES:Community Enrichment Corporation
END:VEVENT
BEGIN:VEVENT
DTSTART;TZID=America/Chicago:20270505T170000
DTEND;TZID=America/Chicago:20270505T180000
DTSTAMP:20260422T170744
CREATED:20250608T213740Z
LAST-MODIFIED:20250608T213740Z
UID:10000806-1809536400-1809540000@michigancityin.gov
SUMMARY:Community Enrichment Corporation Regular Meeting
DESCRIPTION:
URL:https://michigancityin.gov/city-event/community-enrichment-corporation-regular-meeting/2027-05-05/
LOCATION:Mayor’s West Conference Room\, 100 E Michigan Blvd\, Michigan City\, 46360\, United States
CATEGORIES:Community Enrichment Corporation
END:VEVENT
BEGIN:VEVENT
DTSTART;TZID=America/Chicago:20270602T170000
DTEND;TZID=America/Chicago:20270602T180000
DTSTAMP:20260422T170744
CREATED:20250608T213740Z
LAST-MODIFIED:20250608T213740Z
UID:10000807-1811955600-1811959200@michigancityin.gov
SUMMARY:Community Enrichment Corporation Regular Meeting
DESCRIPTION:
URL:https://michigancityin.gov/city-event/community-enrichment-corporation-regular-meeting/2027-06-02/
LOCATION:Mayor’s West Conference Room\, 100 E Michigan Blvd\, Michigan City\, 46360\, United States
CATEGORIES:Community Enrichment Corporation
END:VEVENT
BEGIN:VEVENT
DTSTART;TZID=America/Chicago:20270707T170000
DTEND;TZID=America/Chicago:20270707T180000
DTSTAMP:20260422T170744
CREATED:20250608T213740Z
LAST-MODIFIED:20250608T213740Z
UID:10000808-1814979600-1814983200@michigancityin.gov
SUMMARY:Community Enrichment Corporation Regular Meeting
DESCRIPTION:
URL:https://michigancityin.gov/city-event/community-enrichment-corporation-regular-meeting/2027-07-07/
LOCATION:Mayor’s West Conference Room\, 100 E Michigan Blvd\, Michigan City\, 46360\, United States
CATEGORIES:Community Enrichment Corporation
END:VEVENT
BEGIN:VEVENT
DTSTART;TZID=America/Chicago:20270804T170000
DTEND;TZID=America/Chicago:20270804T180000
DTSTAMP:20260422T170744
CREATED:20250608T213740Z
LAST-MODIFIED:20250608T213740Z
UID:10000809-1817398800-1817402400@michigancityin.gov
SUMMARY:Community Enrichment Corporation Regular Meeting
DESCRIPTION:
URL:https://michigancityin.gov/city-event/community-enrichment-corporation-regular-meeting/2027-08-04/
LOCATION:Mayor’s West Conference Room\, 100 E Michigan Blvd\, Michigan City\, 46360\, United States
CATEGORIES:Community Enrichment Corporation
END:VEVENT
BEGIN:VEVENT
DTSTART;TZID=America/Chicago:20270901T170000
DTEND;TZID=America/Chicago:20270901T180000
DTSTAMP:20260422T170744
CREATED:20250608T213740Z
LAST-MODIFIED:20250608T213740Z
UID:10000810-1819818000-1819821600@michigancityin.gov
SUMMARY:Community Enrichment Corporation Regular Meeting
DESCRIPTION:
URL:https://michigancityin.gov/city-event/community-enrichment-corporation-regular-meeting/2027-09-01/
LOCATION:Mayor’s West Conference Room\, 100 E Michigan Blvd\, Michigan City\, 46360\, United States
CATEGORIES:Community Enrichment Corporation
END:VEVENT
BEGIN:VEVENT
DTSTART;TZID=America/Chicago:20271006T170000
DTEND;TZID=America/Chicago:20271006T180000
DTSTAMP:20260422T170744
CREATED:20250608T213740Z
LAST-MODIFIED:20250608T213740Z
UID:10000811-1822842000-1822845600@michigancityin.gov
SUMMARY:Community Enrichment Corporation Regular Meeting
DESCRIPTION:
URL:https://michigancityin.gov/city-event/community-enrichment-corporation-regular-meeting/2027-10-06/
LOCATION:Mayor’s West Conference Room\, 100 E Michigan Blvd\, Michigan City\, 46360\, United States
CATEGORIES:Community Enrichment Corporation
END:VEVENT
BEGIN:VEVENT
DTSTART;TZID=America/Chicago:20271103T170000
DTEND;TZID=America/Chicago:20271103T180000
DTSTAMP:20260422T170744
CREATED:20250608T213740Z
LAST-MODIFIED:20250608T213740Z
UID:10000812-1825261200-1825264800@michigancityin.gov
SUMMARY:Community Enrichment Corporation Regular Meeting
DESCRIPTION:
URL:https://michigancityin.gov/city-event/community-enrichment-corporation-regular-meeting/2027-11-03/
LOCATION:Mayor’s West Conference Room\, 100 E Michigan Blvd\, Michigan City\, 46360\, United States
CATEGORIES:Community Enrichment Corporation
END:VEVENT
BEGIN:VEVENT
DTSTART;TZID=America/Chicago:20271201T170000
DTEND;TZID=America/Chicago:20271201T180000
DTSTAMP:20260422T170744
CREATED:20250608T213740Z
LAST-MODIFIED:20250608T213740Z
UID:10000813-1827680400-1827684000@michigancityin.gov
SUMMARY:Community Enrichment Corporation Regular Meeting
DESCRIPTION:
URL:https://michigancityin.gov/city-event/community-enrichment-corporation-regular-meeting/2027-12-01/
LOCATION:Mayor’s West Conference Room\, 100 E Michigan Blvd\, Michigan City\, 46360\, United States
CATEGORIES:Community Enrichment Corporation
END:VEVENT
BEGIN:VEVENT
DTSTART;TZID=America/Chicago:20280105T170000
DTEND;TZID=America/Chicago:20280105T180000
DTSTAMP:20260422T170744
CREATED:20250608T213740Z
LAST-MODIFIED:20250608T213740Z
UID:10000814-1830704400-1830708000@michigancityin.gov
SUMMARY:Community Enrichment Corporation Regular Meeting
DESCRIPTION:
URL:https://michigancityin.gov/city-event/community-enrichment-corporation-regular-meeting/2028-01-05/
LOCATION:Mayor’s West Conference Room\, 100 E Michigan Blvd\, Michigan City\, 46360\, United States
CATEGORIES:Community Enrichment Corporation
END:VEVENT
BEGIN:VEVENT
DTSTART;TZID=America/Chicago:20280202T170000
DTEND;TZID=America/Chicago:20280202T180000
DTSTAMP:20260422T170744
CREATED:20250608T213740Z
LAST-MODIFIED:20250608T213740Z
UID:10000815-1833123600-1833127200@michigancityin.gov
SUMMARY:Community Enrichment Corporation Regular Meeting
DESCRIPTION:
URL:https://michigancityin.gov/city-event/community-enrichment-corporation-regular-meeting/2028-02-02/
LOCATION:Mayor’s West Conference Room\, 100 E Michigan Blvd\, Michigan City\, 46360\, United States
CATEGORIES:Community Enrichment Corporation
END:VEVENT
BEGIN:VEVENT
DTSTART;TZID=America/Chicago:20280301T170000
DTEND;TZID=America/Chicago:20280301T180000
DTSTAMP:20260422T170744
CREATED:20250608T213740Z
LAST-MODIFIED:20250608T213740Z
UID:10000816-1835542800-1835546400@michigancityin.gov
SUMMARY:Community Enrichment Corporation Regular Meeting
DESCRIPTION:
URL:https://michigancityin.gov/city-event/community-enrichment-corporation-regular-meeting/2028-03-01/
LOCATION:Mayor’s West Conference Room\, 100 E Michigan Blvd\, Michigan City\, 46360\, United States
CATEGORIES:Community Enrichment Corporation
END:VEVENT
BEGIN:VEVENT
DTSTART;TZID=America/Chicago:20280405T170000
DTEND;TZID=America/Chicago:20280405T180000
DTSTAMP:20260422T170744
CREATED:20250608T213740Z
LAST-MODIFIED:20250608T213740Z
UID:10000817-1838566800-1838570400@michigancityin.gov
SUMMARY:Community Enrichment Corporation Regular Meeting
DESCRIPTION:
URL:https://michigancityin.gov/city-event/community-enrichment-corporation-regular-meeting/2028-04-05/
LOCATION:Mayor’s West Conference Room\, 100 E Michigan Blvd\, Michigan City\, 46360\, United States
CATEGORIES:Community Enrichment Corporation
END:VEVENT
BEGIN:VEVENT
DTSTART;TZID=America/Chicago:20280503T170000
DTEND;TZID=America/Chicago:20280503T180000
DTSTAMP:20260422T170744
CREATED:20250608T213740Z
LAST-MODIFIED:20250608T213740Z
UID:10000818-1840986000-1840989600@michigancityin.gov
SUMMARY:Community Enrichment Corporation Regular Meeting
DESCRIPTION:
URL:https://michigancityin.gov/city-event/community-enrichment-corporation-regular-meeting/2028-05-03/
LOCATION:Mayor’s West Conference Room\, 100 E Michigan Blvd\, Michigan City\, 46360\, United States
CATEGORIES:Community Enrichment Corporation
END:VEVENT
BEGIN:VEVENT
DTSTART;TZID=America/Chicago:20280607T170000
DTEND;TZID=America/Chicago:20280607T180000
DTSTAMP:20260422T170744
CREATED:20250608T213740Z
LAST-MODIFIED:20250608T213740Z
UID:10000819-1844010000-1844013600@michigancityin.gov
SUMMARY:Community Enrichment Corporation Regular Meeting
DESCRIPTION:
URL:https://michigancityin.gov/city-event/community-enrichment-corporation-regular-meeting/2028-06-07/
LOCATION:Mayor’s West Conference Room\, 100 E Michigan Blvd\, Michigan City\, 46360\, United States
CATEGORIES:Community Enrichment Corporation
END:VEVENT
BEGIN:VEVENT
DTSTART;TZID=America/Chicago:20280705T170000
DTEND;TZID=America/Chicago:20280705T180000
DTSTAMP:20260422T170744
CREATED:20250608T213740Z
LAST-MODIFIED:20250608T213740Z
UID:10000820-1846429200-1846432800@michigancityin.gov
SUMMARY:Community Enrichment Corporation Regular Meeting
DESCRIPTION:
URL:https://michigancityin.gov/city-event/community-enrichment-corporation-regular-meeting/2028-07-05/
LOCATION:Mayor’s West Conference Room\, 100 E Michigan Blvd\, Michigan City\, 46360\, United States
CATEGORIES:Community Enrichment Corporation
END:VEVENT
BEGIN:VEVENT
DTSTART;TZID=America/Chicago:20280802T170000
DTEND;TZID=America/Chicago:20280802T180000
DTSTAMP:20260422T170744
CREATED:20250608T213740Z
LAST-MODIFIED:20250608T213740Z
UID:10000821-1848848400-1848852000@michigancityin.gov
SUMMARY:Community Enrichment Corporation Regular Meeting
DESCRIPTION:
URL:https://michigancityin.gov/city-event/community-enrichment-corporation-regular-meeting/2028-08-02/
LOCATION:Mayor’s West Conference Room\, 100 E Michigan Blvd\, Michigan City\, 46360\, United States
CATEGORIES:Community Enrichment Corporation
END:VEVENT
BEGIN:VEVENT
DTSTART;TZID=America/Chicago:20280906T170000
DTEND;TZID=America/Chicago:20280906T180000
DTSTAMP:20260422T170744
CREATED:20250608T213740Z
LAST-MODIFIED:20250608T213740Z
UID:10000822-1851872400-1851876000@michigancityin.gov
SUMMARY:Community Enrichment Corporation Regular Meeting
DESCRIPTION:
URL:https://michigancityin.gov/city-event/community-enrichment-corporation-regular-meeting/2028-09-06/
LOCATION:Mayor’s West Conference Room\, 100 E Michigan Blvd\, Michigan City\, 46360\, United States
CATEGORIES:Community Enrichment Corporation
END:VEVENT
BEGIN:VEVENT
DTSTART;TZID=America/Chicago:20281004T170000
DTEND;TZID=America/Chicago:20281004T180000
DTSTAMP:20260422T170744
CREATED:20250608T213740Z
LAST-MODIFIED:20250608T213740Z
UID:10000823-1854291600-1854295200@michigancityin.gov
SUMMARY:Community Enrichment Corporation Regular Meeting
DESCRIPTION:
URL:https://michigancityin.gov/city-event/community-enrichment-corporation-regular-meeting/2028-10-04/
LOCATION:Mayor’s West Conference Room\, 100 E Michigan Blvd\, Michigan City\, 46360\, United States
CATEGORIES:Community Enrichment Corporation
END:VEVENT
END:VCALENDAR