BEGIN:VCALENDAR
VERSION:2.0
PRODID:-//City of Michigan City Indiana - ECPv6.15.20//NONSGML v1.0//EN
CALSCALE:GREGORIAN
METHOD:PUBLISH
X-ORIGINAL-URL:https://michigancityin.gov
X-WR-CALDESC:Events for City of Michigan City Indiana
REFRESH-INTERVAL;VALUE=DURATION:PT1H
X-Robots-Tag:noindex
X-PUBLISHED-TTL:PT1H
BEGIN:VTIMEZONE
TZID:America/Chicago
BEGIN:DAYLIGHT
TZOFFSETFROM:-0600
TZOFFSETTO:-0500
TZNAME:CDT
DTSTART:20250309T080000
END:DAYLIGHT
BEGIN:STANDARD
TZOFFSETFROM:-0500
TZOFFSETTO:-0600
TZNAME:CST
DTSTART:20251102T070000
END:STANDARD
BEGIN:DAYLIGHT
TZOFFSETFROM:-0600
TZOFFSETTO:-0500
TZNAME:CDT
DTSTART:20260308T080000
END:DAYLIGHT
BEGIN:STANDARD
TZOFFSETFROM:-0500
TZOFFSETTO:-0600
TZNAME:CST
DTSTART:20261101T070000
END:STANDARD
BEGIN:DAYLIGHT
TZOFFSETFROM:-0600
TZOFFSETTO:-0500
TZNAME:CDT
DTSTART:20270314T080000
END:DAYLIGHT
BEGIN:STANDARD
TZOFFSETFROM:-0500
TZOFFSETTO:-0600
TZNAME:CST
DTSTART:20271107T070000
END:STANDARD
END:VTIMEZONE
BEGIN:VEVENT
DTSTART;TZID=America/Chicago:20260302T170000
DTEND;TZID=America/Chicago:20260302T180000
DTSTAMP:20260422T175757
CREATED:20250609T014231Z
LAST-MODIFIED:20250609T014231Z
UID:10000912-1772470800-1772474400@michigancityin.gov
SUMMARY:Fire Merit Commission Regular Meeting
DESCRIPTION:
URL:https://michigancityin.gov/city-event/fire-merit-commission-regular-meeting/2026-03-02/
LOCATION:Fire Administrative Offices & Training Center\, 2510 E Michigan Blvd\, Michigan City\, 46360\, United States
CATEGORIES:Fire Merit Commission
END:VEVENT
BEGIN:VEVENT
DTSTART;TZID=America/Chicago:20260312T153000
DTEND;TZID=America/Chicago:20260312T163000
DTSTAMP:20260422T175757
CREATED:20260309T195335Z
LAST-MODIFIED:20260309T195335Z
UID:10003450-1773329400-1773333000@michigancityin.gov
SUMMARY:Fire Merit Commission Special Meeting
DESCRIPTION:
URL:https://michigancityin.gov/city-event/fire-merit-commission-special-meeting/
CATEGORIES:Fire Merit Commission
END:VEVENT
END:VCALENDAR