BEGIN:VCALENDAR
VERSION:2.0
PRODID:-//City of Michigan City Indiana - ECPv6.15.20//NONSGML v1.0//EN
CALSCALE:GREGORIAN
METHOD:PUBLISH
X-ORIGINAL-URL:https://michigancityin.gov
X-WR-CALDESC:Events for City of Michigan City Indiana
REFRESH-INTERVAL;VALUE=DURATION:PT1H
X-Robots-Tag:noindex
X-PUBLISHED-TTL:PT1H
BEGIN:VTIMEZONE
TZID:America/Chicago
BEGIN:DAYLIGHT
TZOFFSETFROM:-0600
TZOFFSETTO:-0500
TZNAME:CDT
DTSTART:20240310T080000
END:DAYLIGHT
BEGIN:STANDARD
TZOFFSETFROM:-0500
TZOFFSETTO:-0600
TZNAME:CST
DTSTART:20241103T070000
END:STANDARD
BEGIN:DAYLIGHT
TZOFFSETFROM:-0600
TZOFFSETTO:-0500
TZNAME:CDT
DTSTART:20250309T080000
END:DAYLIGHT
BEGIN:STANDARD
TZOFFSETFROM:-0500
TZOFFSETTO:-0600
TZNAME:CST
DTSTART:20251102T070000
END:STANDARD
BEGIN:DAYLIGHT
TZOFFSETFROM:-0600
TZOFFSETTO:-0500
TZNAME:CDT
DTSTART:20260308T080000
END:DAYLIGHT
BEGIN:STANDARD
TZOFFSETFROM:-0500
TZOFFSETTO:-0600
TZNAME:CST
DTSTART:20261101T070000
END:STANDARD
BEGIN:DAYLIGHT
TZOFFSETFROM:-0600
TZOFFSETTO:-0500
TZNAME:CDT
DTSTART:20270314T080000
END:DAYLIGHT
BEGIN:STANDARD
TZOFFSETFROM:-0500
TZOFFSETTO:-0600
TZNAME:CST
DTSTART:20271107T070000
END:STANDARD
END:VTIMEZONE
BEGIN:VEVENT
DTSTART;TZID=America/Chicago:20260323T180000
DTEND;TZID=America/Chicago:20260323T190000
DTSTAMP:20260422T145819
CREATED:20250609T014537Z
LAST-MODIFIED:20260126T182021Z
UID:10000973-1774288800-1774292400@michigancityin.gov
SUMMARY:Historic Preservation Commission Regular Meeting
DESCRIPTION:
URL:https://michigancityin.gov/city-event/historic-preservation-commission-regular-meeting/2026-03-23/
LOCATION:Council Chambers – City Hall 100 East  Michigan Boulevard Michigan City IN 46360
CATEGORIES:Historic Preservation Commission
END:VEVENT
BEGIN:VEVENT
DTSTART;TZID=America/Chicago:20260323T170000
DTEND;TZID=America/Chicago:20260323T180000
DTSTAMP:20260422T145819
CREATED:20260316T185722Z
LAST-MODIFIED:20260317T144122Z
UID:10003466-1774285200-1774288800@michigancityin.gov
SUMMARY:Historic Preservation Workshop
DESCRIPTION:
URL:https://michigancityin.gov/city-event/historic-preservation-executive-session/
LOCATION:EOC Room\, 100 E Michigan Blvd\, Michigan City\, 46360\, United States
CATEGORIES:Historic Preservation Commission
END:VEVENT
BEGIN:VEVENT
DTSTART;TZID=America/Chicago:20260223T180000
DTEND;TZID=America/Chicago:20260223T190000
DTSTAMP:20260422T145819
CREATED:20250609T014537Z
LAST-MODIFIED:20260126T182021Z
UID:10000972-1771869600-1771873200@michigancityin.gov
SUMMARY:Historic Preservation Commission Regular Meeting
DESCRIPTION:
URL:https://michigancityin.gov/city-event/historic-preservation-commission-regular-meeting/2026-02-23/
LOCATION:Council Chambers – City Hall 100 East  Michigan Boulevard Michigan City IN 46360
CATEGORIES:Historic Preservation Commission
END:VEVENT
BEGIN:VEVENT
DTSTART;TZID=America/Chicago:20260202T180000
DTEND;TZID=America/Chicago:20260202T190000
DTSTAMP:20260422T145819
CREATED:20260126T182805Z
LAST-MODIFIED:20260126T182818Z
UID:10000971-1770055200-1770058800@michigancityin.gov
SUMMARY:Historic Preservation Commission Regular Meeting
DESCRIPTION:
URL:https://michigancityin.gov/city-event/historic-preservation-commission-regular-meeting-4/
LOCATION:Council Chambers – City Hall 100 East  Michigan Boulevard Michigan City IN 46360
CATEGORIES:Historic Preservation Commission
END:VEVENT
BEGIN:VEVENT
DTSTART;TZID=America/Chicago:20260126T180000
DTEND;TZID=America/Chicago:20260126T190000
DTSTAMP:20260422T145819
CREATED:20250609T014537Z
LAST-MODIFIED:20260126T182021Z
UID:10003360-1769450400-1769454000@michigancityin.gov
SUMMARY:Historic Preservation Commission Regular Meeting
DESCRIPTION:
URL:https://michigancityin.gov/city-event/historic-preservation-commission-regular-meeting/2026-01-26/
LOCATION:Council Chambers – City Hall 100 East  Michigan Boulevard Michigan City IN 46360
CATEGORIES:Historic Preservation Commission
END:VEVENT
BEGIN:VEVENT
DTSTART;TZID=America/Chicago:20251222T180000
DTEND;TZID=America/Chicago:20251222T190000
DTSTAMP:20260422T145819
CREATED:20250609T014537Z
LAST-MODIFIED:20260126T182021Z
UID:10003350-1766426400-1766430000@michigancityin.gov
SUMMARY:Historic Preservation Commission Regular Meeting
DESCRIPTION:
URL:https://michigancityin.gov/city-event/historic-preservation-commission-regular-meeting/2025-12-22/
LOCATION:Council Chambers – City Hall 100 East  Michigan Boulevard Michigan City IN 46360
CATEGORIES:Historic Preservation Commission
END:VEVENT
BEGIN:VEVENT
DTSTART;TZID=America/Chicago:20251215T180000
DTEND;TZID=America/Chicago:20251215T190000
DTSTAMP:20260422T145819
CREATED:20250908T195548Z
LAST-MODIFIED:20250908T195605Z
UID:10000970-1765821600-1765825200@michigancityin.gov
SUMMARY:Historic Preservation Commission Regular Meeting
DESCRIPTION:
URL:https://michigancityin.gov/city-event/historic-preservation-commission-regular-meeting-3/
LOCATION:ALCO Meeting Studio\, 301 E. 8th St.\, Michigan City\, 46360\, United States
CATEGORIES:Historic Preservation Commission
END:VEVENT
BEGIN:VEVENT
DTSTART;TZID=America/Chicago:20251124T180000
DTEND;TZID=America/Chicago:20251124T190000
DTSTAMP:20260422T145819
CREATED:20250609T014537Z
LAST-MODIFIED:20260126T182021Z
UID:10003349-1764007200-1764010800@michigancityin.gov
SUMMARY:Historic Preservation Commission Regular Meeting
DESCRIPTION:
URL:https://michigancityin.gov/city-event/historic-preservation-commission-regular-meeting/2025-11-24/
LOCATION:Council Chambers – City Hall 100 East  Michigan Boulevard Michigan City IN 46360
CATEGORIES:Historic Preservation Commission
END:VEVENT
BEGIN:VEVENT
DTSTART;TZID=America/Chicago:20251117T180000
DTEND;TZID=America/Chicago:20251117T190000
DTSTAMP:20260422T145819
CREATED:20250908T195327Z
LAST-MODIFIED:20250908T195446Z
UID:10000969-1763402400-1763406000@michigancityin.gov
SUMMARY:Historic Preservation Commission Regular Meeting
DESCRIPTION:
URL:https://michigancityin.gov/city-event/historic-preservation-commission-regular-meeting-2/
LOCATION:ALCO Meeting Studio\, 301 E. 8th St.\, Michigan City\, 46360\, United States
CATEGORIES:Historic Preservation Commission
END:VEVENT
BEGIN:VEVENT
DTSTART;TZID=America/Chicago:20251027T180000
DTEND;TZID=America/Chicago:20251027T190000
DTSTAMP:20260422T145819
CREATED:20250609T014537Z
LAST-MODIFIED:20260126T182021Z
UID:10000968-1761588000-1761591600@michigancityin.gov
SUMMARY:Historic Preservation Commission Regular Meeting
DESCRIPTION:
URL:https://michigancityin.gov/city-event/historic-preservation-commission-regular-meeting/2025-10-27/
LOCATION:Council Chambers – City Hall 100 East  Michigan Boulevard Michigan City IN 46360
CATEGORIES:Historic Preservation Commission
END:VEVENT
BEGIN:VEVENT
DTSTART;TZID=America/Chicago:20250922T180000
DTEND;TZID=America/Chicago:20250922T190000
DTSTAMP:20260422T145819
CREATED:20250609T014537Z
LAST-MODIFIED:20260126T182021Z
UID:10000967-1758564000-1758567600@michigancityin.gov
SUMMARY:Historic Preservation Commission Regular Meeting
DESCRIPTION:
URL:https://michigancityin.gov/city-event/historic-preservation-commission-regular-meeting/2025-09-22/
LOCATION:Council Chambers – City Hall 100 East  Michigan Boulevard Michigan City IN 46360
CATEGORIES:Historic Preservation Commission
END:VEVENT
BEGIN:VEVENT
DTSTART;TZID=America/Chicago:20250825T180000
DTEND;TZID=America/Chicago:20250825T190000
DTSTAMP:20260422T145819
CREATED:20250609T014537Z
LAST-MODIFIED:20260126T182021Z
UID:10000966-1756144800-1756148400@michigancityin.gov
SUMMARY:Historic Preservation Commission Regular Meeting
DESCRIPTION:
URL:https://michigancityin.gov/city-event/historic-preservation-commission-regular-meeting/2025-08-25/
LOCATION:Council Chambers – City Hall 100 East  Michigan Boulevard Michigan City IN 46360
CATEGORIES:Historic Preservation Commission
END:VEVENT
BEGIN:VEVENT
DTSTART;TZID=America/Chicago:20250728T180000
DTEND;TZID=America/Chicago:20250728T190000
DTSTAMP:20260422T145819
CREATED:20250609T014537Z
LAST-MODIFIED:20260126T182021Z
UID:10000965-1753725600-1753729200@michigancityin.gov
SUMMARY:Historic Preservation Commission Regular Meeting
DESCRIPTION:
URL:https://michigancityin.gov/city-event/historic-preservation-commission-regular-meeting/2025-07-28/
LOCATION:Council Chambers – City Hall 100 East  Michigan Boulevard Michigan City IN 46360
CATEGORIES:Historic Preservation Commission
END:VEVENT
BEGIN:VEVENT
DTSTART;TZID=America/Chicago:20250623T180000
DTEND;TZID=America/Chicago:20250623T190000
DTSTAMP:20260422T145819
CREATED:20250609T014537Z
LAST-MODIFIED:20260126T182021Z
UID:10000964-1750701600-1750705200@michigancityin.gov
SUMMARY:Historic Preservation Commission Regular Meeting
DESCRIPTION:
URL:https://michigancityin.gov/city-event/historic-preservation-commission-regular-meeting/2025-06-23/
LOCATION:Council Chambers – City Hall 100 East  Michigan Boulevard Michigan City IN 46360
CATEGORIES:Historic Preservation Commission
END:VEVENT
END:VCALENDAR