BEGIN:VCALENDAR
VERSION:2.0
PRODID:-//City of Michigan City Indiana - ECPv6.15.20//NONSGML v1.0//EN
CALSCALE:GREGORIAN
METHOD:PUBLISH
X-ORIGINAL-URL:https://michigancityin.gov
X-WR-CALDESC:Events for City of Michigan City Indiana
REFRESH-INTERVAL;VALUE=DURATION:PT1H
X-Robots-Tag:noindex
X-PUBLISHED-TTL:PT1H
BEGIN:VTIMEZONE
TZID:America/Chicago
BEGIN:DAYLIGHT
TZOFFSETFROM:-0600
TZOFFSETTO:-0500
TZNAME:CDT
DTSTART:20260308T080000
END:DAYLIGHT
BEGIN:STANDARD
TZOFFSETFROM:-0500
TZOFFSETTO:-0600
TZNAME:CST
DTSTART:20261101T070000
END:STANDARD
BEGIN:DAYLIGHT
TZOFFSETFROM:-0600
TZOFFSETTO:-0500
TZNAME:CDT
DTSTART:20270314T080000
END:DAYLIGHT
BEGIN:STANDARD
TZOFFSETFROM:-0500
TZOFFSETTO:-0600
TZNAME:CST
DTSTART:20271107T070000
END:STANDARD
BEGIN:DAYLIGHT
TZOFFSETFROM:-0600
TZOFFSETTO:-0500
TZNAME:CDT
DTSTART:20280312T080000
END:DAYLIGHT
BEGIN:STANDARD
TZOFFSETFROM:-0500
TZOFFSETTO:-0600
TZNAME:CST
DTSTART:20281105T070000
END:STANDARD
BEGIN:DAYLIGHT
TZOFFSETFROM:-0600
TZOFFSETTO:-0500
TZNAME:CDT
DTSTART:20290311T080000
END:DAYLIGHT
BEGIN:STANDARD
TZOFFSETFROM:-0500
TZOFFSETTO:-0600
TZNAME:CST
DTSTART:20291104T070000
END:STANDARD
BEGIN:DAYLIGHT
TZOFFSETFROM:-0600
TZOFFSETTO:-0500
TZNAME:CDT
DTSTART:20300310T080000
END:DAYLIGHT
BEGIN:STANDARD
TZOFFSETFROM:-0500
TZOFFSETTO:-0600
TZNAME:CST
DTSTART:20301103T070000
END:STANDARD
END:VTIMEZONE
BEGIN:VEVENT
DTSTART;TZID=America/Chicago:20270222T180000
DTEND;TZID=America/Chicago:20270222T190000
DTSTAMP:20260422T192959
CREATED:20250609T014537Z
LAST-MODIFIED:20260126T182021Z
UID:10000984-1803319200-1803322800@michigancityin.gov
SUMMARY:Historic Preservation Commission Regular Meeting
DESCRIPTION:
URL:https://michigancityin.gov/city-event/historic-preservation-commission-regular-meeting/2027-02-22/
LOCATION:Council Chambers – City Hall 100 East  Michigan Boulevard Michigan City IN 46360
CATEGORIES:Historic Preservation Commission
END:VEVENT
BEGIN:VEVENT
DTSTART;TZID=America/Chicago:20270322T180000
DTEND;TZID=America/Chicago:20270322T190000
DTSTAMP:20260422T192959
CREATED:20250609T014537Z
LAST-MODIFIED:20260126T182021Z
UID:10000985-1805738400-1805742000@michigancityin.gov
SUMMARY:Historic Preservation Commission Regular Meeting
DESCRIPTION:
URL:https://michigancityin.gov/city-event/historic-preservation-commission-regular-meeting/2027-03-22/
LOCATION:Council Chambers – City Hall 100 East  Michigan Boulevard Michigan City IN 46360
CATEGORIES:Historic Preservation Commission
END:VEVENT
BEGIN:VEVENT
DTSTART;TZID=America/Chicago:20270426T180000
DTEND;TZID=America/Chicago:20270426T190000
DTSTAMP:20260422T192959
CREATED:20250609T014537Z
LAST-MODIFIED:20260126T182021Z
UID:10000986-1808762400-1808766000@michigancityin.gov
SUMMARY:Historic Preservation Commission Regular Meeting
DESCRIPTION:
URL:https://michigancityin.gov/city-event/historic-preservation-commission-regular-meeting/2027-04-26/
LOCATION:Council Chambers – City Hall 100 East  Michigan Boulevard Michigan City IN 46360
CATEGORIES:Historic Preservation Commission
END:VEVENT
BEGIN:VEVENT
DTSTART;TZID=America/Chicago:20270524T180000
DTEND;TZID=America/Chicago:20270524T190000
DTSTAMP:20260422T192959
CREATED:20250609T014537Z
LAST-MODIFIED:20260126T182021Z
UID:10000987-1811181600-1811185200@michigancityin.gov
SUMMARY:Historic Preservation Commission Regular Meeting
DESCRIPTION:
URL:https://michigancityin.gov/city-event/historic-preservation-commission-regular-meeting/2027-05-24/
LOCATION:Council Chambers – City Hall 100 East  Michigan Boulevard Michigan City IN 46360
CATEGORIES:Historic Preservation Commission
END:VEVENT
BEGIN:VEVENT
DTSTART;TZID=America/Chicago:20270628T180000
DTEND;TZID=America/Chicago:20270628T190000
DTSTAMP:20260422T192959
CREATED:20250609T014537Z
LAST-MODIFIED:20260126T182021Z
UID:10000988-1814205600-1814209200@michigancityin.gov
SUMMARY:Historic Preservation Commission Regular Meeting
DESCRIPTION:
URL:https://michigancityin.gov/city-event/historic-preservation-commission-regular-meeting/2027-06-28/
LOCATION:Council Chambers – City Hall 100 East  Michigan Boulevard Michigan City IN 46360
CATEGORIES:Historic Preservation Commission
END:VEVENT
BEGIN:VEVENT
DTSTART;TZID=America/Chicago:20270726T180000
DTEND;TZID=America/Chicago:20270726T190000
DTSTAMP:20260422T192959
CREATED:20250609T014537Z
LAST-MODIFIED:20260126T182021Z
UID:10000989-1816624800-1816628400@michigancityin.gov
SUMMARY:Historic Preservation Commission Regular Meeting
DESCRIPTION:
URL:https://michigancityin.gov/city-event/historic-preservation-commission-regular-meeting/2027-07-26/
LOCATION:Council Chambers – City Hall 100 East  Michigan Boulevard Michigan City IN 46360
CATEGORIES:Historic Preservation Commission
END:VEVENT
BEGIN:VEVENT
DTSTART;TZID=America/Chicago:20270823T180000
DTEND;TZID=America/Chicago:20270823T190000
DTSTAMP:20260422T192959
CREATED:20250609T014537Z
LAST-MODIFIED:20260126T182021Z
UID:10000990-1819044000-1819047600@michigancityin.gov
SUMMARY:Historic Preservation Commission Regular Meeting
DESCRIPTION:
URL:https://michigancityin.gov/city-event/historic-preservation-commission-regular-meeting/2027-08-23/
LOCATION:Council Chambers – City Hall 100 East  Michigan Boulevard Michigan City IN 46360
CATEGORIES:Historic Preservation Commission
END:VEVENT
BEGIN:VEVENT
DTSTART;TZID=America/Chicago:20270927T180000
DTEND;TZID=America/Chicago:20270927T190000
DTSTAMP:20260422T192959
CREATED:20250609T014537Z
LAST-MODIFIED:20260126T182021Z
UID:10000991-1822068000-1822071600@michigancityin.gov
SUMMARY:Historic Preservation Commission Regular Meeting
DESCRIPTION:
URL:https://michigancityin.gov/city-event/historic-preservation-commission-regular-meeting/2027-09-27/
LOCATION:Council Chambers – City Hall 100 East  Michigan Boulevard Michigan City IN 46360
CATEGORIES:Historic Preservation Commission
END:VEVENT
BEGIN:VEVENT
DTSTART;TZID=America/Chicago:20271025T180000
DTEND;TZID=America/Chicago:20271025T190000
DTSTAMP:20260422T192959
CREATED:20250609T014537Z
LAST-MODIFIED:20260126T182021Z
UID:10000992-1824487200-1824490800@michigancityin.gov
SUMMARY:Historic Preservation Commission Regular Meeting
DESCRIPTION:
URL:https://michigancityin.gov/city-event/historic-preservation-commission-regular-meeting/2027-10-25/
LOCATION:Council Chambers – City Hall 100 East  Michigan Boulevard Michigan City IN 46360
CATEGORIES:Historic Preservation Commission
END:VEVENT
BEGIN:VEVENT
DTSTART;TZID=America/Chicago:20271122T180000
DTEND;TZID=America/Chicago:20271122T190000
DTSTAMP:20260422T192959
CREATED:20250609T014537Z
LAST-MODIFIED:20260126T182021Z
UID:10000993-1826906400-1826910000@michigancityin.gov
SUMMARY:Historic Preservation Commission Regular Meeting
DESCRIPTION:
URL:https://michigancityin.gov/city-event/historic-preservation-commission-regular-meeting/2027-11-22/
LOCATION:Council Chambers – City Hall 100 East  Michigan Boulevard Michigan City IN 46360
CATEGORIES:Historic Preservation Commission
END:VEVENT
BEGIN:VEVENT
DTSTART;TZID=America/Chicago:20271227T180000
DTEND;TZID=America/Chicago:20271227T190000
DTSTAMP:20260422T192959
CREATED:20250609T014537Z
LAST-MODIFIED:20260126T182021Z
UID:10000994-1829930400-1829934000@michigancityin.gov
SUMMARY:Historic Preservation Commission Regular Meeting
DESCRIPTION:
URL:https://michigancityin.gov/city-event/historic-preservation-commission-regular-meeting/2027-12-27/
LOCATION:Council Chambers – City Hall 100 East  Michigan Boulevard Michigan City IN 46360
CATEGORIES:Historic Preservation Commission
END:VEVENT
BEGIN:VEVENT
DTSTART;TZID=America/Chicago:20280124T180000
DTEND;TZID=America/Chicago:20280124T190000
DTSTAMP:20260422T192959
CREATED:20250609T014537Z
LAST-MODIFIED:20260126T182021Z
UID:10000995-1832349600-1832353200@michigancityin.gov
SUMMARY:Historic Preservation Commission Regular Meeting
DESCRIPTION:
URL:https://michigancityin.gov/city-event/historic-preservation-commission-regular-meeting/2028-01-24/
LOCATION:Council Chambers – City Hall 100 East  Michigan Boulevard Michigan City IN 46360
CATEGORIES:Historic Preservation Commission
END:VEVENT
BEGIN:VEVENT
DTSTART;TZID=America/Chicago:20280228T180000
DTEND;TZID=America/Chicago:20280228T190000
DTSTAMP:20260422T192959
CREATED:20250609T014537Z
LAST-MODIFIED:20260126T182021Z
UID:10000996-1835373600-1835377200@michigancityin.gov
SUMMARY:Historic Preservation Commission Regular Meeting
DESCRIPTION:
URL:https://michigancityin.gov/city-event/historic-preservation-commission-regular-meeting/2028-02-28/
LOCATION:Council Chambers – City Hall 100 East  Michigan Boulevard Michigan City IN 46360
CATEGORIES:Historic Preservation Commission
END:VEVENT
BEGIN:VEVENT
DTSTART;TZID=America/Chicago:20280327T180000
DTEND;TZID=America/Chicago:20280327T190000
DTSTAMP:20260422T192959
CREATED:20250609T014537Z
LAST-MODIFIED:20260126T182021Z
UID:10000997-1837792800-1837796400@michigancityin.gov
SUMMARY:Historic Preservation Commission Regular Meeting
DESCRIPTION:
URL:https://michigancityin.gov/city-event/historic-preservation-commission-regular-meeting/2028-03-27/
LOCATION:Council Chambers – City Hall 100 East  Michigan Boulevard Michigan City IN 46360
CATEGORIES:Historic Preservation Commission
END:VEVENT
BEGIN:VEVENT
DTSTART;TZID=America/Chicago:20280424T180000
DTEND;TZID=America/Chicago:20280424T190000
DTSTAMP:20260422T192959
CREATED:20250609T014537Z
LAST-MODIFIED:20260126T182021Z
UID:10000998-1840212000-1840215600@michigancityin.gov
SUMMARY:Historic Preservation Commission Regular Meeting
DESCRIPTION:
URL:https://michigancityin.gov/city-event/historic-preservation-commission-regular-meeting/2028-04-24/
LOCATION:Council Chambers – City Hall 100 East  Michigan Boulevard Michigan City IN 46360
CATEGORIES:Historic Preservation Commission
END:VEVENT
BEGIN:VEVENT
DTSTART;TZID=America/Chicago:20280522T180000
DTEND;TZID=America/Chicago:20280522T190000
DTSTAMP:20260422T192959
CREATED:20250609T014537Z
LAST-MODIFIED:20260126T182021Z
UID:10000999-1842631200-1842634800@michigancityin.gov
SUMMARY:Historic Preservation Commission Regular Meeting
DESCRIPTION:
URL:https://michigancityin.gov/city-event/historic-preservation-commission-regular-meeting/2028-05-22/
LOCATION:Council Chambers – City Hall 100 East  Michigan Boulevard Michigan City IN 46360
CATEGORIES:Historic Preservation Commission
END:VEVENT
BEGIN:VEVENT
DTSTART;TZID=America/Chicago:20280626T180000
DTEND;TZID=America/Chicago:20280626T190000
DTSTAMP:20260422T192959
CREATED:20250609T014537Z
LAST-MODIFIED:20260126T182021Z
UID:10001000-1845655200-1845658800@michigancityin.gov
SUMMARY:Historic Preservation Commission Regular Meeting
DESCRIPTION:
URL:https://michigancityin.gov/city-event/historic-preservation-commission-regular-meeting/2028-06-26/
LOCATION:Council Chambers – City Hall 100 East  Michigan Boulevard Michigan City IN 46360
CATEGORIES:Historic Preservation Commission
END:VEVENT
BEGIN:VEVENT
DTSTART;TZID=America/Chicago:20280724T180000
DTEND;TZID=America/Chicago:20280724T190000
DTSTAMP:20260422T192959
CREATED:20250609T014537Z
LAST-MODIFIED:20260126T182021Z
UID:10001001-1848074400-1848078000@michigancityin.gov
SUMMARY:Historic Preservation Commission Regular Meeting
DESCRIPTION:
URL:https://michigancityin.gov/city-event/historic-preservation-commission-regular-meeting/2028-07-24/
LOCATION:Council Chambers – City Hall 100 East  Michigan Boulevard Michigan City IN 46360
CATEGORIES:Historic Preservation Commission
END:VEVENT
BEGIN:VEVENT
DTSTART;TZID=America/Chicago:20280828T180000
DTEND;TZID=America/Chicago:20280828T190000
DTSTAMP:20260422T192959
CREATED:20250609T014537Z
LAST-MODIFIED:20260126T182021Z
UID:10001002-1851098400-1851102000@michigancityin.gov
SUMMARY:Historic Preservation Commission Regular Meeting
DESCRIPTION:
URL:https://michigancityin.gov/city-event/historic-preservation-commission-regular-meeting/2028-08-28/
LOCATION:Council Chambers – City Hall 100 East  Michigan Boulevard Michigan City IN 46360
CATEGORIES:Historic Preservation Commission
END:VEVENT
BEGIN:VEVENT
DTSTART;TZID=America/Chicago:20280925T180000
DTEND;TZID=America/Chicago:20280925T190000
DTSTAMP:20260422T192959
CREATED:20250609T014537Z
LAST-MODIFIED:20260126T182021Z
UID:10001003-1853517600-1853521200@michigancityin.gov
SUMMARY:Historic Preservation Commission Regular Meeting
DESCRIPTION:
URL:https://michigancityin.gov/city-event/historic-preservation-commission-regular-meeting/2028-09-25/
LOCATION:Council Chambers – City Hall 100 East  Michigan Boulevard Michigan City IN 46360
CATEGORIES:Historic Preservation Commission
END:VEVENT
BEGIN:VEVENT
DTSTART;TZID=America/Chicago:20281023T180000
DTEND;TZID=America/Chicago:20281023T190000
DTSTAMP:20260422T192959
CREATED:20250609T014537Z
LAST-MODIFIED:20260126T182021Z
UID:10001004-1855936800-1855940400@michigancityin.gov
SUMMARY:Historic Preservation Commission Regular Meeting
DESCRIPTION:
URL:https://michigancityin.gov/city-event/historic-preservation-commission-regular-meeting/2028-10-23/
LOCATION:Council Chambers – City Hall 100 East  Michigan Boulevard Michigan City IN 46360
CATEGORIES:Historic Preservation Commission
END:VEVENT
BEGIN:VEVENT
DTSTART;TZID=America/Chicago:20281127T180000
DTEND;TZID=America/Chicago:20281127T190000
DTSTAMP:20260422T192959
CREATED:20250609T014537Z
LAST-MODIFIED:20260126T182021Z
UID:10001005-1858960800-1858964400@michigancityin.gov
SUMMARY:Historic Preservation Commission Regular Meeting
DESCRIPTION:
URL:https://michigancityin.gov/city-event/historic-preservation-commission-regular-meeting/2028-11-27/
LOCATION:Council Chambers – City Hall 100 East  Michigan Boulevard Michigan City IN 46360
CATEGORIES:Historic Preservation Commission
END:VEVENT
BEGIN:VEVENT
DTSTART;TZID=America/Chicago:20281225T180000
DTEND;TZID=America/Chicago:20281225T190000
DTSTAMP:20260422T192959
CREATED:20250609T014537Z
LAST-MODIFIED:20260126T182021Z
UID:10001006-1861380000-1861383600@michigancityin.gov
SUMMARY:Historic Preservation Commission Regular Meeting
DESCRIPTION:
URL:https://michigancityin.gov/city-event/historic-preservation-commission-regular-meeting/2028-12-25/
LOCATION:Council Chambers – City Hall 100 East  Michigan Boulevard Michigan City IN 46360
CATEGORIES:Historic Preservation Commission
END:VEVENT
BEGIN:VEVENT
DTSTART;TZID=America/Chicago:20290122T180000
DTEND;TZID=America/Chicago:20290122T190000
DTSTAMP:20260422T192959
CREATED:20250609T014537Z
LAST-MODIFIED:20260126T182021Z
UID:10001007-1863799200-1863802800@michigancityin.gov
SUMMARY:Historic Preservation Commission Regular Meeting
DESCRIPTION:
URL:https://michigancityin.gov/city-event/historic-preservation-commission-regular-meeting/2029-01-22/
LOCATION:Council Chambers – City Hall 100 East  Michigan Boulevard Michigan City IN 46360
CATEGORIES:Historic Preservation Commission
END:VEVENT
BEGIN:VEVENT
DTSTART;TZID=America/Chicago:20290226T180000
DTEND;TZID=America/Chicago:20290226T190000
DTSTAMP:20260422T192959
CREATED:20250609T014537Z
LAST-MODIFIED:20260126T182021Z
UID:10001008-1866823200-1866826800@michigancityin.gov
SUMMARY:Historic Preservation Commission Regular Meeting
DESCRIPTION:
URL:https://michigancityin.gov/city-event/historic-preservation-commission-regular-meeting/2029-02-26/
LOCATION:Council Chambers – City Hall 100 East  Michigan Boulevard Michigan City IN 46360
CATEGORIES:Historic Preservation Commission
END:VEVENT
BEGIN:VEVENT
DTSTART;TZID=America/Chicago:20290326T180000
DTEND;TZID=America/Chicago:20290326T190000
DTSTAMP:20260422T192959
CREATED:20250609T014537Z
LAST-MODIFIED:20260126T182021Z
UID:10001009-1869242400-1869246000@michigancityin.gov
SUMMARY:Historic Preservation Commission Regular Meeting
DESCRIPTION:
URL:https://michigancityin.gov/city-event/historic-preservation-commission-regular-meeting/2029-03-26/
LOCATION:Council Chambers – City Hall 100 East  Michigan Boulevard Michigan City IN 46360
CATEGORIES:Historic Preservation Commission
END:VEVENT
BEGIN:VEVENT
DTSTART;TZID=America/Chicago:20290423T180000
DTEND;TZID=America/Chicago:20290423T190000
DTSTAMP:20260422T192959
CREATED:20250609T014537Z
LAST-MODIFIED:20260126T182021Z
UID:10001010-1871661600-1871665200@michigancityin.gov
SUMMARY:Historic Preservation Commission Regular Meeting
DESCRIPTION:
URL:https://michigancityin.gov/city-event/historic-preservation-commission-regular-meeting/2029-04-23/
LOCATION:Council Chambers – City Hall 100 East  Michigan Boulevard Michigan City IN 46360
CATEGORIES:Historic Preservation Commission
END:VEVENT
BEGIN:VEVENT
DTSTART;TZID=America/Chicago:20290528T180000
DTEND;TZID=America/Chicago:20290528T190000
DTSTAMP:20260422T192959
CREATED:20250609T014537Z
LAST-MODIFIED:20260126T182021Z
UID:10001011-1874685600-1874689200@michigancityin.gov
SUMMARY:Historic Preservation Commission Regular Meeting
DESCRIPTION:
URL:https://michigancityin.gov/city-event/historic-preservation-commission-regular-meeting/2029-05-28/
LOCATION:Council Chambers – City Hall 100 East  Michigan Boulevard Michigan City IN 46360
CATEGORIES:Historic Preservation Commission
END:VEVENT
BEGIN:VEVENT
DTSTART;TZID=America/Chicago:20290625T180000
DTEND;TZID=America/Chicago:20290625T190000
DTSTAMP:20260422T192959
CREATED:20250609T014537Z
LAST-MODIFIED:20260126T182021Z
UID:10001012-1877104800-1877108400@michigancityin.gov
SUMMARY:Historic Preservation Commission Regular Meeting
DESCRIPTION:
URL:https://michigancityin.gov/city-event/historic-preservation-commission-regular-meeting/2029-06-25/
LOCATION:Council Chambers – City Hall 100 East  Michigan Boulevard Michigan City IN 46360
CATEGORIES:Historic Preservation Commission
END:VEVENT
BEGIN:VEVENT
DTSTART;TZID=America/Chicago:20290723T180000
DTEND;TZID=America/Chicago:20290723T190000
DTSTAMP:20260422T192959
CREATED:20250609T014537Z
LAST-MODIFIED:20260126T182021Z
UID:10001013-1879524000-1879527600@michigancityin.gov
SUMMARY:Historic Preservation Commission Regular Meeting
DESCRIPTION:
URL:https://michigancityin.gov/city-event/historic-preservation-commission-regular-meeting/2029-07-23/
LOCATION:Council Chambers – City Hall 100 East  Michigan Boulevard Michigan City IN 46360
CATEGORIES:Historic Preservation Commission
END:VEVENT
END:VCALENDAR