BEGIN:VCALENDAR
VERSION:2.0
PRODID:-//City of Michigan City Indiana - ECPv6.15.20//NONSGML v1.0//EN
CALSCALE:GREGORIAN
METHOD:PUBLISH
X-WR-CALNAME:City of Michigan City Indiana
X-ORIGINAL-URL:https://michigancityin.gov
X-WR-CALDESC:Events for City of Michigan City Indiana
REFRESH-INTERVAL;VALUE=DURATION:PT1H
X-Robots-Tag:noindex
X-PUBLISHED-TTL:PT1H
BEGIN:VTIMEZONE
TZID:America/Chicago
BEGIN:DAYLIGHT
TZOFFSETFROM:-0600
TZOFFSETTO:-0500
TZNAME:CDT
DTSTART:20280312T080000
END:DAYLIGHT
BEGIN:STANDARD
TZOFFSETFROM:-0500
TZOFFSETTO:-0600
TZNAME:CST
DTSTART:20281105T070000
END:STANDARD
BEGIN:DAYLIGHT
TZOFFSETFROM:-0600
TZOFFSETTO:-0500
TZNAME:CDT
DTSTART:20290311T080000
END:DAYLIGHT
BEGIN:STANDARD
TZOFFSETFROM:-0500
TZOFFSETTO:-0600
TZNAME:CST
DTSTART:20291104T070000
END:STANDARD
BEGIN:DAYLIGHT
TZOFFSETFROM:-0600
TZOFFSETTO:-0500
TZNAME:CDT
DTSTART:20300310T080000
END:DAYLIGHT
BEGIN:STANDARD
TZOFFSETFROM:-0500
TZOFFSETTO:-0600
TZNAME:CST
DTSTART:20301103T070000
END:STANDARD
BEGIN:DAYLIGHT
TZOFFSETFROM:-0600
TZOFFSETTO:-0500
TZNAME:CDT
DTSTART:20310309T080000
END:DAYLIGHT
BEGIN:STANDARD
TZOFFSETFROM:-0500
TZOFFSETTO:-0600
TZNAME:CST
DTSTART:20311102T070000
END:STANDARD
BEGIN:DAYLIGHT
TZOFFSETFROM:-0600
TZOFFSETTO:-0500
TZNAME:CDT
DTSTART:20320314T080000
END:DAYLIGHT
BEGIN:STANDARD
TZOFFSETFROM:-0500
TZOFFSETTO:-0600
TZNAME:CST
DTSTART:20321107T070000
END:STANDARD
END:VTIMEZONE
BEGIN:VEVENT
DTSTART;TZID=America/Chicago:20290226T180000
DTEND;TZID=America/Chicago:20290226T190000
DTSTAMP:20260422T210328
CREATED:20250609T014537Z
LAST-MODIFIED:20260126T182021Z
UID:10001008-1866823200-1866826800@michigancityin.gov
SUMMARY:Historic Preservation Commission Regular Meeting
DESCRIPTION:
URL:https://michigancityin.gov/city-event/historic-preservation-commission-regular-meeting/2029-02-26/
LOCATION:Council Chambers – City Hall 100 East  Michigan Boulevard Michigan City IN 46360
CATEGORIES:Historic Preservation Commission
END:VEVENT
BEGIN:VEVENT
DTSTART;TZID=America/Chicago:20290326T180000
DTEND;TZID=America/Chicago:20290326T190000
DTSTAMP:20260422T210328
CREATED:20250609T014537Z
LAST-MODIFIED:20260126T182021Z
UID:10001009-1869242400-1869246000@michigancityin.gov
SUMMARY:Historic Preservation Commission Regular Meeting
DESCRIPTION:
URL:https://michigancityin.gov/city-event/historic-preservation-commission-regular-meeting/2029-03-26/
LOCATION:Council Chambers – City Hall 100 East  Michigan Boulevard Michigan City IN 46360
CATEGORIES:Historic Preservation Commission
END:VEVENT
BEGIN:VEVENT
DTSTART;TZID=America/Chicago:20290423T180000
DTEND;TZID=America/Chicago:20290423T190000
DTSTAMP:20260422T210328
CREATED:20250609T014537Z
LAST-MODIFIED:20260126T182021Z
UID:10001010-1871661600-1871665200@michigancityin.gov
SUMMARY:Historic Preservation Commission Regular Meeting
DESCRIPTION:
URL:https://michigancityin.gov/city-event/historic-preservation-commission-regular-meeting/2029-04-23/
LOCATION:Council Chambers – City Hall 100 East  Michigan Boulevard Michigan City IN 46360
CATEGORIES:Historic Preservation Commission
END:VEVENT
BEGIN:VEVENT
DTSTART;TZID=America/Chicago:20290528T180000
DTEND;TZID=America/Chicago:20290528T190000
DTSTAMP:20260422T210328
CREATED:20250609T014537Z
LAST-MODIFIED:20260126T182021Z
UID:10001011-1874685600-1874689200@michigancityin.gov
SUMMARY:Historic Preservation Commission Regular Meeting
DESCRIPTION:
URL:https://michigancityin.gov/city-event/historic-preservation-commission-regular-meeting/2029-05-28/
LOCATION:Council Chambers – City Hall 100 East  Michigan Boulevard Michigan City IN 46360
CATEGORIES:Historic Preservation Commission
END:VEVENT
BEGIN:VEVENT
DTSTART;TZID=America/Chicago:20290625T180000
DTEND;TZID=America/Chicago:20290625T190000
DTSTAMP:20260422T210328
CREATED:20250609T014537Z
LAST-MODIFIED:20260126T182021Z
UID:10001012-1877104800-1877108400@michigancityin.gov
SUMMARY:Historic Preservation Commission Regular Meeting
DESCRIPTION:
URL:https://michigancityin.gov/city-event/historic-preservation-commission-regular-meeting/2029-06-25/
LOCATION:Council Chambers – City Hall 100 East  Michigan Boulevard Michigan City IN 46360
CATEGORIES:Historic Preservation Commission
END:VEVENT
BEGIN:VEVENT
DTSTART;TZID=America/Chicago:20290723T180000
DTEND;TZID=America/Chicago:20290723T190000
DTSTAMP:20260422T210328
CREATED:20250609T014537Z
LAST-MODIFIED:20260126T182021Z
UID:10001013-1879524000-1879527600@michigancityin.gov
SUMMARY:Historic Preservation Commission Regular Meeting
DESCRIPTION:
URL:https://michigancityin.gov/city-event/historic-preservation-commission-regular-meeting/2029-07-23/
LOCATION:Council Chambers – City Hall 100 East  Michigan Boulevard Michigan City IN 46360
CATEGORIES:Historic Preservation Commission
END:VEVENT
BEGIN:VEVENT
DTSTART;TZID=America/Chicago:20290827T180000
DTEND;TZID=America/Chicago:20290827T190000
DTSTAMP:20260422T210328
CREATED:20250609T014537Z
LAST-MODIFIED:20260126T182021Z
UID:10001014-1882548000-1882551600@michigancityin.gov
SUMMARY:Historic Preservation Commission Regular Meeting
DESCRIPTION:
URL:https://michigancityin.gov/city-event/historic-preservation-commission-regular-meeting/2029-08-27/
LOCATION:Council Chambers – City Hall 100 East  Michigan Boulevard Michigan City IN 46360
CATEGORIES:Historic Preservation Commission
END:VEVENT
BEGIN:VEVENT
DTSTART;TZID=America/Chicago:20290924T180000
DTEND;TZID=America/Chicago:20290924T190000
DTSTAMP:20260422T210328
CREATED:20250609T014537Z
LAST-MODIFIED:20260126T182021Z
UID:10001015-1884967200-1884970800@michigancityin.gov
SUMMARY:Historic Preservation Commission Regular Meeting
DESCRIPTION:
URL:https://michigancityin.gov/city-event/historic-preservation-commission-regular-meeting/2029-09-24/
LOCATION:Council Chambers – City Hall 100 East  Michigan Boulevard Michigan City IN 46360
CATEGORIES:Historic Preservation Commission
END:VEVENT
BEGIN:VEVENT
DTSTART;TZID=America/Chicago:20291022T180000
DTEND;TZID=America/Chicago:20291022T190000
DTSTAMP:20260422T210328
CREATED:20250609T014537Z
LAST-MODIFIED:20260126T182021Z
UID:10001016-1887386400-1887390000@michigancityin.gov
SUMMARY:Historic Preservation Commission Regular Meeting
DESCRIPTION:
URL:https://michigancityin.gov/city-event/historic-preservation-commission-regular-meeting/2029-10-22/
LOCATION:Council Chambers – City Hall 100 East  Michigan Boulevard Michigan City IN 46360
CATEGORIES:Historic Preservation Commission
END:VEVENT
BEGIN:VEVENT
DTSTART;TZID=America/Chicago:20291126T180000
DTEND;TZID=America/Chicago:20291126T190000
DTSTAMP:20260422T210329
CREATED:20250609T014537Z
LAST-MODIFIED:20260126T182021Z
UID:10001017-1890410400-1890414000@michigancityin.gov
SUMMARY:Historic Preservation Commission Regular Meeting
DESCRIPTION:
URL:https://michigancityin.gov/city-event/historic-preservation-commission-regular-meeting/2029-11-26/
LOCATION:Council Chambers – City Hall 100 East  Michigan Boulevard Michigan City IN 46360
CATEGORIES:Historic Preservation Commission
END:VEVENT
BEGIN:VEVENT
DTSTART;TZID=America/Chicago:20291224T180000
DTEND;TZID=America/Chicago:20291224T190000
DTSTAMP:20260422T210329
CREATED:20250609T014537Z
LAST-MODIFIED:20260126T182021Z
UID:10001018-1892829600-1892833200@michigancityin.gov
SUMMARY:Historic Preservation Commission Regular Meeting
DESCRIPTION:
URL:https://michigancityin.gov/city-event/historic-preservation-commission-regular-meeting/2029-12-24/
LOCATION:Council Chambers – City Hall 100 East  Michigan Boulevard Michigan City IN 46360
CATEGORIES:Historic Preservation Commission
END:VEVENT
BEGIN:VEVENT
DTSTART;TZID=America/Chicago:20300128T180000
DTEND;TZID=America/Chicago:20300128T190000
DTSTAMP:20260422T210329
CREATED:20250609T014537Z
LAST-MODIFIED:20260126T182021Z
UID:10001019-1895853600-1895857200@michigancityin.gov
SUMMARY:Historic Preservation Commission Regular Meeting
DESCRIPTION:
URL:https://michigancityin.gov/city-event/historic-preservation-commission-regular-meeting/2030-01-28/
LOCATION:Council Chambers – City Hall 100 East  Michigan Boulevard Michigan City IN 46360
CATEGORIES:Historic Preservation Commission
END:VEVENT
BEGIN:VEVENT
DTSTART;TZID=America/Chicago:20300225T180000
DTEND;TZID=America/Chicago:20300225T190000
DTSTAMP:20260422T210329
CREATED:20250609T014537Z
LAST-MODIFIED:20260126T182021Z
UID:10001020-1898272800-1898276400@michigancityin.gov
SUMMARY:Historic Preservation Commission Regular Meeting
DESCRIPTION:
URL:https://michigancityin.gov/city-event/historic-preservation-commission-regular-meeting/2030-02-25/
LOCATION:Council Chambers – City Hall 100 East  Michigan Boulevard Michigan City IN 46360
CATEGORIES:Historic Preservation Commission
END:VEVENT
BEGIN:VEVENT
DTSTART;TZID=America/Chicago:20300325T180000
DTEND;TZID=America/Chicago:20300325T190000
DTSTAMP:20260422T210329
CREATED:20250609T014537Z
LAST-MODIFIED:20260126T182021Z
UID:10001021-1900692000-1900695600@michigancityin.gov
SUMMARY:Historic Preservation Commission Regular Meeting
DESCRIPTION:
URL:https://michigancityin.gov/city-event/historic-preservation-commission-regular-meeting/2030-03-25/
LOCATION:Council Chambers – City Hall 100 East  Michigan Boulevard Michigan City IN 46360
CATEGORIES:Historic Preservation Commission
END:VEVENT
BEGIN:VEVENT
DTSTART;TZID=America/Chicago:20300422T180000
DTEND;TZID=America/Chicago:20300422T190000
DTSTAMP:20260422T210329
CREATED:20250609T014537Z
LAST-MODIFIED:20260126T182021Z
UID:10001022-1903111200-1903114800@michigancityin.gov
SUMMARY:Historic Preservation Commission Regular Meeting
DESCRIPTION:
URL:https://michigancityin.gov/city-event/historic-preservation-commission-regular-meeting/2030-04-22/
LOCATION:Council Chambers – City Hall 100 East  Michigan Boulevard Michigan City IN 46360
CATEGORIES:Historic Preservation Commission
END:VEVENT
BEGIN:VEVENT
DTSTART;TZID=America/Chicago:20300527T180000
DTEND;TZID=America/Chicago:20300527T190000
DTSTAMP:20260422T210329
CREATED:20250609T014537Z
LAST-MODIFIED:20260126T182021Z
UID:10001023-1906135200-1906138800@michigancityin.gov
SUMMARY:Historic Preservation Commission Regular Meeting
DESCRIPTION:
URL:https://michigancityin.gov/city-event/historic-preservation-commission-regular-meeting/2030-05-27/
LOCATION:Council Chambers – City Hall 100 East  Michigan Boulevard Michigan City IN 46360
CATEGORIES:Historic Preservation Commission
END:VEVENT
BEGIN:VEVENT
DTSTART;TZID=America/Chicago:20300624T180000
DTEND;TZID=America/Chicago:20300624T190000
DTSTAMP:20260422T210329
CREATED:20250609T014537Z
LAST-MODIFIED:20260126T182021Z
UID:10003351-1908554400-1908558000@michigancityin.gov
SUMMARY:Historic Preservation Commission Regular Meeting
DESCRIPTION:
URL:https://michigancityin.gov/city-event/historic-preservation-commission-regular-meeting/2030-06-24/
LOCATION:Council Chambers – City Hall 100 East  Michigan Boulevard Michigan City IN 46360
CATEGORIES:Historic Preservation Commission
END:VEVENT
BEGIN:VEVENT
DTSTART;TZID=America/Chicago:20300722T180000
DTEND;TZID=America/Chicago:20300722T190000
DTSTAMP:20260422T210329
CREATED:20250609T014537Z
LAST-MODIFIED:20260126T182021Z
UID:10003352-1910973600-1910977200@michigancityin.gov
SUMMARY:Historic Preservation Commission Regular Meeting
DESCRIPTION:
URL:https://michigancityin.gov/city-event/historic-preservation-commission-regular-meeting/2030-07-22/
LOCATION:Council Chambers – City Hall 100 East  Michigan Boulevard Michigan City IN 46360
CATEGORIES:Historic Preservation Commission
END:VEVENT
BEGIN:VEVENT
DTSTART;TZID=America/Chicago:20300826T180000
DTEND;TZID=America/Chicago:20300826T190000
DTSTAMP:20260422T210329
CREATED:20250609T014537Z
LAST-MODIFIED:20260126T182021Z
UID:10003353-1913997600-1914001200@michigancityin.gov
SUMMARY:Historic Preservation Commission Regular Meeting
DESCRIPTION:
URL:https://michigancityin.gov/city-event/historic-preservation-commission-regular-meeting/2030-08-26/
LOCATION:Council Chambers – City Hall 100 East  Michigan Boulevard Michigan City IN 46360
CATEGORIES:Historic Preservation Commission
END:VEVENT
BEGIN:VEVENT
DTSTART;TZID=America/Chicago:20300923T180000
DTEND;TZID=America/Chicago:20300923T190000
DTSTAMP:20260422T210329
CREATED:20250609T014537Z
LAST-MODIFIED:20260126T182021Z
UID:10003354-1916416800-1916420400@michigancityin.gov
SUMMARY:Historic Preservation Commission Regular Meeting
DESCRIPTION:
URL:https://michigancityin.gov/city-event/historic-preservation-commission-regular-meeting/2030-09-23/
LOCATION:Council Chambers – City Hall 100 East  Michigan Boulevard Michigan City IN 46360
CATEGORIES:Historic Preservation Commission
END:VEVENT
BEGIN:VEVENT
DTSTART;TZID=America/Chicago:20301028T180000
DTEND;TZID=America/Chicago:20301028T190000
DTSTAMP:20260422T210329
CREATED:20250609T014537Z
LAST-MODIFIED:20260126T182021Z
UID:10003355-1919440800-1919444400@michigancityin.gov
SUMMARY:Historic Preservation Commission Regular Meeting
DESCRIPTION:
URL:https://michigancityin.gov/city-event/historic-preservation-commission-regular-meeting/2030-10-28/
LOCATION:Council Chambers – City Hall 100 East  Michigan Boulevard Michigan City IN 46360
CATEGORIES:Historic Preservation Commission
END:VEVENT
BEGIN:VEVENT
DTSTART;TZID=America/Chicago:20301125T180000
DTEND;TZID=America/Chicago:20301125T190000
DTSTAMP:20260422T210329
CREATED:20250609T014537Z
LAST-MODIFIED:20260126T182021Z
UID:10003356-1921860000-1921863600@michigancityin.gov
SUMMARY:Historic Preservation Commission Regular Meeting
DESCRIPTION:
URL:https://michigancityin.gov/city-event/historic-preservation-commission-regular-meeting/2030-11-25/
LOCATION:Council Chambers – City Hall 100 East  Michigan Boulevard Michigan City IN 46360
CATEGORIES:Historic Preservation Commission
END:VEVENT
BEGIN:VEVENT
DTSTART;TZID=America/Chicago:20301223T180000
DTEND;TZID=America/Chicago:20301223T190000
DTSTAMP:20260422T210329
CREATED:20250609T014537Z
LAST-MODIFIED:20260126T182021Z
UID:10003357-1924279200-1924282800@michigancityin.gov
SUMMARY:Historic Preservation Commission Regular Meeting
DESCRIPTION:
URL:https://michigancityin.gov/city-event/historic-preservation-commission-regular-meeting/2030-12-23/
LOCATION:Council Chambers – City Hall 100 East  Michigan Boulevard Michigan City IN 46360
CATEGORIES:Historic Preservation Commission
END:VEVENT
BEGIN:VEVENT
DTSTART;TZID=America/Chicago:20310127T180000
DTEND;TZID=America/Chicago:20310127T190000
DTSTAMP:20260422T210329
CREATED:20250609T014537Z
LAST-MODIFIED:20260126T182021Z
UID:10003363-1927303200-1927306800@michigancityin.gov
SUMMARY:Historic Preservation Commission Regular Meeting
DESCRIPTION:
URL:https://michigancityin.gov/city-event/historic-preservation-commission-regular-meeting/2031-01-27/
LOCATION:Council Chambers – City Hall 100 East  Michigan Boulevard Michigan City IN 46360
CATEGORIES:Historic Preservation Commission
END:VEVENT
END:VCALENDAR