BEGIN:VCALENDAR
VERSION:2.0
PRODID:-//City of Michigan City Indiana - ECPv6.15.20//NONSGML v1.0//EN
CALSCALE:GREGORIAN
METHOD:PUBLISH
X-ORIGINAL-URL:https://michigancityin.gov
X-WR-CALDESC:Events for City of Michigan City Indiana
REFRESH-INTERVAL;VALUE=DURATION:PT1H
X-Robots-Tag:noindex
X-PUBLISHED-TTL:PT1H
BEGIN:VTIMEZONE
TZID:America/Chicago
BEGIN:DAYLIGHT
TZOFFSETFROM:-0600
TZOFFSETTO:-0500
TZNAME:CDT
DTSTART:20240310T080000
END:DAYLIGHT
BEGIN:STANDARD
TZOFFSETFROM:-0500
TZOFFSETTO:-0600
TZNAME:CST
DTSTART:20241103T070000
END:STANDARD
BEGIN:DAYLIGHT
TZOFFSETFROM:-0600
TZOFFSETTO:-0500
TZNAME:CDT
DTSTART:20250309T080000
END:DAYLIGHT
BEGIN:STANDARD
TZOFFSETFROM:-0500
TZOFFSETTO:-0600
TZNAME:CST
DTSTART:20251102T070000
END:STANDARD
BEGIN:DAYLIGHT
TZOFFSETFROM:-0600
TZOFFSETTO:-0500
TZNAME:CDT
DTSTART:20260308T080000
END:DAYLIGHT
BEGIN:STANDARD
TZOFFSETFROM:-0500
TZOFFSETTO:-0600
TZNAME:CST
DTSTART:20261101T070000
END:STANDARD
BEGIN:DAYLIGHT
TZOFFSETFROM:-0600
TZOFFSETTO:-0500
TZNAME:CDT
DTSTART:20270314T080000
END:DAYLIGHT
BEGIN:STANDARD
TZOFFSETFROM:-0500
TZOFFSETTO:-0600
TZNAME:CST
DTSTART:20271107T070000
END:STANDARD
END:VTIMEZONE
BEGIN:VEVENT
DTSTART;TZID=America/Chicago:20260420T170000
DTEND;TZID=America/Chicago:20260420T180000
DTSTAMP:20260422T175438
CREATED:20251216T133941Z
LAST-MODIFIED:20251216T133942Z
UID:10003030-1776704400-1776708000@michigancityin.gov
SUMMARY:Licensing Board Regular Meeting
DESCRIPTION:
URL:https://michigancityin.gov/city-event/licensing-board-regular-meeting-3-2/2026-04-20/
LOCATION:ALCO Meeting Studio\, 301 E. 8th St.\, Michigan City\, 46360\, United States
CATEGORIES:Licensing Board
END:VEVENT
BEGIN:VEVENT
DTSTART;TZID=America/Chicago:20260316T170000
DTEND;TZID=America/Chicago:20260316T180000
DTSTAMP:20260422T175438
CREATED:20251216T133941Z
LAST-MODIFIED:20251216T133942Z
UID:10002973-1773680400-1773684000@michigancityin.gov
SUMMARY:Licensing Board Regular Meeting
DESCRIPTION:
URL:https://michigancityin.gov/city-event/licensing-board-regular-meeting-3-2/2026-03-16/
LOCATION:ALCO Meeting Studio\, 301 E. 8th St.\, Michigan City\, 46360\, United States
CATEGORIES:Licensing Board
END:VEVENT
BEGIN:VEVENT
DTSTART;TZID=America/Chicago:20260223T170000
DTEND;TZID=America/Chicago:20260223T180000
DTSTAMP:20260422T175438
CREATED:20251216T133827Z
LAST-MODIFIED:20251216T133828Z
UID:10002972-1771866000-1771869600@michigancityin.gov
SUMMARY:Licensing Board Regular Meeting
DESCRIPTION:
URL:https://michigancityin.gov/city-event/licensing-board-regular-meeting-3/2026-02-23/
LOCATION:ALCO Meeting Studio\, 301 E. 8th St.\, Michigan City\, 46360\, United States
CATEGORIES:Licensing Board
END:VEVENT
BEGIN:VEVENT
DTSTART;TZID=America/Chicago:20260126T170000
DTEND;TZID=America/Chicago:20260126T180000
DTSTAMP:20260422T175438
CREATED:20251216T133827Z
LAST-MODIFIED:20251216T133828Z
UID:10001151-1769446800-1769450400@michigancityin.gov
SUMMARY:Licensing Board Regular Meeting
DESCRIPTION:
URL:https://michigancityin.gov/city-event/licensing-board-regular-meeting-3/2026-01-26/
LOCATION:ALCO Meeting Studio\, 301 E. 8th St.\, Michigan City\, 46360\, United States
CATEGORIES:Licensing Board
END:VEVENT
BEGIN:VEVENT
DTSTART;TZID=America/Chicago:20251215T170000
DTEND;TZID=America/Chicago:20251215T180000
DTSTAMP:20260422T175438
CREATED:20251216T133449Z
LAST-MODIFIED:20251216T133449Z
UID:10001150-1765818000-1765821600@michigancityin.gov
SUMMARY:Licensing Board Regular Meeting
DESCRIPTION:
URL:https://michigancityin.gov/city-event/licensing-board-regular-meeting-2/
LOCATION:ALCO Meeting Studio\, 301 E. 8th St.\, Michigan City\, 46360\, United States
CATEGORIES:Licensing Board
END:VEVENT
BEGIN:VEVENT
DTSTART;TZID=America/Chicago:20251117T170000
DTEND;TZID=America/Chicago:20251117T180000
DTSTAMP:20260422T175438
CREATED:20250609T015406Z
LAST-MODIFIED:20250609T015406Z
UID:10001149-1763398800-1763402400@michigancityin.gov
SUMMARY:Licensing Board Regular Meeting
DESCRIPTION:
URL:https://michigancityin.gov/city-event/licensing-board-regular-meeting/2025-11-17/
LOCATION:ALCO Meeting Studio\, 301 E. 8th St.\, Michigan City\, 46360\, United States
CATEGORIES:Licensing Board
END:VEVENT
BEGIN:VEVENT
DTSTART;TZID=America/Chicago:20251020T170000
DTEND;TZID=America/Chicago:20251020T180000
DTSTAMP:20260422T175438
CREATED:20250609T015406Z
LAST-MODIFIED:20250609T015406Z
UID:10001148-1760979600-1760983200@michigancityin.gov
SUMMARY:Licensing Board Regular Meeting
DESCRIPTION:
URL:https://michigancityin.gov/city-event/licensing-board-regular-meeting/2025-10-20/
LOCATION:ALCO Meeting Studio\, 301 E. 8th St.\, Michigan City\, 46360\, United States
CATEGORIES:Licensing Board
END:VEVENT
BEGIN:VEVENT
DTSTART;TZID=America/Chicago:20250915T170000
DTEND;TZID=America/Chicago:20250915T180000
DTSTAMP:20260422T175438
CREATED:20250609T015406Z
LAST-MODIFIED:20250609T015406Z
UID:10001147-1757955600-1757959200@michigancityin.gov
SUMMARY:Licensing Board Regular Meeting
DESCRIPTION:
URL:https://michigancityin.gov/city-event/licensing-board-regular-meeting/2025-09-15/
LOCATION:ALCO Meeting Studio\, 301 E. 8th St.\, Michigan City\, 46360\, United States
CATEGORIES:Licensing Board
END:VEVENT
BEGIN:VEVENT
DTSTART;TZID=America/Chicago:20250818T170000
DTEND;TZID=America/Chicago:20250818T180000
DTSTAMP:20260422T175438
CREATED:20250609T015406Z
LAST-MODIFIED:20250609T015406Z
UID:10001146-1755536400-1755540000@michigancityin.gov
SUMMARY:Licensing Board Regular Meeting
DESCRIPTION:
URL:https://michigancityin.gov/city-event/licensing-board-regular-meeting/2025-08-18/
LOCATION:ALCO Meeting Studio\, 301 E. 8th St.\, Michigan City\, 46360\, United States
CATEGORIES:Licensing Board
END:VEVENT
BEGIN:VEVENT
DTSTART;TZID=America/Chicago:20250721T170000
DTEND;TZID=America/Chicago:20250721T180000
DTSTAMP:20260422T175438
CREATED:20250609T015406Z
LAST-MODIFIED:20250609T015406Z
UID:10001145-1753117200-1753120800@michigancityin.gov
SUMMARY:Licensing Board Regular Meeting
DESCRIPTION:
URL:https://michigancityin.gov/city-event/licensing-board-regular-meeting/2025-07-21/
LOCATION:ALCO Meeting Studio\, 301 E. 8th St.\, Michigan City\, 46360\, United States
CATEGORIES:Licensing Board
END:VEVENT
BEGIN:VEVENT
DTSTART;TZID=America/Chicago:20250616T170000
DTEND;TZID=America/Chicago:20250616T180000
DTSTAMP:20260422T175438
CREATED:20250609T015406Z
LAST-MODIFIED:20250609T015406Z
UID:10001144-1750093200-1750096800@michigancityin.gov
SUMMARY:Licensing Board Regular Meeting
DESCRIPTION:
URL:https://michigancityin.gov/city-event/licensing-board-regular-meeting/2025-06-16/
LOCATION:ALCO Meeting Studio\, 301 E. 8th St.\, Michigan City\, 46360\, United States
CATEGORIES:Licensing Board
END:VEVENT
END:VCALENDAR