BEGIN:VCALENDAR
VERSION:2.0
PRODID:-//City of Michigan City Indiana - ECPv6.15.20//NONSGML v1.0//EN
CALSCALE:GREGORIAN
METHOD:PUBLISH
X-ORIGINAL-URL:https://michigancityin.gov
X-WR-CALDESC:Events for City of Michigan City Indiana
REFRESH-INTERVAL;VALUE=DURATION:PT1H
X-Robots-Tag:noindex
X-PUBLISHED-TTL:PT1H
BEGIN:VTIMEZONE
TZID:America/Chicago
BEGIN:DAYLIGHT
TZOFFSETFROM:-0600
TZOFFSETTO:-0500
TZNAME:CDT
DTSTART:20250309T080000
END:DAYLIGHT
BEGIN:STANDARD
TZOFFSETFROM:-0500
TZOFFSETTO:-0600
TZNAME:CST
DTSTART:20251102T070000
END:STANDARD
BEGIN:DAYLIGHT
TZOFFSETFROM:-0600
TZOFFSETTO:-0500
TZNAME:CDT
DTSTART:20260308T080000
END:DAYLIGHT
BEGIN:STANDARD
TZOFFSETFROM:-0500
TZOFFSETTO:-0600
TZNAME:CST
DTSTART:20261101T070000
END:STANDARD
BEGIN:DAYLIGHT
TZOFFSETFROM:-0600
TZOFFSETTO:-0500
TZNAME:CDT
DTSTART:20270314T080000
END:DAYLIGHT
BEGIN:STANDARD
TZOFFSETFROM:-0500
TZOFFSETTO:-0600
TZNAME:CST
DTSTART:20271107T070000
END:STANDARD
BEGIN:DAYLIGHT
TZOFFSETFROM:-0600
TZOFFSETTO:-0500
TZNAME:CDT
DTSTART:20280312T080000
END:DAYLIGHT
BEGIN:STANDARD
TZOFFSETFROM:-0500
TZOFFSETTO:-0600
TZNAME:CST
DTSTART:20281105T070000
END:STANDARD
BEGIN:DAYLIGHT
TZOFFSETFROM:-0600
TZOFFSETTO:-0500
TZNAME:CDT
DTSTART:20290311T080000
END:DAYLIGHT
BEGIN:STANDARD
TZOFFSETFROM:-0500
TZOFFSETTO:-0600
TZNAME:CST
DTSTART:20291104T070000
END:STANDARD
END:VTIMEZONE
BEGIN:VEVENT
DTSTART;TZID=America/Chicago:20261104T170000
DTEND;TZID=America/Chicago:20261104T180000
DTSTAMP:20260422T162109
CREATED:20260120T145844Z
LAST-MODIFIED:20260120T145844Z
UID:10003296-1793811600-1793815200@michigancityin.gov
SUMMARY:Park Board Regular Meeting
DESCRIPTION:
URL:https://michigancityin.gov/city-event/park-board-regular-meeting-2/2026-11-04/
LOCATION:Council Chambers – City Hall 100 East  Michigan Boulevard Michigan City IN 46360
CATEGORIES:Park Board
END:VEVENT
BEGIN:VEVENT
DTSTART;TZID=America/Chicago:20261118T170000
DTEND;TZID=America/Chicago:20261118T180000
DTSTAMP:20260422T162109
CREATED:20250609T015606Z
LAST-MODIFIED:20250609T015606Z
UID:10001221-1795021200-1795024800@michigancityin.gov
SUMMARY:Park Board Regular Meeting
DESCRIPTION:
URL:https://michigancityin.gov/city-event/park-board-regular-meeting/2026-11-18/
LOCATION:Council Chambers – City Hall 100 East  Michigan Boulevard Michigan City IN 46360
CATEGORIES:Park Board
END:VEVENT
BEGIN:VEVENT
DTSTART;TZID=America/Chicago:20261202T170000
DTEND;TZID=America/Chicago:20261202T180000
DTSTAMP:20260422T162109
CREATED:20260120T145844Z
LAST-MODIFIED:20260120T145844Z
UID:10003297-1796230800-1796234400@michigancityin.gov
SUMMARY:Park Board Regular Meeting
DESCRIPTION:
URL:https://michigancityin.gov/city-event/park-board-regular-meeting-2/2026-12-02/
LOCATION:Council Chambers – City Hall 100 East  Michigan Boulevard Michigan City IN 46360
CATEGORIES:Park Board
END:VEVENT
BEGIN:VEVENT
DTSTART;TZID=America/Chicago:20261216T170000
DTEND;TZID=America/Chicago:20261216T180000
DTSTAMP:20260422T162109
CREATED:20250609T015606Z
LAST-MODIFIED:20250609T015606Z
UID:10001222-1797440400-1797444000@michigancityin.gov
SUMMARY:Park Board Regular Meeting
DESCRIPTION:
URL:https://michigancityin.gov/city-event/park-board-regular-meeting/2026-12-16/
LOCATION:Council Chambers – City Hall 100 East  Michigan Boulevard Michigan City IN 46360
CATEGORIES:Park Board
END:VEVENT
BEGIN:VEVENT
DTSTART;TZID=America/Chicago:20270106T170000
DTEND;TZID=America/Chicago:20270106T180000
DTSTAMP:20260422T162109
CREATED:20260120T145844Z
LAST-MODIFIED:20260120T145844Z
UID:10003298-1799254800-1799258400@michigancityin.gov
SUMMARY:Park Board Regular Meeting
DESCRIPTION:
URL:https://michigancityin.gov/city-event/park-board-regular-meeting-2/2027-01-06/
LOCATION:Council Chambers – City Hall 100 East  Michigan Boulevard Michigan City IN 46360
CATEGORIES:Park Board
END:VEVENT
BEGIN:VEVENT
DTSTART;TZID=America/Chicago:20270120T170000
DTEND;TZID=America/Chicago:20270120T180000
DTSTAMP:20260422T162109
CREATED:20250609T015606Z
LAST-MODIFIED:20250609T015606Z
UID:10001223-1800464400-1800468000@michigancityin.gov
SUMMARY:Park Board Regular Meeting
DESCRIPTION:
URL:https://michigancityin.gov/city-event/park-board-regular-meeting/2027-01-20/
LOCATION:Council Chambers – City Hall 100 East  Michigan Boulevard Michigan City IN 46360
CATEGORIES:Park Board
END:VEVENT
BEGIN:VEVENT
DTSTART;TZID=America/Chicago:20270203T170000
DTEND;TZID=America/Chicago:20270203T180000
DTSTAMP:20260422T162109
CREATED:20260120T145844Z
LAST-MODIFIED:20260120T145844Z
UID:10003299-1801674000-1801677600@michigancityin.gov
SUMMARY:Park Board Regular Meeting
DESCRIPTION:
URL:https://michigancityin.gov/city-event/park-board-regular-meeting-2/2027-02-03/
LOCATION:Council Chambers – City Hall 100 East  Michigan Boulevard Michigan City IN 46360
CATEGORIES:Park Board
END:VEVENT
BEGIN:VEVENT
DTSTART;TZID=America/Chicago:20270217T170000
DTEND;TZID=America/Chicago:20270217T180000
DTSTAMP:20260422T162109
CREATED:20250609T015606Z
LAST-MODIFIED:20250609T015606Z
UID:10001224-1802883600-1802887200@michigancityin.gov
SUMMARY:Park Board Regular Meeting
DESCRIPTION:
URL:https://michigancityin.gov/city-event/park-board-regular-meeting/2027-02-17/
LOCATION:Council Chambers – City Hall 100 East  Michigan Boulevard Michigan City IN 46360
CATEGORIES:Park Board
END:VEVENT
BEGIN:VEVENT
DTSTART;TZID=America/Chicago:20270303T170000
DTEND;TZID=America/Chicago:20270303T180000
DTSTAMP:20260422T162109
CREATED:20260120T145844Z
LAST-MODIFIED:20260120T145844Z
UID:10003300-1804093200-1804096800@michigancityin.gov
SUMMARY:Park Board Regular Meeting
DESCRIPTION:
URL:https://michigancityin.gov/city-event/park-board-regular-meeting-2/2027-03-03/
LOCATION:Council Chambers – City Hall 100 East  Michigan Boulevard Michigan City IN 46360
CATEGORIES:Park Board
END:VEVENT
BEGIN:VEVENT
DTSTART;TZID=America/Chicago:20270317T170000
DTEND;TZID=America/Chicago:20270317T180000
DTSTAMP:20260422T162109
CREATED:20250609T015606Z
LAST-MODIFIED:20250609T015606Z
UID:10001225-1805302800-1805306400@michigancityin.gov
SUMMARY:Park Board Regular Meeting
DESCRIPTION:
URL:https://michigancityin.gov/city-event/park-board-regular-meeting/2027-03-17/
LOCATION:Council Chambers – City Hall 100 East  Michigan Boulevard Michigan City IN 46360
CATEGORIES:Park Board
END:VEVENT
BEGIN:VEVENT
DTSTART;TZID=America/Chicago:20270407T170000
DTEND;TZID=America/Chicago:20270407T180000
DTSTAMP:20260422T162109
CREATED:20260120T145844Z
LAST-MODIFIED:20260120T145844Z
UID:10003301-1807117200-1807120800@michigancityin.gov
SUMMARY:Park Board Regular Meeting
DESCRIPTION:
URL:https://michigancityin.gov/city-event/park-board-regular-meeting-2/2027-04-07/
LOCATION:Council Chambers – City Hall 100 East  Michigan Boulevard Michigan City IN 46360
CATEGORIES:Park Board
END:VEVENT
BEGIN:VEVENT
DTSTART;TZID=America/Chicago:20270421T170000
DTEND;TZID=America/Chicago:20270421T180000
DTSTAMP:20260422T162109
CREATED:20250609T015606Z
LAST-MODIFIED:20250609T015606Z
UID:10001226-1808326800-1808330400@michigancityin.gov
SUMMARY:Park Board Regular Meeting
DESCRIPTION:
URL:https://michigancityin.gov/city-event/park-board-regular-meeting/2027-04-21/
LOCATION:Council Chambers – City Hall 100 East  Michigan Boulevard Michigan City IN 46360
CATEGORIES:Park Board
END:VEVENT
BEGIN:VEVENT
DTSTART;TZID=America/Chicago:20270505T170000
DTEND;TZID=America/Chicago:20270505T180000
DTSTAMP:20260422T162109
CREATED:20260120T145844Z
LAST-MODIFIED:20260120T145844Z
UID:10003302-1809536400-1809540000@michigancityin.gov
SUMMARY:Park Board Regular Meeting
DESCRIPTION:
URL:https://michigancityin.gov/city-event/park-board-regular-meeting-2/2027-05-05/
LOCATION:Council Chambers – City Hall 100 East  Michigan Boulevard Michigan City IN 46360
CATEGORIES:Park Board
END:VEVENT
BEGIN:VEVENT
DTSTART;TZID=America/Chicago:20270519T170000
DTEND;TZID=America/Chicago:20270519T180000
DTSTAMP:20260422T162109
CREATED:20250609T015606Z
LAST-MODIFIED:20250609T015606Z
UID:10001227-1810746000-1810749600@michigancityin.gov
SUMMARY:Park Board Regular Meeting
DESCRIPTION:
URL:https://michigancityin.gov/city-event/park-board-regular-meeting/2027-05-19/
LOCATION:Council Chambers – City Hall 100 East  Michigan Boulevard Michigan City IN 46360
CATEGORIES:Park Board
END:VEVENT
BEGIN:VEVENT
DTSTART;TZID=America/Chicago:20270602T170000
DTEND;TZID=America/Chicago:20270602T180000
DTSTAMP:20260422T162109
CREATED:20260120T145844Z
LAST-MODIFIED:20260120T145844Z
UID:10003303-1811955600-1811959200@michigancityin.gov
SUMMARY:Park Board Regular Meeting
DESCRIPTION:
URL:https://michigancityin.gov/city-event/park-board-regular-meeting-2/2027-06-02/
LOCATION:Council Chambers – City Hall 100 East  Michigan Boulevard Michigan City IN 46360
CATEGORIES:Park Board
END:VEVENT
BEGIN:VEVENT
DTSTART;TZID=America/Chicago:20270616T170000
DTEND;TZID=America/Chicago:20270616T180000
DTSTAMP:20260422T162109
CREATED:20250609T015606Z
LAST-MODIFIED:20250609T015606Z
UID:10001228-1813165200-1813168800@michigancityin.gov
SUMMARY:Park Board Regular Meeting
DESCRIPTION:
URL:https://michigancityin.gov/city-event/park-board-regular-meeting/2027-06-16/
LOCATION:Council Chambers – City Hall 100 East  Michigan Boulevard Michigan City IN 46360
CATEGORIES:Park Board
END:VEVENT
BEGIN:VEVENT
DTSTART;TZID=America/Chicago:20270707T170000
DTEND;TZID=America/Chicago:20270707T180000
DTSTAMP:20260422T162109
CREATED:20260120T145844Z
LAST-MODIFIED:20260120T145844Z
UID:10003304-1814979600-1814983200@michigancityin.gov
SUMMARY:Park Board Regular Meeting
DESCRIPTION:
URL:https://michigancityin.gov/city-event/park-board-regular-meeting-2/2027-07-07/
LOCATION:Council Chambers – City Hall 100 East  Michigan Boulevard Michigan City IN 46360
CATEGORIES:Park Board
END:VEVENT
BEGIN:VEVENT
DTSTART;TZID=America/Chicago:20270721T170000
DTEND;TZID=America/Chicago:20270721T180000
DTSTAMP:20260422T162109
CREATED:20250609T015606Z
LAST-MODIFIED:20250609T015606Z
UID:10001229-1816189200-1816192800@michigancityin.gov
SUMMARY:Park Board Regular Meeting
DESCRIPTION:
URL:https://michigancityin.gov/city-event/park-board-regular-meeting/2027-07-21/
LOCATION:Council Chambers – City Hall 100 East  Michigan Boulevard Michigan City IN 46360
CATEGORIES:Park Board
END:VEVENT
BEGIN:VEVENT
DTSTART;TZID=America/Chicago:20270804T170000
DTEND;TZID=America/Chicago:20270804T180000
DTSTAMP:20260422T162109
CREATED:20260120T145844Z
LAST-MODIFIED:20260120T145844Z
UID:10003305-1817398800-1817402400@michigancityin.gov
SUMMARY:Park Board Regular Meeting
DESCRIPTION:
URL:https://michigancityin.gov/city-event/park-board-regular-meeting-2/2027-08-04/
LOCATION:Council Chambers – City Hall 100 East  Michigan Boulevard Michigan City IN 46360
CATEGORIES:Park Board
END:VEVENT
BEGIN:VEVENT
DTSTART;TZID=America/Chicago:20270818T170000
DTEND;TZID=America/Chicago:20270818T180000
DTSTAMP:20260422T162109
CREATED:20250609T015606Z
LAST-MODIFIED:20250609T015606Z
UID:10001230-1818608400-1818612000@michigancityin.gov
SUMMARY:Park Board Regular Meeting
DESCRIPTION:
URL:https://michigancityin.gov/city-event/park-board-regular-meeting/2027-08-18/
LOCATION:Council Chambers – City Hall 100 East  Michigan Boulevard Michigan City IN 46360
CATEGORIES:Park Board
END:VEVENT
BEGIN:VEVENT
DTSTART;TZID=America/Chicago:20270901T170000
DTEND;TZID=America/Chicago:20270901T180000
DTSTAMP:20260422T162109
CREATED:20260120T145844Z
LAST-MODIFIED:20260120T145844Z
UID:10003306-1819818000-1819821600@michigancityin.gov
SUMMARY:Park Board Regular Meeting
DESCRIPTION:
URL:https://michigancityin.gov/city-event/park-board-regular-meeting-2/2027-09-01/
LOCATION:Council Chambers – City Hall 100 East  Michigan Boulevard Michigan City IN 46360
CATEGORIES:Park Board
END:VEVENT
BEGIN:VEVENT
DTSTART;TZID=America/Chicago:20270915T170000
DTEND;TZID=America/Chicago:20270915T180000
DTSTAMP:20260422T162109
CREATED:20250609T015606Z
LAST-MODIFIED:20250609T015606Z
UID:10001231-1821027600-1821031200@michigancityin.gov
SUMMARY:Park Board Regular Meeting
DESCRIPTION:
URL:https://michigancityin.gov/city-event/park-board-regular-meeting/2027-09-15/
LOCATION:Council Chambers – City Hall 100 East  Michigan Boulevard Michigan City IN 46360
CATEGORIES:Park Board
END:VEVENT
BEGIN:VEVENT
DTSTART;TZID=America/Chicago:20271006T170000
DTEND;TZID=America/Chicago:20271006T180000
DTSTAMP:20260422T162109
CREATED:20260120T145844Z
LAST-MODIFIED:20260120T145844Z
UID:10003307-1822842000-1822845600@michigancityin.gov
SUMMARY:Park Board Regular Meeting
DESCRIPTION:
URL:https://michigancityin.gov/city-event/park-board-regular-meeting-2/2027-10-06/
LOCATION:Council Chambers – City Hall 100 East  Michigan Boulevard Michigan City IN 46360
CATEGORIES:Park Board
END:VEVENT
BEGIN:VEVENT
DTSTART;TZID=America/Chicago:20271020T170000
DTEND;TZID=America/Chicago:20271020T180000
DTSTAMP:20260422T162109
CREATED:20250609T015606Z
LAST-MODIFIED:20250609T015606Z
UID:10001232-1824051600-1824055200@michigancityin.gov
SUMMARY:Park Board Regular Meeting
DESCRIPTION:
URL:https://michigancityin.gov/city-event/park-board-regular-meeting/2027-10-20/
LOCATION:Council Chambers – City Hall 100 East  Michigan Boulevard Michigan City IN 46360
CATEGORIES:Park Board
END:VEVENT
BEGIN:VEVENT
DTSTART;TZID=America/Chicago:20271103T170000
DTEND;TZID=America/Chicago:20271103T180000
DTSTAMP:20260422T162109
CREATED:20260120T145844Z
LAST-MODIFIED:20260120T145844Z
UID:10003308-1825261200-1825264800@michigancityin.gov
SUMMARY:Park Board Regular Meeting
DESCRIPTION:
URL:https://michigancityin.gov/city-event/park-board-regular-meeting-2/2027-11-03/
LOCATION:Council Chambers – City Hall 100 East  Michigan Boulevard Michigan City IN 46360
CATEGORIES:Park Board
END:VEVENT
BEGIN:VEVENT
DTSTART;TZID=America/Chicago:20271117T170000
DTEND;TZID=America/Chicago:20271117T180000
DTSTAMP:20260422T162109
CREATED:20250609T015606Z
LAST-MODIFIED:20250609T015606Z
UID:10001233-1826470800-1826474400@michigancityin.gov
SUMMARY:Park Board Regular Meeting
DESCRIPTION:
URL:https://michigancityin.gov/city-event/park-board-regular-meeting/2027-11-17/
LOCATION:Council Chambers – City Hall 100 East  Michigan Boulevard Michigan City IN 46360
CATEGORIES:Park Board
END:VEVENT
BEGIN:VEVENT
DTSTART;TZID=America/Chicago:20271201T170000
DTEND;TZID=America/Chicago:20271201T180000
DTSTAMP:20260422T162109
CREATED:20260120T145844Z
LAST-MODIFIED:20260120T145844Z
UID:10003309-1827680400-1827684000@michigancityin.gov
SUMMARY:Park Board Regular Meeting
DESCRIPTION:
URL:https://michigancityin.gov/city-event/park-board-regular-meeting-2/2027-12-01/
LOCATION:Council Chambers – City Hall 100 East  Michigan Boulevard Michigan City IN 46360
CATEGORIES:Park Board
END:VEVENT
BEGIN:VEVENT
DTSTART;TZID=America/Chicago:20271215T170000
DTEND;TZID=America/Chicago:20271215T180000
DTSTAMP:20260422T162109
CREATED:20250609T015606Z
LAST-MODIFIED:20250609T015606Z
UID:10001234-1828890000-1828893600@michigancityin.gov
SUMMARY:Park Board Regular Meeting
DESCRIPTION:
URL:https://michigancityin.gov/city-event/park-board-regular-meeting/2027-12-15/
LOCATION:Council Chambers – City Hall 100 East  Michigan Boulevard Michigan City IN 46360
CATEGORIES:Park Board
END:VEVENT
BEGIN:VEVENT
DTSTART;TZID=America/Chicago:20280105T170000
DTEND;TZID=America/Chicago:20280105T180000
DTSTAMP:20260422T162109
CREATED:20260120T145844Z
LAST-MODIFIED:20260120T145844Z
UID:10003310-1830704400-1830708000@michigancityin.gov
SUMMARY:Park Board Regular Meeting
DESCRIPTION:
URL:https://michigancityin.gov/city-event/park-board-regular-meeting-2/2028-01-05/
LOCATION:Council Chambers – City Hall 100 East  Michigan Boulevard Michigan City IN 46360
CATEGORIES:Park Board
END:VEVENT
BEGIN:VEVENT
DTSTART;TZID=America/Chicago:20280119T170000
DTEND;TZID=America/Chicago:20280119T180000
DTSTAMP:20260422T162109
CREATED:20250609T015606Z
LAST-MODIFIED:20250609T015606Z
UID:10001235-1831914000-1831917600@michigancityin.gov
SUMMARY:Park Board Regular Meeting
DESCRIPTION:
URL:https://michigancityin.gov/city-event/park-board-regular-meeting/2028-01-19/
LOCATION:Council Chambers – City Hall 100 East  Michigan Boulevard Michigan City IN 46360
CATEGORIES:Park Board
END:VEVENT
END:VCALENDAR