BEGIN:VCALENDAR
VERSION:2.0
PRODID:-//City of Michigan City Indiana - ECPv6.15.20//NONSGML v1.0//EN
CALSCALE:GREGORIAN
METHOD:PUBLISH
X-ORIGINAL-URL:https://michigancityin.gov
X-WR-CALDESC:Events for City of Michigan City Indiana
REFRESH-INTERVAL;VALUE=DURATION:PT1H
X-Robots-Tag:noindex
X-PUBLISHED-TTL:PT1H
BEGIN:VTIMEZONE
TZID:America/Chicago
BEGIN:DAYLIGHT
TZOFFSETFROM:-0600
TZOFFSETTO:-0500
TZNAME:CDT
DTSTART:20250309T080000
END:DAYLIGHT
BEGIN:STANDARD
TZOFFSETFROM:-0500
TZOFFSETTO:-0600
TZNAME:CST
DTSTART:20251102T070000
END:STANDARD
BEGIN:DAYLIGHT
TZOFFSETFROM:-0600
TZOFFSETTO:-0500
TZNAME:CDT
DTSTART:20260308T080000
END:DAYLIGHT
BEGIN:STANDARD
TZOFFSETFROM:-0500
TZOFFSETTO:-0600
TZNAME:CST
DTSTART:20261101T070000
END:STANDARD
BEGIN:DAYLIGHT
TZOFFSETFROM:-0600
TZOFFSETTO:-0500
TZNAME:CDT
DTSTART:20270314T080000
END:DAYLIGHT
BEGIN:STANDARD
TZOFFSETFROM:-0500
TZOFFSETTO:-0600
TZNAME:CST
DTSTART:20271107T070000
END:STANDARD
BEGIN:DAYLIGHT
TZOFFSETFROM:-0600
TZOFFSETTO:-0500
TZNAME:CDT
DTSTART:20280312T080000
END:DAYLIGHT
BEGIN:STANDARD
TZOFFSETFROM:-0500
TZOFFSETTO:-0600
TZNAME:CST
DTSTART:20281105T070000
END:STANDARD
END:VTIMEZONE
BEGIN:VEVENT
DTSTART;TZID=America/Chicago:20260304T170000
DTEND;TZID=America/Chicago:20260304T180000
DTSTAMP:20260422T180120
CREATED:20260120T145844Z
LAST-MODIFIED:20260120T145844Z
UID:10003288-1772643600-1772647200@michigancityin.gov
SUMMARY:Park Board Regular Meeting
DESCRIPTION:
URL:https://michigancityin.gov/city-event/park-board-regular-meeting-2/2026-03-04/
LOCATION:Council Chambers – City Hall 100 East  Michigan Boulevard Michigan City IN 46360
CATEGORIES:Park Board
END:VEVENT
BEGIN:VEVENT
DTSTART;TZID=America/Chicago:20260318T170000
DTEND;TZID=America/Chicago:20260318T180000
DTSTAMP:20260422T180120
CREATED:20250609T015606Z
LAST-MODIFIED:20250609T015606Z
UID:10001213-1773853200-1773856800@michigancityin.gov
SUMMARY:Park Board Regular Meeting
DESCRIPTION:
URL:https://michigancityin.gov/city-event/park-board-regular-meeting/2026-03-18/
LOCATION:Council Chambers – City Hall 100 East  Michigan Boulevard Michigan City IN 46360
CATEGORIES:Park Board
END:VEVENT
BEGIN:VEVENT
DTSTART;TZID=America/Chicago:20260401T170000
DTEND;TZID=America/Chicago:20260401T180000
DTSTAMP:20260422T180120
CREATED:20260120T145844Z
LAST-MODIFIED:20260120T145844Z
UID:10003289-1775062800-1775066400@michigancityin.gov
SUMMARY:Park Board Regular Meeting
DESCRIPTION:
URL:https://michigancityin.gov/city-event/park-board-regular-meeting-2/2026-04-01/
LOCATION:Council Chambers – City Hall 100 East  Michigan Boulevard Michigan City IN 46360
CATEGORIES:Park Board
END:VEVENT
BEGIN:VEVENT
DTSTART;TZID=America/Chicago:20260415T170000
DTEND;TZID=America/Chicago:20260415T180000
DTSTAMP:20260422T180120
CREATED:20250609T015606Z
LAST-MODIFIED:20250609T015606Z
UID:10001214-1776272400-1776276000@michigancityin.gov
SUMMARY:Park Board Regular Meeting
DESCRIPTION:
URL:https://michigancityin.gov/city-event/park-board-regular-meeting/2026-04-15/
LOCATION:Council Chambers – City Hall 100 East  Michigan Boulevard Michigan City IN 46360
CATEGORIES:Park Board
END:VEVENT
BEGIN:VEVENT
DTSTART;TZID=America/Chicago:20260506T170000
DTEND;TZID=America/Chicago:20260506T180000
DTSTAMP:20260422T180120
CREATED:20260120T145844Z
LAST-MODIFIED:20260120T145844Z
UID:10003290-1778086800-1778090400@michigancityin.gov
SUMMARY:Park Board Regular Meeting
DESCRIPTION:
URL:https://michigancityin.gov/city-event/park-board-regular-meeting-2/2026-05-06/
LOCATION:Council Chambers – City Hall 100 East  Michigan Boulevard Michigan City IN 46360
CATEGORIES:Park Board
END:VEVENT
BEGIN:VEVENT
DTSTART;TZID=America/Chicago:20260520T170000
DTEND;TZID=America/Chicago:20260520T180000
DTSTAMP:20260422T180120
CREATED:20250609T015606Z
LAST-MODIFIED:20250609T015606Z
UID:10001215-1779296400-1779300000@michigancityin.gov
SUMMARY:Park Board Regular Meeting
DESCRIPTION:
URL:https://michigancityin.gov/city-event/park-board-regular-meeting/2026-05-20/
LOCATION:Council Chambers – City Hall 100 East  Michigan Boulevard Michigan City IN 46360
CATEGORIES:Park Board
END:VEVENT
BEGIN:VEVENT
DTSTART;TZID=America/Chicago:20260603T170000
DTEND;TZID=America/Chicago:20260603T180000
DTSTAMP:20260422T180120
CREATED:20260120T145844Z
LAST-MODIFIED:20260120T145844Z
UID:10003291-1780506000-1780509600@michigancityin.gov
SUMMARY:Park Board Regular Meeting
DESCRIPTION:
URL:https://michigancityin.gov/city-event/park-board-regular-meeting-2/2026-06-03/
LOCATION:Council Chambers – City Hall 100 East  Michigan Boulevard Michigan City IN 46360
CATEGORIES:Park Board
END:VEVENT
BEGIN:VEVENT
DTSTART;TZID=America/Chicago:20260617T170000
DTEND;TZID=America/Chicago:20260617T180000
DTSTAMP:20260422T180120
CREATED:20250609T015606Z
LAST-MODIFIED:20250609T015606Z
UID:10001216-1781715600-1781719200@michigancityin.gov
SUMMARY:Park Board Regular Meeting
DESCRIPTION:
URL:https://michigancityin.gov/city-event/park-board-regular-meeting/2026-06-17/
LOCATION:Council Chambers – City Hall 100 East  Michigan Boulevard Michigan City IN 46360
CATEGORIES:Park Board
END:VEVENT
BEGIN:VEVENT
DTSTART;TZID=America/Chicago:20260701T170000
DTEND;TZID=America/Chicago:20260701T180000
DTSTAMP:20260422T180120
CREATED:20260120T145844Z
LAST-MODIFIED:20260120T145844Z
UID:10003292-1782925200-1782928800@michigancityin.gov
SUMMARY:Park Board Regular Meeting
DESCRIPTION:
URL:https://michigancityin.gov/city-event/park-board-regular-meeting-2/2026-07-01/
LOCATION:Council Chambers – City Hall 100 East  Michigan Boulevard Michigan City IN 46360
CATEGORIES:Park Board
END:VEVENT
BEGIN:VEVENT
DTSTART;TZID=America/Chicago:20260715T170000
DTEND;TZID=America/Chicago:20260715T180000
DTSTAMP:20260422T180120
CREATED:20250609T015606Z
LAST-MODIFIED:20250609T015606Z
UID:10001217-1784134800-1784138400@michigancityin.gov
SUMMARY:Park Board Regular Meeting
DESCRIPTION:
URL:https://michigancityin.gov/city-event/park-board-regular-meeting/2026-07-15/
LOCATION:Council Chambers – City Hall 100 East  Michigan Boulevard Michigan City IN 46360
CATEGORIES:Park Board
END:VEVENT
BEGIN:VEVENT
DTSTART;TZID=America/Chicago:20260805T170000
DTEND;TZID=America/Chicago:20260805T180000
DTSTAMP:20260422T180120
CREATED:20260120T145844Z
LAST-MODIFIED:20260120T145844Z
UID:10003293-1785949200-1785952800@michigancityin.gov
SUMMARY:Park Board Regular Meeting
DESCRIPTION:
URL:https://michigancityin.gov/city-event/park-board-regular-meeting-2/2026-08-05/
LOCATION:Council Chambers – City Hall 100 East  Michigan Boulevard Michigan City IN 46360
CATEGORIES:Park Board
END:VEVENT
BEGIN:VEVENT
DTSTART;TZID=America/Chicago:20260819T170000
DTEND;TZID=America/Chicago:20260819T180000
DTSTAMP:20260422T180120
CREATED:20250609T015606Z
LAST-MODIFIED:20250609T015606Z
UID:10001218-1787158800-1787162400@michigancityin.gov
SUMMARY:Park Board Regular Meeting
DESCRIPTION:
URL:https://michigancityin.gov/city-event/park-board-regular-meeting/2026-08-19/
LOCATION:Council Chambers – City Hall 100 East  Michigan Boulevard Michigan City IN 46360
CATEGORIES:Park Board
END:VEVENT
BEGIN:VEVENT
DTSTART;TZID=America/Chicago:20260902T170000
DTEND;TZID=America/Chicago:20260902T180000
DTSTAMP:20260422T180120
CREATED:20260120T145844Z
LAST-MODIFIED:20260120T145844Z
UID:10003294-1788368400-1788372000@michigancityin.gov
SUMMARY:Park Board Regular Meeting
DESCRIPTION:
URL:https://michigancityin.gov/city-event/park-board-regular-meeting-2/2026-09-02/
LOCATION:Council Chambers – City Hall 100 East  Michigan Boulevard Michigan City IN 46360
CATEGORIES:Park Board
END:VEVENT
BEGIN:VEVENT
DTSTART;TZID=America/Chicago:20260916T170000
DTEND;TZID=America/Chicago:20260916T180000
DTSTAMP:20260422T180120
CREATED:20250609T015606Z
LAST-MODIFIED:20250609T015606Z
UID:10001219-1789578000-1789581600@michigancityin.gov
SUMMARY:Park Board Regular Meeting
DESCRIPTION:
URL:https://michigancityin.gov/city-event/park-board-regular-meeting/2026-09-16/
LOCATION:Council Chambers – City Hall 100 East  Michigan Boulevard Michigan City IN 46360
CATEGORIES:Park Board
END:VEVENT
BEGIN:VEVENT
DTSTART;TZID=America/Chicago:20261007T170000
DTEND;TZID=America/Chicago:20261007T180000
DTSTAMP:20260422T180120
CREATED:20260120T145844Z
LAST-MODIFIED:20260120T145844Z
UID:10003295-1791392400-1791396000@michigancityin.gov
SUMMARY:Park Board Regular Meeting
DESCRIPTION:
URL:https://michigancityin.gov/city-event/park-board-regular-meeting-2/2026-10-07/
LOCATION:Council Chambers – City Hall 100 East  Michigan Boulevard Michigan City IN 46360
CATEGORIES:Park Board
END:VEVENT
BEGIN:VEVENT
DTSTART;TZID=America/Chicago:20261021T170000
DTEND;TZID=America/Chicago:20261021T180000
DTSTAMP:20260422T180120
CREATED:20250609T015606Z
LAST-MODIFIED:20250609T015606Z
UID:10001220-1792602000-1792605600@michigancityin.gov
SUMMARY:Park Board Regular Meeting
DESCRIPTION:
URL:https://michigancityin.gov/city-event/park-board-regular-meeting/2026-10-21/
LOCATION:Council Chambers – City Hall 100 East  Michigan Boulevard Michigan City IN 46360
CATEGORIES:Park Board
END:VEVENT
BEGIN:VEVENT
DTSTART;TZID=America/Chicago:20261104T170000
DTEND;TZID=America/Chicago:20261104T180000
DTSTAMP:20260422T180120
CREATED:20260120T145844Z
LAST-MODIFIED:20260120T145844Z
UID:10003296-1793811600-1793815200@michigancityin.gov
SUMMARY:Park Board Regular Meeting
DESCRIPTION:
URL:https://michigancityin.gov/city-event/park-board-regular-meeting-2/2026-11-04/
LOCATION:Council Chambers – City Hall 100 East  Michigan Boulevard Michigan City IN 46360
CATEGORIES:Park Board
END:VEVENT
BEGIN:VEVENT
DTSTART;TZID=America/Chicago:20261118T170000
DTEND;TZID=America/Chicago:20261118T180000
DTSTAMP:20260422T180120
CREATED:20250609T015606Z
LAST-MODIFIED:20250609T015606Z
UID:10001221-1795021200-1795024800@michigancityin.gov
SUMMARY:Park Board Regular Meeting
DESCRIPTION:
URL:https://michigancityin.gov/city-event/park-board-regular-meeting/2026-11-18/
LOCATION:Council Chambers – City Hall 100 East  Michigan Boulevard Michigan City IN 46360
CATEGORIES:Park Board
END:VEVENT
BEGIN:VEVENT
DTSTART;TZID=America/Chicago:20261202T170000
DTEND;TZID=America/Chicago:20261202T180000
DTSTAMP:20260422T180120
CREATED:20260120T145844Z
LAST-MODIFIED:20260120T145844Z
UID:10003297-1796230800-1796234400@michigancityin.gov
SUMMARY:Park Board Regular Meeting
DESCRIPTION:
URL:https://michigancityin.gov/city-event/park-board-regular-meeting-2/2026-12-02/
LOCATION:Council Chambers – City Hall 100 East  Michigan Boulevard Michigan City IN 46360
CATEGORIES:Park Board
END:VEVENT
BEGIN:VEVENT
DTSTART;TZID=America/Chicago:20261216T170000
DTEND;TZID=America/Chicago:20261216T180000
DTSTAMP:20260422T180120
CREATED:20250609T015606Z
LAST-MODIFIED:20250609T015606Z
UID:10001222-1797440400-1797444000@michigancityin.gov
SUMMARY:Park Board Regular Meeting
DESCRIPTION:
URL:https://michigancityin.gov/city-event/park-board-regular-meeting/2026-12-16/
LOCATION:Council Chambers – City Hall 100 East  Michigan Boulevard Michigan City IN 46360
CATEGORIES:Park Board
END:VEVENT
BEGIN:VEVENT
DTSTART;TZID=America/Chicago:20270106T170000
DTEND;TZID=America/Chicago:20270106T180000
DTSTAMP:20260422T180120
CREATED:20260120T145844Z
LAST-MODIFIED:20260120T145844Z
UID:10003298-1799254800-1799258400@michigancityin.gov
SUMMARY:Park Board Regular Meeting
DESCRIPTION:
URL:https://michigancityin.gov/city-event/park-board-regular-meeting-2/2027-01-06/
LOCATION:Council Chambers – City Hall 100 East  Michigan Boulevard Michigan City IN 46360
CATEGORIES:Park Board
END:VEVENT
BEGIN:VEVENT
DTSTART;TZID=America/Chicago:20270120T170000
DTEND;TZID=America/Chicago:20270120T180000
DTSTAMP:20260422T180120
CREATED:20250609T015606Z
LAST-MODIFIED:20250609T015606Z
UID:10001223-1800464400-1800468000@michigancityin.gov
SUMMARY:Park Board Regular Meeting
DESCRIPTION:
URL:https://michigancityin.gov/city-event/park-board-regular-meeting/2027-01-20/
LOCATION:Council Chambers – City Hall 100 East  Michigan Boulevard Michigan City IN 46360
CATEGORIES:Park Board
END:VEVENT
BEGIN:VEVENT
DTSTART;TZID=America/Chicago:20270203T170000
DTEND;TZID=America/Chicago:20270203T180000
DTSTAMP:20260422T180120
CREATED:20260120T145844Z
LAST-MODIFIED:20260120T145844Z
UID:10003299-1801674000-1801677600@michigancityin.gov
SUMMARY:Park Board Regular Meeting
DESCRIPTION:
URL:https://michigancityin.gov/city-event/park-board-regular-meeting-2/2027-02-03/
LOCATION:Council Chambers – City Hall 100 East  Michigan Boulevard Michigan City IN 46360
CATEGORIES:Park Board
END:VEVENT
BEGIN:VEVENT
DTSTART;TZID=America/Chicago:20270217T170000
DTEND;TZID=America/Chicago:20270217T180000
DTSTAMP:20260422T180120
CREATED:20250609T015606Z
LAST-MODIFIED:20250609T015606Z
UID:10001224-1802883600-1802887200@michigancityin.gov
SUMMARY:Park Board Regular Meeting
DESCRIPTION:
URL:https://michigancityin.gov/city-event/park-board-regular-meeting/2027-02-17/
LOCATION:Council Chambers – City Hall 100 East  Michigan Boulevard Michigan City IN 46360
CATEGORIES:Park Board
END:VEVENT
BEGIN:VEVENT
DTSTART;TZID=America/Chicago:20270303T170000
DTEND;TZID=America/Chicago:20270303T180000
DTSTAMP:20260422T180120
CREATED:20260120T145844Z
LAST-MODIFIED:20260120T145844Z
UID:10003300-1804093200-1804096800@michigancityin.gov
SUMMARY:Park Board Regular Meeting
DESCRIPTION:
URL:https://michigancityin.gov/city-event/park-board-regular-meeting-2/2027-03-03/
LOCATION:Council Chambers – City Hall 100 East  Michigan Boulevard Michigan City IN 46360
CATEGORIES:Park Board
END:VEVENT
BEGIN:VEVENT
DTSTART;TZID=America/Chicago:20270317T170000
DTEND;TZID=America/Chicago:20270317T180000
DTSTAMP:20260422T180120
CREATED:20250609T015606Z
LAST-MODIFIED:20250609T015606Z
UID:10001225-1805302800-1805306400@michigancityin.gov
SUMMARY:Park Board Regular Meeting
DESCRIPTION:
URL:https://michigancityin.gov/city-event/park-board-regular-meeting/2027-03-17/
LOCATION:Council Chambers – City Hall 100 East  Michigan Boulevard Michigan City IN 46360
CATEGORIES:Park Board
END:VEVENT
BEGIN:VEVENT
DTSTART;TZID=America/Chicago:20270407T170000
DTEND;TZID=America/Chicago:20270407T180000
DTSTAMP:20260422T180120
CREATED:20260120T145844Z
LAST-MODIFIED:20260120T145844Z
UID:10003301-1807117200-1807120800@michigancityin.gov
SUMMARY:Park Board Regular Meeting
DESCRIPTION:
URL:https://michigancityin.gov/city-event/park-board-regular-meeting-2/2027-04-07/
LOCATION:Council Chambers – City Hall 100 East  Michigan Boulevard Michigan City IN 46360
CATEGORIES:Park Board
END:VEVENT
BEGIN:VEVENT
DTSTART;TZID=America/Chicago:20270421T170000
DTEND;TZID=America/Chicago:20270421T180000
DTSTAMP:20260422T180120
CREATED:20250609T015606Z
LAST-MODIFIED:20250609T015606Z
UID:10001226-1808326800-1808330400@michigancityin.gov
SUMMARY:Park Board Regular Meeting
DESCRIPTION:
URL:https://michigancityin.gov/city-event/park-board-regular-meeting/2027-04-21/
LOCATION:Council Chambers – City Hall 100 East  Michigan Boulevard Michigan City IN 46360
CATEGORIES:Park Board
END:VEVENT
BEGIN:VEVENT
DTSTART;TZID=America/Chicago:20270505T170000
DTEND;TZID=America/Chicago:20270505T180000
DTSTAMP:20260422T180120
CREATED:20260120T145844Z
LAST-MODIFIED:20260120T145844Z
UID:10003302-1809536400-1809540000@michigancityin.gov
SUMMARY:Park Board Regular Meeting
DESCRIPTION:
URL:https://michigancityin.gov/city-event/park-board-regular-meeting-2/2027-05-05/
LOCATION:Council Chambers – City Hall 100 East  Michigan Boulevard Michigan City IN 46360
CATEGORIES:Park Board
END:VEVENT
BEGIN:VEVENT
DTSTART;TZID=America/Chicago:20270519T170000
DTEND;TZID=America/Chicago:20270519T180000
DTSTAMP:20260422T180120
CREATED:20250609T015606Z
LAST-MODIFIED:20250609T015606Z
UID:10001227-1810746000-1810749600@michigancityin.gov
SUMMARY:Park Board Regular Meeting
DESCRIPTION:
URL:https://michigancityin.gov/city-event/park-board-regular-meeting/2027-05-19/
LOCATION:Council Chambers – City Hall 100 East  Michigan Boulevard Michigan City IN 46360
CATEGORIES:Park Board
END:VEVENT
END:VCALENDAR