BEGIN:VCALENDAR
VERSION:2.0
PRODID:-//City of Michigan City Indiana - ECPv6.15.20//NONSGML v1.0//EN
CALSCALE:GREGORIAN
METHOD:PUBLISH
X-ORIGINAL-URL:https://michigancityin.gov
X-WR-CALDESC:Events for City of Michigan City Indiana
REFRESH-INTERVAL;VALUE=DURATION:PT1H
X-Robots-Tag:noindex
X-PUBLISHED-TTL:PT1H
BEGIN:VTIMEZONE
TZID:America/Chicago
BEGIN:DAYLIGHT
TZOFFSETFROM:-0600
TZOFFSETTO:-0500
TZNAME:CDT
DTSTART:20250309T080000
END:DAYLIGHT
BEGIN:STANDARD
TZOFFSETFROM:-0500
TZOFFSETTO:-0600
TZNAME:CST
DTSTART:20251102T070000
END:STANDARD
BEGIN:DAYLIGHT
TZOFFSETFROM:-0600
TZOFFSETTO:-0500
TZNAME:CDT
DTSTART:20260308T080000
END:DAYLIGHT
BEGIN:STANDARD
TZOFFSETFROM:-0500
TZOFFSETTO:-0600
TZNAME:CST
DTSTART:20261101T070000
END:STANDARD
BEGIN:DAYLIGHT
TZOFFSETFROM:-0600
TZOFFSETTO:-0500
TZNAME:CDT
DTSTART:20270314T080000
END:DAYLIGHT
BEGIN:STANDARD
TZOFFSETFROM:-0500
TZOFFSETTO:-0600
TZNAME:CST
DTSTART:20271107T070000
END:STANDARD
BEGIN:DAYLIGHT
TZOFFSETFROM:-0600
TZOFFSETTO:-0500
TZNAME:CDT
DTSTART:20280312T080000
END:DAYLIGHT
BEGIN:STANDARD
TZOFFSETFROM:-0500
TZOFFSETTO:-0600
TZNAME:CST
DTSTART:20281105T070000
END:STANDARD
BEGIN:DAYLIGHT
TZOFFSETFROM:-0600
TZOFFSETTO:-0500
TZNAME:CDT
DTSTART:20290311T080000
END:DAYLIGHT
BEGIN:STANDARD
TZOFFSETFROM:-0500
TZOFFSETTO:-0600
TZNAME:CST
DTSTART:20291104T070000
END:STANDARD
END:VTIMEZONE
BEGIN:VEVENT
DTSTART;TZID=America/Chicago:20260311T110000
DTEND;TZID=America/Chicago:20260311T120000
DTSTAMP:20260422T191202
CREATED:20250609T015912Z
LAST-MODIFIED:20250609T015912Z
UID:10001333-1773226800-1773230400@michigancityin.gov
SUMMARY:Police Civil Service Commission Regular Meeting
DESCRIPTION:
URL:https://michigancityin.gov/city-event/police-civil-service-commission-regular-meeting/2026-03-11/
LOCATION:Police Department Community Room\, 1201 E. Michigan Blvd.\, Michigan City\, 46360\, United States
CATEGORIES:Police Civil Service Commission
END:VEVENT
BEGIN:VEVENT
DTSTART;TZID=America/Chicago:20260311T114000
DTEND;TZID=America/Chicago:20260311T124000
DTSTAMP:20260422T191202
CREATED:20260309T194516Z
LAST-MODIFIED:20260309T194533Z
UID:10003449-1773229200-1773232800@michigancityin.gov
SUMMARY:Police Civil Service Commission Executive Session
DESCRIPTION:
URL:https://michigancityin.gov/city-event/police-civil-service-commission-executive-session/
CATEGORIES:Police Civil Service Commission
END:VEVENT
BEGIN:VEVENT
DTSTART;TZID=America/Chicago:20260331T153000
DTEND;TZID=America/Chicago:20260331T163000
DTSTAMP:20260422T191202
CREATED:20260325T121033Z
LAST-MODIFIED:20260325T121033Z
UID:10003494-1774971000-1774974600@michigancityin.gov
SUMMARY:Police Pension Executive Session
DESCRIPTION:
URL:https://michigancityin.gov/city-event/police-pension-executive-session/
LOCATION:Michigan City Police Department\, 1201 E Michigan Blvd\, Michigan City\, IN\, 46360\, United States
CATEGORIES:Police Civil Service Commission
END:VEVENT
BEGIN:VEVENT
DTSTART;TZID=America/Chicago:20260408T110000
DTEND;TZID=America/Chicago:20260408T120000
DTSTAMP:20260422T191202
CREATED:20250609T015912Z
LAST-MODIFIED:20250609T015912Z
UID:10001334-1775646000-1775649600@michigancityin.gov
SUMMARY:Police Civil Service Commission Regular Meeting
DESCRIPTION:
URL:https://michigancityin.gov/city-event/police-civil-service-commission-regular-meeting/2026-04-08/
LOCATION:Police Department Community Room\, 1201 E. Michigan Blvd.\, Michigan City\, 46360\, United States
CATEGORIES:Police Civil Service Commission
END:VEVENT
BEGIN:VEVENT
DTSTART;TZID=America/Chicago:20260425T090000
DTEND;TZID=America/Chicago:20260425T100000
DTSTAMP:20260422T191202
CREATED:20260422T195200Z
LAST-MODIFIED:20260422T195200Z
UID:10003538-1777107600-1777111200@michigancityin.gov
SUMMARY:Michigan City Police Civil Service Commission Executive Session
DESCRIPTION:
URL:https://michigancityin.gov/city-event/michigan-city-police-civil-service-commission-executive-session/
CATEGORIES:Police Civil Service Commission
END:VEVENT
BEGIN:VEVENT
DTSTART;TZID=America/Chicago:20260513T110000
DTEND;TZID=America/Chicago:20260513T120000
DTSTAMP:20260422T191202
CREATED:20250609T015912Z
LAST-MODIFIED:20250609T015912Z
UID:10001335-1778670000-1778673600@michigancityin.gov
SUMMARY:Police Civil Service Commission Regular Meeting
DESCRIPTION:
URL:https://michigancityin.gov/city-event/police-civil-service-commission-regular-meeting/2026-05-13/
LOCATION:Police Department Community Room\, 1201 E. Michigan Blvd.\, Michigan City\, 46360\, United States
CATEGORIES:Police Civil Service Commission
END:VEVENT
BEGIN:VEVENT
DTSTART;TZID=America/Chicago:20260610T110000
DTEND;TZID=America/Chicago:20260610T120000
DTSTAMP:20260422T191202
CREATED:20250609T015912Z
LAST-MODIFIED:20250609T015912Z
UID:10001336-1781089200-1781092800@michigancityin.gov
SUMMARY:Police Civil Service Commission Regular Meeting
DESCRIPTION:
URL:https://michigancityin.gov/city-event/police-civil-service-commission-regular-meeting/2026-06-10/
LOCATION:Police Department Community Room\, 1201 E. Michigan Blvd.\, Michigan City\, 46360\, United States
CATEGORIES:Police Civil Service Commission
END:VEVENT
BEGIN:VEVENT
DTSTART;TZID=America/Chicago:20260708T110000
DTEND;TZID=America/Chicago:20260708T120000
DTSTAMP:20260422T191202
CREATED:20250609T015912Z
LAST-MODIFIED:20250609T015912Z
UID:10001337-1783508400-1783512000@michigancityin.gov
SUMMARY:Police Civil Service Commission Regular Meeting
DESCRIPTION:
URL:https://michigancityin.gov/city-event/police-civil-service-commission-regular-meeting/2026-07-08/
LOCATION:Police Department Community Room\, 1201 E. Michigan Blvd.\, Michigan City\, 46360\, United States
CATEGORIES:Police Civil Service Commission
END:VEVENT
BEGIN:VEVENT
DTSTART;TZID=America/Chicago:20260812T110000
DTEND;TZID=America/Chicago:20260812T120000
DTSTAMP:20260422T191202
CREATED:20250609T015912Z
LAST-MODIFIED:20250609T015912Z
UID:10001338-1786532400-1786536000@michigancityin.gov
SUMMARY:Police Civil Service Commission Regular Meeting
DESCRIPTION:
URL:https://michigancityin.gov/city-event/police-civil-service-commission-regular-meeting/2026-08-12/
LOCATION:Police Department Community Room\, 1201 E. Michigan Blvd.\, Michigan City\, 46360\, United States
CATEGORIES:Police Civil Service Commission
END:VEVENT
BEGIN:VEVENT
DTSTART;TZID=America/Chicago:20260909T110000
DTEND;TZID=America/Chicago:20260909T120000
DTSTAMP:20260422T191202
CREATED:20250609T015912Z
LAST-MODIFIED:20250609T015912Z
UID:10001339-1788951600-1788955200@michigancityin.gov
SUMMARY:Police Civil Service Commission Regular Meeting
DESCRIPTION:
URL:https://michigancityin.gov/city-event/police-civil-service-commission-regular-meeting/2026-09-09/
LOCATION:Police Department Community Room\, 1201 E. Michigan Blvd.\, Michigan City\, 46360\, United States
CATEGORIES:Police Civil Service Commission
END:VEVENT
BEGIN:VEVENT
DTSTART;TZID=America/Chicago:20261014T110000
DTEND;TZID=America/Chicago:20261014T120000
DTSTAMP:20260422T191202
CREATED:20250609T015912Z
LAST-MODIFIED:20250609T015912Z
UID:10001340-1791975600-1791979200@michigancityin.gov
SUMMARY:Police Civil Service Commission Regular Meeting
DESCRIPTION:
URL:https://michigancityin.gov/city-event/police-civil-service-commission-regular-meeting/2026-10-14/
LOCATION:Police Department Community Room\, 1201 E. Michigan Blvd.\, Michigan City\, 46360\, United States
CATEGORIES:Police Civil Service Commission
END:VEVENT
BEGIN:VEVENT
DTSTART;TZID=America/Chicago:20261111T110000
DTEND;TZID=America/Chicago:20261111T120000
DTSTAMP:20260422T191202
CREATED:20250609T015912Z
LAST-MODIFIED:20250609T015912Z
UID:10001341-1794394800-1794398400@michigancityin.gov
SUMMARY:Police Civil Service Commission Regular Meeting
DESCRIPTION:
URL:https://michigancityin.gov/city-event/police-civil-service-commission-regular-meeting/2026-11-11/
LOCATION:Police Department Community Room\, 1201 E. Michigan Blvd.\, Michigan City\, 46360\, United States
CATEGORIES:Police Civil Service Commission
END:VEVENT
BEGIN:VEVENT
DTSTART;TZID=America/Chicago:20261209T110000
DTEND;TZID=America/Chicago:20261209T120000
DTSTAMP:20260422T191202
CREATED:20250609T015912Z
LAST-MODIFIED:20250609T015912Z
UID:10001342-1796814000-1796817600@michigancityin.gov
SUMMARY:Police Civil Service Commission Regular Meeting
DESCRIPTION:
URL:https://michigancityin.gov/city-event/police-civil-service-commission-regular-meeting/2026-12-09/
LOCATION:Police Department Community Room\, 1201 E. Michigan Blvd.\, Michigan City\, 46360\, United States
CATEGORIES:Police Civil Service Commission
END:VEVENT
BEGIN:VEVENT
DTSTART;TZID=America/Chicago:20270113T110000
DTEND;TZID=America/Chicago:20270113T120000
DTSTAMP:20260422T191202
CREATED:20250609T015912Z
LAST-MODIFIED:20250609T015912Z
UID:10001343-1799838000-1799841600@michigancityin.gov
SUMMARY:Police Civil Service Commission Regular Meeting
DESCRIPTION:
URL:https://michigancityin.gov/city-event/police-civil-service-commission-regular-meeting/2027-01-13/
LOCATION:Police Department Community Room\, 1201 E. Michigan Blvd.\, Michigan City\, 46360\, United States
CATEGORIES:Police Civil Service Commission
END:VEVENT
BEGIN:VEVENT
DTSTART;TZID=America/Chicago:20270210T110000
DTEND;TZID=America/Chicago:20270210T120000
DTSTAMP:20260422T191202
CREATED:20250609T015912Z
LAST-MODIFIED:20250609T015912Z
UID:10001344-1802257200-1802260800@michigancityin.gov
SUMMARY:Police Civil Service Commission Regular Meeting
DESCRIPTION:
URL:https://michigancityin.gov/city-event/police-civil-service-commission-regular-meeting/2027-02-10/
LOCATION:Police Department Community Room\, 1201 E. Michigan Blvd.\, Michigan City\, 46360\, United States
CATEGORIES:Police Civil Service Commission
END:VEVENT
BEGIN:VEVENT
DTSTART;TZID=America/Chicago:20270310T110000
DTEND;TZID=America/Chicago:20270310T120000
DTSTAMP:20260422T191202
CREATED:20250609T015912Z
LAST-MODIFIED:20250609T015912Z
UID:10001345-1804676400-1804680000@michigancityin.gov
SUMMARY:Police Civil Service Commission Regular Meeting
DESCRIPTION:
URL:https://michigancityin.gov/city-event/police-civil-service-commission-regular-meeting/2027-03-10/
LOCATION:Police Department Community Room\, 1201 E. Michigan Blvd.\, Michigan City\, 46360\, United States
CATEGORIES:Police Civil Service Commission
END:VEVENT
BEGIN:VEVENT
DTSTART;TZID=America/Chicago:20270414T110000
DTEND;TZID=America/Chicago:20270414T120000
DTSTAMP:20260422T191202
CREATED:20250609T015912Z
LAST-MODIFIED:20250609T015912Z
UID:10001346-1807700400-1807704000@michigancityin.gov
SUMMARY:Police Civil Service Commission Regular Meeting
DESCRIPTION:
URL:https://michigancityin.gov/city-event/police-civil-service-commission-regular-meeting/2027-04-14/
LOCATION:Police Department Community Room\, 1201 E. Michigan Blvd.\, Michigan City\, 46360\, United States
CATEGORIES:Police Civil Service Commission
END:VEVENT
BEGIN:VEVENT
DTSTART;TZID=America/Chicago:20270512T110000
DTEND;TZID=America/Chicago:20270512T120000
DTSTAMP:20260422T191202
CREATED:20250609T015912Z
LAST-MODIFIED:20250609T015912Z
UID:10001347-1810119600-1810123200@michigancityin.gov
SUMMARY:Police Civil Service Commission Regular Meeting
DESCRIPTION:
URL:https://michigancityin.gov/city-event/police-civil-service-commission-regular-meeting/2027-05-12/
LOCATION:Police Department Community Room\, 1201 E. Michigan Blvd.\, Michigan City\, 46360\, United States
CATEGORIES:Police Civil Service Commission
END:VEVENT
BEGIN:VEVENT
DTSTART;TZID=America/Chicago:20270609T110000
DTEND;TZID=America/Chicago:20270609T120000
DTSTAMP:20260422T191202
CREATED:20250609T015912Z
LAST-MODIFIED:20250609T015912Z
UID:10001348-1812538800-1812542400@michigancityin.gov
SUMMARY:Police Civil Service Commission Regular Meeting
DESCRIPTION:
URL:https://michigancityin.gov/city-event/police-civil-service-commission-regular-meeting/2027-06-09/
LOCATION:Police Department Community Room\, 1201 E. Michigan Blvd.\, Michigan City\, 46360\, United States
CATEGORIES:Police Civil Service Commission
END:VEVENT
BEGIN:VEVENT
DTSTART;TZID=America/Chicago:20270714T110000
DTEND;TZID=America/Chicago:20270714T120000
DTSTAMP:20260422T191202
CREATED:20250609T015912Z
LAST-MODIFIED:20250609T015912Z
UID:10001349-1815562800-1815566400@michigancityin.gov
SUMMARY:Police Civil Service Commission Regular Meeting
DESCRIPTION:
URL:https://michigancityin.gov/city-event/police-civil-service-commission-regular-meeting/2027-07-14/
LOCATION:Police Department Community Room\, 1201 E. Michigan Blvd.\, Michigan City\, 46360\, United States
CATEGORIES:Police Civil Service Commission
END:VEVENT
BEGIN:VEVENT
DTSTART;TZID=America/Chicago:20270811T110000
DTEND;TZID=America/Chicago:20270811T120000
DTSTAMP:20260422T191202
CREATED:20250609T015912Z
LAST-MODIFIED:20250609T015912Z
UID:10001350-1817982000-1817985600@michigancityin.gov
SUMMARY:Police Civil Service Commission Regular Meeting
DESCRIPTION:
URL:https://michigancityin.gov/city-event/police-civil-service-commission-regular-meeting/2027-08-11/
LOCATION:Police Department Community Room\, 1201 E. Michigan Blvd.\, Michigan City\, 46360\, United States
CATEGORIES:Police Civil Service Commission
END:VEVENT
BEGIN:VEVENT
DTSTART;TZID=America/Chicago:20270908T110000
DTEND;TZID=America/Chicago:20270908T120000
DTSTAMP:20260422T191202
CREATED:20250609T015912Z
LAST-MODIFIED:20250609T015912Z
UID:10001351-1820401200-1820404800@michigancityin.gov
SUMMARY:Police Civil Service Commission Regular Meeting
DESCRIPTION:
URL:https://michigancityin.gov/city-event/police-civil-service-commission-regular-meeting/2027-09-08/
LOCATION:Police Department Community Room\, 1201 E. Michigan Blvd.\, Michigan City\, 46360\, United States
CATEGORIES:Police Civil Service Commission
END:VEVENT
BEGIN:VEVENT
DTSTART;TZID=America/Chicago:20271013T110000
DTEND;TZID=America/Chicago:20271013T120000
DTSTAMP:20260422T191202
CREATED:20250609T015912Z
LAST-MODIFIED:20250609T015912Z
UID:10001352-1823425200-1823428800@michigancityin.gov
SUMMARY:Police Civil Service Commission Regular Meeting
DESCRIPTION:
URL:https://michigancityin.gov/city-event/police-civil-service-commission-regular-meeting/2027-10-13/
LOCATION:Police Department Community Room\, 1201 E. Michigan Blvd.\, Michigan City\, 46360\, United States
CATEGORIES:Police Civil Service Commission
END:VEVENT
BEGIN:VEVENT
DTSTART;TZID=America/Chicago:20271110T110000
DTEND;TZID=America/Chicago:20271110T120000
DTSTAMP:20260422T191202
CREATED:20250609T015912Z
LAST-MODIFIED:20250609T015912Z
UID:10001353-1825844400-1825848000@michigancityin.gov
SUMMARY:Police Civil Service Commission Regular Meeting
DESCRIPTION:
URL:https://michigancityin.gov/city-event/police-civil-service-commission-regular-meeting/2027-11-10/
LOCATION:Police Department Community Room\, 1201 E. Michigan Blvd.\, Michigan City\, 46360\, United States
CATEGORIES:Police Civil Service Commission
END:VEVENT
BEGIN:VEVENT
DTSTART;TZID=America/Chicago:20271208T110000
DTEND;TZID=America/Chicago:20271208T120000
DTSTAMP:20260422T191202
CREATED:20250609T015912Z
LAST-MODIFIED:20250609T015912Z
UID:10001354-1828263600-1828267200@michigancityin.gov
SUMMARY:Police Civil Service Commission Regular Meeting
DESCRIPTION:
URL:https://michigancityin.gov/city-event/police-civil-service-commission-regular-meeting/2027-12-08/
LOCATION:Police Department Community Room\, 1201 E. Michigan Blvd.\, Michigan City\, 46360\, United States
CATEGORIES:Police Civil Service Commission
END:VEVENT
BEGIN:VEVENT
DTSTART;TZID=America/Chicago:20280112T110000
DTEND;TZID=America/Chicago:20280112T120000
DTSTAMP:20260422T191202
CREATED:20250609T015912Z
LAST-MODIFIED:20250609T015912Z
UID:10001355-1831287600-1831291200@michigancityin.gov
SUMMARY:Police Civil Service Commission Regular Meeting
DESCRIPTION:
URL:https://michigancityin.gov/city-event/police-civil-service-commission-regular-meeting/2028-01-12/
LOCATION:Police Department Community Room\, 1201 E. Michigan Blvd.\, Michigan City\, 46360\, United States
CATEGORIES:Police Civil Service Commission
END:VEVENT
BEGIN:VEVENT
DTSTART;TZID=America/Chicago:20280209T110000
DTEND;TZID=America/Chicago:20280209T120000
DTSTAMP:20260422T191202
CREATED:20250609T015912Z
LAST-MODIFIED:20250609T015912Z
UID:10001356-1833706800-1833710400@michigancityin.gov
SUMMARY:Police Civil Service Commission Regular Meeting
DESCRIPTION:
URL:https://michigancityin.gov/city-event/police-civil-service-commission-regular-meeting/2028-02-09/
LOCATION:Police Department Community Room\, 1201 E. Michigan Blvd.\, Michigan City\, 46360\, United States
CATEGORIES:Police Civil Service Commission
END:VEVENT
BEGIN:VEVENT
DTSTART;TZID=America/Chicago:20280308T110000
DTEND;TZID=America/Chicago:20280308T120000
DTSTAMP:20260422T191202
CREATED:20250609T015912Z
LAST-MODIFIED:20250609T015912Z
UID:10001357-1836126000-1836129600@michigancityin.gov
SUMMARY:Police Civil Service Commission Regular Meeting
DESCRIPTION:
URL:https://michigancityin.gov/city-event/police-civil-service-commission-regular-meeting/2028-03-08/
LOCATION:Police Department Community Room\, 1201 E. Michigan Blvd.\, Michigan City\, 46360\, United States
CATEGORIES:Police Civil Service Commission
END:VEVENT
BEGIN:VEVENT
DTSTART;TZID=America/Chicago:20280412T110000
DTEND;TZID=America/Chicago:20280412T120000
DTSTAMP:20260422T191202
CREATED:20250609T015912Z
LAST-MODIFIED:20250609T015912Z
UID:10001358-1839150000-1839153600@michigancityin.gov
SUMMARY:Police Civil Service Commission Regular Meeting
DESCRIPTION:
URL:https://michigancityin.gov/city-event/police-civil-service-commission-regular-meeting/2028-04-12/
LOCATION:Police Department Community Room\, 1201 E. Michigan Blvd.\, Michigan City\, 46360\, United States
CATEGORIES:Police Civil Service Commission
END:VEVENT
BEGIN:VEVENT
DTSTART;TZID=America/Chicago:20280510T110000
DTEND;TZID=America/Chicago:20280510T120000
DTSTAMP:20260422T191202
CREATED:20250609T015912Z
LAST-MODIFIED:20250609T015912Z
UID:10001359-1841569200-1841572800@michigancityin.gov
SUMMARY:Police Civil Service Commission Regular Meeting
DESCRIPTION:
URL:https://michigancityin.gov/city-event/police-civil-service-commission-regular-meeting/2028-05-10/
LOCATION:Police Department Community Room\, 1201 E. Michigan Blvd.\, Michigan City\, 46360\, United States
CATEGORIES:Police Civil Service Commission
END:VEVENT
END:VCALENDAR