BEGIN:VCALENDAR
VERSION:2.0
PRODID:-//City of Michigan City Indiana - ECPv6.15.20//NONSGML v1.0//EN
CALSCALE:GREGORIAN
METHOD:PUBLISH
X-ORIGINAL-URL:https://michigancityin.gov
X-WR-CALDESC:Events for City of Michigan City Indiana
REFRESH-INTERVAL;VALUE=DURATION:PT1H
X-Robots-Tag:noindex
X-PUBLISHED-TTL:PT1H
BEGIN:VTIMEZONE
TZID:America/Chicago
BEGIN:DAYLIGHT
TZOFFSETFROM:-0600
TZOFFSETTO:-0500
TZNAME:CDT
DTSTART:20270314T080000
END:DAYLIGHT
BEGIN:STANDARD
TZOFFSETFROM:-0500
TZOFFSETTO:-0600
TZNAME:CST
DTSTART:20271107T070000
END:STANDARD
BEGIN:DAYLIGHT
TZOFFSETFROM:-0600
TZOFFSETTO:-0500
TZNAME:CDT
DTSTART:20280312T080000
END:DAYLIGHT
BEGIN:STANDARD
TZOFFSETFROM:-0500
TZOFFSETTO:-0600
TZNAME:CST
DTSTART:20281105T070000
END:STANDARD
BEGIN:DAYLIGHT
TZOFFSETFROM:-0600
TZOFFSETTO:-0500
TZNAME:CDT
DTSTART:20290311T080000
END:DAYLIGHT
BEGIN:STANDARD
TZOFFSETFROM:-0500
TZOFFSETTO:-0600
TZNAME:CST
DTSTART:20291104T070000
END:STANDARD
BEGIN:DAYLIGHT
TZOFFSETFROM:-0600
TZOFFSETTO:-0500
TZNAME:CDT
DTSTART:20300310T080000
END:DAYLIGHT
BEGIN:STANDARD
TZOFFSETFROM:-0500
TZOFFSETTO:-0600
TZNAME:CST
DTSTART:20301103T070000
END:STANDARD
BEGIN:DAYLIGHT
TZOFFSETFROM:-0600
TZOFFSETTO:-0500
TZNAME:CDT
DTSTART:20310309T080000
END:DAYLIGHT
BEGIN:STANDARD
TZOFFSETFROM:-0500
TZOFFSETTO:-0600
TZNAME:CST
DTSTART:20311102T070000
END:STANDARD
END:VTIMEZONE
BEGIN:VEVENT
DTSTART;TZID=America/Chicago:20280412T110000
DTEND;TZID=America/Chicago:20280412T120000
DTSTAMP:20260422T173145
CREATED:20250609T015912Z
LAST-MODIFIED:20250609T015912Z
UID:10001358-1839150000-1839153600@michigancityin.gov
SUMMARY:Police Civil Service Commission Regular Meeting
DESCRIPTION:
URL:https://michigancityin.gov/city-event/police-civil-service-commission-regular-meeting/2028-04-12/
LOCATION:Police Department Community Room\, 1201 E. Michigan Blvd.\, Michigan City\, 46360\, United States
CATEGORIES:Police Civil Service Commission
END:VEVENT
BEGIN:VEVENT
DTSTART;TZID=America/Chicago:20280510T110000
DTEND;TZID=America/Chicago:20280510T120000
DTSTAMP:20260422T173145
CREATED:20250609T015912Z
LAST-MODIFIED:20250609T015912Z
UID:10001359-1841569200-1841572800@michigancityin.gov
SUMMARY:Police Civil Service Commission Regular Meeting
DESCRIPTION:
URL:https://michigancityin.gov/city-event/police-civil-service-commission-regular-meeting/2028-05-10/
LOCATION:Police Department Community Room\, 1201 E. Michigan Blvd.\, Michigan City\, 46360\, United States
CATEGORIES:Police Civil Service Commission
END:VEVENT
BEGIN:VEVENT
DTSTART;TZID=America/Chicago:20280614T110000
DTEND;TZID=America/Chicago:20280614T120000
DTSTAMP:20260422T173145
CREATED:20250609T015912Z
LAST-MODIFIED:20250609T015912Z
UID:10001360-1844593200-1844596800@michigancityin.gov
SUMMARY:Police Civil Service Commission Regular Meeting
DESCRIPTION:
URL:https://michigancityin.gov/city-event/police-civil-service-commission-regular-meeting/2028-06-14/
LOCATION:Police Department Community Room\, 1201 E. Michigan Blvd.\, Michigan City\, 46360\, United States
CATEGORIES:Police Civil Service Commission
END:VEVENT
BEGIN:VEVENT
DTSTART;TZID=America/Chicago:20280712T110000
DTEND;TZID=America/Chicago:20280712T120000
DTSTAMP:20260422T173145
CREATED:20250609T015912Z
LAST-MODIFIED:20250609T015912Z
UID:10001361-1847012400-1847016000@michigancityin.gov
SUMMARY:Police Civil Service Commission Regular Meeting
DESCRIPTION:
URL:https://michigancityin.gov/city-event/police-civil-service-commission-regular-meeting/2028-07-12/
LOCATION:Police Department Community Room\, 1201 E. Michigan Blvd.\, Michigan City\, 46360\, United States
CATEGORIES:Police Civil Service Commission
END:VEVENT
BEGIN:VEVENT
DTSTART;TZID=America/Chicago:20280809T110000
DTEND;TZID=America/Chicago:20280809T120000
DTSTAMP:20260422T173145
CREATED:20250609T015912Z
LAST-MODIFIED:20250609T015912Z
UID:10001362-1849431600-1849435200@michigancityin.gov
SUMMARY:Police Civil Service Commission Regular Meeting
DESCRIPTION:
URL:https://michigancityin.gov/city-event/police-civil-service-commission-regular-meeting/2028-08-09/
LOCATION:Police Department Community Room\, 1201 E. Michigan Blvd.\, Michigan City\, 46360\, United States
CATEGORIES:Police Civil Service Commission
END:VEVENT
BEGIN:VEVENT
DTSTART;TZID=America/Chicago:20280913T110000
DTEND;TZID=America/Chicago:20280913T120000
DTSTAMP:20260422T173145
CREATED:20250609T015912Z
LAST-MODIFIED:20250609T015912Z
UID:10001363-1852455600-1852459200@michigancityin.gov
SUMMARY:Police Civil Service Commission Regular Meeting
DESCRIPTION:
URL:https://michigancityin.gov/city-event/police-civil-service-commission-regular-meeting/2028-09-13/
LOCATION:Police Department Community Room\, 1201 E. Michigan Blvd.\, Michigan City\, 46360\, United States
CATEGORIES:Police Civil Service Commission
END:VEVENT
BEGIN:VEVENT
DTSTART;TZID=America/Chicago:20281011T110000
DTEND;TZID=America/Chicago:20281011T120000
DTSTAMP:20260422T173145
CREATED:20250609T015912Z
LAST-MODIFIED:20250609T015912Z
UID:10001364-1854874800-1854878400@michigancityin.gov
SUMMARY:Police Civil Service Commission Regular Meeting
DESCRIPTION:
URL:https://michigancityin.gov/city-event/police-civil-service-commission-regular-meeting/2028-10-11/
LOCATION:Police Department Community Room\, 1201 E. Michigan Blvd.\, Michigan City\, 46360\, United States
CATEGORIES:Police Civil Service Commission
END:VEVENT
BEGIN:VEVENT
DTSTART;TZID=America/Chicago:20281108T110000
DTEND;TZID=America/Chicago:20281108T120000
DTSTAMP:20260422T173145
CREATED:20250609T015912Z
LAST-MODIFIED:20250609T015912Z
UID:10001365-1857294000-1857297600@michigancityin.gov
SUMMARY:Police Civil Service Commission Regular Meeting
DESCRIPTION:
URL:https://michigancityin.gov/city-event/police-civil-service-commission-regular-meeting/2028-11-08/
LOCATION:Police Department Community Room\, 1201 E. Michigan Blvd.\, Michigan City\, 46360\, United States
CATEGORIES:Police Civil Service Commission
END:VEVENT
BEGIN:VEVENT
DTSTART;TZID=America/Chicago:20281213T110000
DTEND;TZID=America/Chicago:20281213T120000
DTSTAMP:20260422T173145
CREATED:20250609T015912Z
LAST-MODIFIED:20250609T015912Z
UID:10001366-1860318000-1860321600@michigancityin.gov
SUMMARY:Police Civil Service Commission Regular Meeting
DESCRIPTION:
URL:https://michigancityin.gov/city-event/police-civil-service-commission-regular-meeting/2028-12-13/
LOCATION:Police Department Community Room\, 1201 E. Michigan Blvd.\, Michigan City\, 46360\, United States
CATEGORIES:Police Civil Service Commission
END:VEVENT
BEGIN:VEVENT
DTSTART;TZID=America/Chicago:20290110T110000
DTEND;TZID=America/Chicago:20290110T120000
DTSTAMP:20260422T173145
CREATED:20250609T015912Z
LAST-MODIFIED:20250609T015912Z
UID:10001367-1862737200-1862740800@michigancityin.gov
SUMMARY:Police Civil Service Commission Regular Meeting
DESCRIPTION:
URL:https://michigancityin.gov/city-event/police-civil-service-commission-regular-meeting/2029-01-10/
LOCATION:Police Department Community Room\, 1201 E. Michigan Blvd.\, Michigan City\, 46360\, United States
CATEGORIES:Police Civil Service Commission
END:VEVENT
BEGIN:VEVENT
DTSTART;TZID=America/Chicago:20290214T110000
DTEND;TZID=America/Chicago:20290214T120000
DTSTAMP:20260422T173145
CREATED:20250609T015912Z
LAST-MODIFIED:20250609T015912Z
UID:10001368-1865761200-1865764800@michigancityin.gov
SUMMARY:Police Civil Service Commission Regular Meeting
DESCRIPTION:
URL:https://michigancityin.gov/city-event/police-civil-service-commission-regular-meeting/2029-02-14/
LOCATION:Police Department Community Room\, 1201 E. Michigan Blvd.\, Michigan City\, 46360\, United States
CATEGORIES:Police Civil Service Commission
END:VEVENT
BEGIN:VEVENT
DTSTART;TZID=America/Chicago:20290314T110000
DTEND;TZID=America/Chicago:20290314T120000
DTSTAMP:20260422T173145
CREATED:20250609T015912Z
LAST-MODIFIED:20250609T015912Z
UID:10001369-1868180400-1868184000@michigancityin.gov
SUMMARY:Police Civil Service Commission Regular Meeting
DESCRIPTION:
URL:https://michigancityin.gov/city-event/police-civil-service-commission-regular-meeting/2029-03-14/
LOCATION:Police Department Community Room\, 1201 E. Michigan Blvd.\, Michigan City\, 46360\, United States
CATEGORIES:Police Civil Service Commission
END:VEVENT
BEGIN:VEVENT
DTSTART;TZID=America/Chicago:20290411T110000
DTEND;TZID=America/Chicago:20290411T120000
DTSTAMP:20260422T173145
CREATED:20250609T015912Z
LAST-MODIFIED:20250609T015912Z
UID:10001370-1870599600-1870603200@michigancityin.gov
SUMMARY:Police Civil Service Commission Regular Meeting
DESCRIPTION:
URL:https://michigancityin.gov/city-event/police-civil-service-commission-regular-meeting/2029-04-11/
LOCATION:Police Department Community Room\, 1201 E. Michigan Blvd.\, Michigan City\, 46360\, United States
CATEGORIES:Police Civil Service Commission
END:VEVENT
BEGIN:VEVENT
DTSTART;TZID=America/Chicago:20290509T110000
DTEND;TZID=America/Chicago:20290509T120000
DTSTAMP:20260422T173145
CREATED:20250609T015912Z
LAST-MODIFIED:20250609T015912Z
UID:10001371-1873018800-1873022400@michigancityin.gov
SUMMARY:Police Civil Service Commission Regular Meeting
DESCRIPTION:
URL:https://michigancityin.gov/city-event/police-civil-service-commission-regular-meeting/2029-05-09/
LOCATION:Police Department Community Room\, 1201 E. Michigan Blvd.\, Michigan City\, 46360\, United States
CATEGORIES:Police Civil Service Commission
END:VEVENT
BEGIN:VEVENT
DTSTART;TZID=America/Chicago:20290613T110000
DTEND;TZID=America/Chicago:20290613T120000
DTSTAMP:20260422T173145
CREATED:20250609T015912Z
LAST-MODIFIED:20250609T015912Z
UID:10001372-1876042800-1876046400@michigancityin.gov
SUMMARY:Police Civil Service Commission Regular Meeting
DESCRIPTION:
URL:https://michigancityin.gov/city-event/police-civil-service-commission-regular-meeting/2029-06-13/
LOCATION:Police Department Community Room\, 1201 E. Michigan Blvd.\, Michigan City\, 46360\, United States
CATEGORIES:Police Civil Service Commission
END:VEVENT
BEGIN:VEVENT
DTSTART;TZID=America/Chicago:20290711T110000
DTEND;TZID=America/Chicago:20290711T120000
DTSTAMP:20260422T173145
CREATED:20250609T015912Z
LAST-MODIFIED:20250609T015912Z
UID:10001373-1878462000-1878465600@michigancityin.gov
SUMMARY:Police Civil Service Commission Regular Meeting
DESCRIPTION:
URL:https://michigancityin.gov/city-event/police-civil-service-commission-regular-meeting/2029-07-11/
LOCATION:Police Department Community Room\, 1201 E. Michigan Blvd.\, Michigan City\, 46360\, United States
CATEGORIES:Police Civil Service Commission
END:VEVENT
BEGIN:VEVENT
DTSTART;TZID=America/Chicago:20290808T110000
DTEND;TZID=America/Chicago:20290808T120000
DTSTAMP:20260422T173145
CREATED:20250609T015912Z
LAST-MODIFIED:20250609T015912Z
UID:10001374-1880881200-1880884800@michigancityin.gov
SUMMARY:Police Civil Service Commission Regular Meeting
DESCRIPTION:
URL:https://michigancityin.gov/city-event/police-civil-service-commission-regular-meeting/2029-08-08/
LOCATION:Police Department Community Room\, 1201 E. Michigan Blvd.\, Michigan City\, 46360\, United States
CATEGORIES:Police Civil Service Commission
END:VEVENT
BEGIN:VEVENT
DTSTART;TZID=America/Chicago:20290912T110000
DTEND;TZID=America/Chicago:20290912T120000
DTSTAMP:20260422T173145
CREATED:20250609T015912Z
LAST-MODIFIED:20250609T015912Z
UID:10001375-1883905200-1883908800@michigancityin.gov
SUMMARY:Police Civil Service Commission Regular Meeting
DESCRIPTION:
URL:https://michigancityin.gov/city-event/police-civil-service-commission-regular-meeting/2029-09-12/
LOCATION:Police Department Community Room\, 1201 E. Michigan Blvd.\, Michigan City\, 46360\, United States
CATEGORIES:Police Civil Service Commission
END:VEVENT
BEGIN:VEVENT
DTSTART;TZID=America/Chicago:20291010T110000
DTEND;TZID=America/Chicago:20291010T120000
DTSTAMP:20260422T173145
CREATED:20250609T015912Z
LAST-MODIFIED:20250609T015912Z
UID:10001376-1886324400-1886328000@michigancityin.gov
SUMMARY:Police Civil Service Commission Regular Meeting
DESCRIPTION:
URL:https://michigancityin.gov/city-event/police-civil-service-commission-regular-meeting/2029-10-10/
LOCATION:Police Department Community Room\, 1201 E. Michigan Blvd.\, Michigan City\, 46360\, United States
CATEGORIES:Police Civil Service Commission
END:VEVENT
BEGIN:VEVENT
DTSTART;TZID=America/Chicago:20291114T110000
DTEND;TZID=America/Chicago:20291114T120000
DTSTAMP:20260422T173145
CREATED:20250609T015912Z
LAST-MODIFIED:20250609T015912Z
UID:10001377-1889348400-1889352000@michigancityin.gov
SUMMARY:Police Civil Service Commission Regular Meeting
DESCRIPTION:
URL:https://michigancityin.gov/city-event/police-civil-service-commission-regular-meeting/2029-11-14/
LOCATION:Police Department Community Room\, 1201 E. Michigan Blvd.\, Michigan City\, 46360\, United States
CATEGORIES:Police Civil Service Commission
END:VEVENT
BEGIN:VEVENT
DTSTART;TZID=America/Chicago:20291212T110000
DTEND;TZID=America/Chicago:20291212T120000
DTSTAMP:20260422T173145
CREATED:20250609T015912Z
LAST-MODIFIED:20250609T015912Z
UID:10001378-1891767600-1891771200@michigancityin.gov
SUMMARY:Police Civil Service Commission Regular Meeting
DESCRIPTION:
URL:https://michigancityin.gov/city-event/police-civil-service-commission-regular-meeting/2029-12-12/
LOCATION:Police Department Community Room\, 1201 E. Michigan Blvd.\, Michigan City\, 46360\, United States
CATEGORIES:Police Civil Service Commission
END:VEVENT
BEGIN:VEVENT
DTSTART;TZID=America/Chicago:20300109T110000
DTEND;TZID=America/Chicago:20300109T120000
DTSTAMP:20260422T173145
CREATED:20250609T015912Z
LAST-MODIFIED:20250609T015912Z
UID:10001379-1894186800-1894190400@michigancityin.gov
SUMMARY:Police Civil Service Commission Regular Meeting
DESCRIPTION:
URL:https://michigancityin.gov/city-event/police-civil-service-commission-regular-meeting/2030-01-09/
LOCATION:Police Department Community Room\, 1201 E. Michigan Blvd.\, Michigan City\, 46360\, United States
CATEGORIES:Police Civil Service Commission
END:VEVENT
BEGIN:VEVENT
DTSTART;TZID=America/Chicago:20300213T110000
DTEND;TZID=America/Chicago:20300213T120000
DTSTAMP:20260422T173145
CREATED:20250609T015912Z
LAST-MODIFIED:20250609T015912Z
UID:10001380-1897210800-1897214400@michigancityin.gov
SUMMARY:Police Civil Service Commission Regular Meeting
DESCRIPTION:
URL:https://michigancityin.gov/city-event/police-civil-service-commission-regular-meeting/2030-02-13/
LOCATION:Police Department Community Room\, 1201 E. Michigan Blvd.\, Michigan City\, 46360\, United States
CATEGORIES:Police Civil Service Commission
END:VEVENT
BEGIN:VEVENT
DTSTART;TZID=America/Chicago:20300313T110000
DTEND;TZID=America/Chicago:20300313T120000
DTSTAMP:20260422T173145
CREATED:20250609T015912Z
LAST-MODIFIED:20250609T015912Z
UID:10001381-1899630000-1899633600@michigancityin.gov
SUMMARY:Police Civil Service Commission Regular Meeting
DESCRIPTION:
URL:https://michigancityin.gov/city-event/police-civil-service-commission-regular-meeting/2030-03-13/
LOCATION:Police Department Community Room\, 1201 E. Michigan Blvd.\, Michigan City\, 46360\, United States
CATEGORIES:Police Civil Service Commission
END:VEVENT
BEGIN:VEVENT
DTSTART;TZID=America/Chicago:20300410T110000
DTEND;TZID=America/Chicago:20300410T120000
DTSTAMP:20260422T173145
CREATED:20250609T015912Z
LAST-MODIFIED:20250609T015912Z
UID:10001382-1902049200-1902052800@michigancityin.gov
SUMMARY:Police Civil Service Commission Regular Meeting
DESCRIPTION:
URL:https://michigancityin.gov/city-event/police-civil-service-commission-regular-meeting/2030-04-10/
LOCATION:Police Department Community Room\, 1201 E. Michigan Blvd.\, Michigan City\, 46360\, United States
CATEGORIES:Police Civil Service Commission
END:VEVENT
BEGIN:VEVENT
DTSTART;TZID=America/Chicago:20300508T110000
DTEND;TZID=America/Chicago:20300508T120000
DTSTAMP:20260422T173145
CREATED:20250609T015912Z
LAST-MODIFIED:20250609T015912Z
UID:10001383-1904468400-1904472000@michigancityin.gov
SUMMARY:Police Civil Service Commission Regular Meeting
DESCRIPTION:
URL:https://michigancityin.gov/city-event/police-civil-service-commission-regular-meeting/2030-05-08/
LOCATION:Police Department Community Room\, 1201 E. Michigan Blvd.\, Michigan City\, 46360\, United States
CATEGORIES:Police Civil Service Commission
END:VEVENT
BEGIN:VEVENT
DTSTART;TZID=America/Chicago:20300612T110000
DTEND;TZID=America/Chicago:20300612T120000
DTSTAMP:20260422T173145
CREATED:20250609T015912Z
LAST-MODIFIED:20250609T015912Z
UID:10002944-1907492400-1907496000@michigancityin.gov
SUMMARY:Police Civil Service Commission Regular Meeting
DESCRIPTION:
URL:https://michigancityin.gov/city-event/police-civil-service-commission-regular-meeting/2030-06-12/
LOCATION:Police Department Community Room\, 1201 E. Michigan Blvd.\, Michigan City\, 46360\, United States
CATEGORIES:Police Civil Service Commission
END:VEVENT
BEGIN:VEVENT
DTSTART;TZID=America/Chicago:20300710T110000
DTEND;TZID=America/Chicago:20300710T120000
DTSTAMP:20260422T173145
CREATED:20250609T015912Z
LAST-MODIFIED:20250609T015912Z
UID:10002945-1909911600-1909915200@michigancityin.gov
SUMMARY:Police Civil Service Commission Regular Meeting
DESCRIPTION:
URL:https://michigancityin.gov/city-event/police-civil-service-commission-regular-meeting/2030-07-10/
LOCATION:Police Department Community Room\, 1201 E. Michigan Blvd.\, Michigan City\, 46360\, United States
CATEGORIES:Police Civil Service Commission
END:VEVENT
BEGIN:VEVENT
DTSTART;TZID=America/Chicago:20300814T110000
DTEND;TZID=America/Chicago:20300814T120000
DTSTAMP:20260422T173145
CREATED:20250609T015912Z
LAST-MODIFIED:20250609T015912Z
UID:10002946-1912935600-1912939200@michigancityin.gov
SUMMARY:Police Civil Service Commission Regular Meeting
DESCRIPTION:
URL:https://michigancityin.gov/city-event/police-civil-service-commission-regular-meeting/2030-08-14/
LOCATION:Police Department Community Room\, 1201 E. Michigan Blvd.\, Michigan City\, 46360\, United States
CATEGORIES:Police Civil Service Commission
END:VEVENT
BEGIN:VEVENT
DTSTART;TZID=America/Chicago:20300911T110000
DTEND;TZID=America/Chicago:20300911T120000
DTSTAMP:20260422T173146
CREATED:20250609T015912Z
LAST-MODIFIED:20250609T015912Z
UID:10002947-1915354800-1915358400@michigancityin.gov
SUMMARY:Police Civil Service Commission Regular Meeting
DESCRIPTION:
URL:https://michigancityin.gov/city-event/police-civil-service-commission-regular-meeting/2030-09-11/
LOCATION:Police Department Community Room\, 1201 E. Michigan Blvd.\, Michigan City\, 46360\, United States
CATEGORIES:Police Civil Service Commission
END:VEVENT
END:VCALENDAR