BEGIN:VCALENDAR
VERSION:2.0
PRODID:-//City of Michigan City Indiana - ECPv6.15.20//NONSGML v1.0//EN
CALSCALE:GREGORIAN
METHOD:PUBLISH
X-WR-CALNAME:City of Michigan City Indiana
X-ORIGINAL-URL:https://michigancityin.gov
X-WR-CALDESC:Events for City of Michigan City Indiana
REFRESH-INTERVAL;VALUE=DURATION:PT1H
X-Robots-Tag:noindex
X-PUBLISHED-TTL:PT1H
BEGIN:VTIMEZONE
TZID:America/Chicago
BEGIN:DAYLIGHT
TZOFFSETFROM:-0600
TZOFFSETTO:-0500
TZNAME:CDT
DTSTART:20240310T080000
END:DAYLIGHT
BEGIN:STANDARD
TZOFFSETFROM:-0500
TZOFFSETTO:-0600
TZNAME:CST
DTSTART:20241103T070000
END:STANDARD
BEGIN:DAYLIGHT
TZOFFSETFROM:-0600
TZOFFSETTO:-0500
TZNAME:CDT
DTSTART:20250309T080000
END:DAYLIGHT
BEGIN:STANDARD
TZOFFSETFROM:-0500
TZOFFSETTO:-0600
TZNAME:CST
DTSTART:20251102T070000
END:STANDARD
BEGIN:DAYLIGHT
TZOFFSETFROM:-0600
TZOFFSETTO:-0500
TZNAME:CDT
DTSTART:20260308T080000
END:DAYLIGHT
BEGIN:STANDARD
TZOFFSETFROM:-0500
TZOFFSETTO:-0600
TZNAME:CST
DTSTART:20261101T070000
END:STANDARD
BEGIN:DAYLIGHT
TZOFFSETFROM:-0600
TZOFFSETTO:-0500
TZNAME:CDT
DTSTART:20270314T080000
END:DAYLIGHT
BEGIN:STANDARD
TZOFFSETFROM:-0500
TZOFFSETTO:-0600
TZNAME:CST
DTSTART:20271107T070000
END:STANDARD
END:VTIMEZONE
BEGIN:VEVENT
DTSTART;TZID=America/Chicago:20260420T170000
DTEND;TZID=America/Chicago:20260420T180000
DTSTAMP:20260422T145528
CREATED:20250910T163838Z
LAST-MODIFIED:20250910T163839Z
UID:10002568-1776704400-1776708000@michigancityin.gov
SUMMARY:Port Authority Commission Regular Meeting
DESCRIPTION:
URL:https://michigancityin.gov/city-event/port-authority-commission-regular-meeting-3-2/2026-04-20/
LOCATION:Port Authority Conference Room\, 200 Heisman Harbor Road\, Michigan City\, 46360\, United States
CATEGORIES:Port Authority Commission
END:VEVENT
BEGIN:VEVENT
DTSTART;TZID=America/Chicago:20260406T170000
DTEND;TZID=America/Chicago:20260406T180000
DTSTAMP:20260422T145528
CREATED:20250609T021023Z
LAST-MODIFIED:20250609T021023Z
UID:10001513-1775494800-1775498400@michigancityin.gov
SUMMARY:Port Authority Commission Regular Meeting
DESCRIPTION:
URL:https://michigancityin.gov/city-event/port-authority-commission-regular-meeting-2/2026-04-06/
LOCATION:Port Authority Conference Room\, 200 Heisman Harbor Road\, Michigan City\, 46360\, United States
CATEGORIES:Port Authority Commission
END:VEVENT
BEGIN:VEVENT
DTSTART;TZID=America/Chicago:20260316T170000
DTEND;TZID=America/Chicago:20260316T180000
DTSTAMP:20260422T145528
CREATED:20250910T163838Z
LAST-MODIFIED:20250910T163839Z
UID:10002567-1773680400-1773684000@michigancityin.gov
SUMMARY:Port Authority Commission Regular Meeting
DESCRIPTION:
URL:https://michigancityin.gov/city-event/port-authority-commission-regular-meeting-3-2/2026-03-16/
LOCATION:Port Authority Conference Room\, 200 Heisman Harbor Road\, Michigan City\, 46360\, United States
CATEGORIES:Port Authority Commission
END:VEVENT
BEGIN:VEVENT
DTSTART;TZID=America/Chicago:20260302T170000
DTEND;TZID=America/Chicago:20260302T180000
DTSTAMP:20260422T145528
CREATED:20250609T021023Z
LAST-MODIFIED:20250609T021023Z
UID:10001512-1772470800-1772474400@michigancityin.gov
SUMMARY:Port Authority Commission Regular Meeting
DESCRIPTION:
URL:https://michigancityin.gov/city-event/port-authority-commission-regular-meeting-2/2026-03-02/
LOCATION:Port Authority Conference Room\, 200 Heisman Harbor Road\, Michigan City\, 46360\, United States
CATEGORIES:Port Authority Commission
END:VEVENT
BEGIN:VEVENT
DTSTART;TZID=America/Chicago:20260216T170000
DTEND;TZID=America/Chicago:20260216T180000
DTSTAMP:20260422T145528
CREATED:20250910T163838Z
LAST-MODIFIED:20250910T163839Z
UID:10002566-1771261200-1771264800@michigancityin.gov
SUMMARY:Port Authority Commission Regular Meeting
DESCRIPTION:
URL:https://michigancityin.gov/city-event/port-authority-commission-regular-meeting-3-2/2026-02-16/
LOCATION:Port Authority Conference Room\, 200 Heisman Harbor Road\, Michigan City\, 46360\, United States
CATEGORIES:Port Authority Commission
END:VEVENT
BEGIN:VEVENT
DTSTART;TZID=America/Chicago:20260202T170000
DTEND;TZID=America/Chicago:20260202T180000
DTSTAMP:20260422T145528
CREATED:20250609T021023Z
LAST-MODIFIED:20250609T021023Z
UID:10001511-1770051600-1770055200@michigancityin.gov
SUMMARY:Port Authority Commission Regular Meeting
DESCRIPTION:
URL:https://michigancityin.gov/city-event/port-authority-commission-regular-meeting-2/2026-02-02/
LOCATION:Port Authority Conference Room\, 200 Heisman Harbor Road\, Michigan City\, 46360\, United States
CATEGORIES:Port Authority Commission
END:VEVENT
BEGIN:VEVENT
DTSTART;TZID=America/Chicago:20260119T170000
DTEND;TZID=America/Chicago:20260119T180000
DTSTAMP:20260422T145528
CREATED:20250910T163838Z
LAST-MODIFIED:20250910T163839Z
UID:10002565-1768842000-1768845600@michigancityin.gov
SUMMARY:Port Authority Commission Regular Meeting
DESCRIPTION:
URL:https://michigancityin.gov/city-event/port-authority-commission-regular-meeting-3-2/2026-01-19/
LOCATION:Port Authority Conference Room\, 200 Heisman Harbor Road\, Michigan City\, 46360\, United States
CATEGORIES:Port Authority Commission
END:VEVENT
BEGIN:VEVENT
DTSTART;TZID=America/Chicago:20260116T120000
DTEND;TZID=America/Chicago:20260116T130000
DTSTAMP:20260422T145528
CREATED:20260113T180639Z
LAST-MODIFIED:20260113T180639Z
UID:10003285-1768564800-1768568400@michigancityin.gov
SUMMARY:Port Authority Executive Session
DESCRIPTION:
URL:https://michigancityin.gov/city-event/port-authority-executive-session/
LOCATION:Port Authority Conference Room\, 200 Heisman Harbor Road\, Michigan City\, 46360\, United States
CATEGORIES:Port Authority Commission
END:VEVENT
BEGIN:VEVENT
DTSTART;TZID=America/Chicago:20260105T170000
DTEND;TZID=America/Chicago:20260105T180000
DTSTAMP:20260422T145528
CREATED:20250609T021023Z
LAST-MODIFIED:20250609T021023Z
UID:10001510-1767632400-1767636000@michigancityin.gov
SUMMARY:Port Authority Commission Regular Meeting
DESCRIPTION:
URL:https://michigancityin.gov/city-event/port-authority-commission-regular-meeting-2/2026-01-05/
LOCATION:Port Authority Conference Room\, 200 Heisman Harbor Road\, Michigan City\, 46360\, United States
CATEGORIES:Port Authority Commission
END:VEVENT
BEGIN:VEVENT
DTSTART;TZID=America/Chicago:20251215T170000
DTEND;TZID=America/Chicago:20251215T180000
DTSTAMP:20260422T145528
CREATED:20250910T163838Z
LAST-MODIFIED:20250910T163839Z
UID:10002564-1765818000-1765821600@michigancityin.gov
SUMMARY:Port Authority Commission Regular Meeting
DESCRIPTION:
URL:https://michigancityin.gov/city-event/port-authority-commission-regular-meeting-3-2/2025-12-15/
LOCATION:Port Authority Conference Room\, 200 Heisman Harbor Road\, Michigan City\, 46360\, United States
CATEGORIES:Port Authority Commission
END:VEVENT
BEGIN:VEVENT
DTSTART;TZID=America/Chicago:20251201T170000
DTEND;TZID=America/Chicago:20251201T180000
DTSTAMP:20260422T145528
CREATED:20250609T021023Z
LAST-MODIFIED:20250609T021023Z
UID:10001509-1764608400-1764612000@michigancityin.gov
SUMMARY:Port Authority Commission Regular Meeting
DESCRIPTION:
URL:https://michigancityin.gov/city-event/port-authority-commission-regular-meeting-2/2025-12-01/
LOCATION:Port Authority Conference Room\, 200 Heisman Harbor Road\, Michigan City\, 46360\, United States
CATEGORIES:Port Authority Commission
END:VEVENT
BEGIN:VEVENT
DTSTART;TZID=America/Chicago:20251117T170000
DTEND;TZID=America/Chicago:20251117T180000
DTSTAMP:20260422T145528
CREATED:20250910T163838Z
LAST-MODIFIED:20250910T163839Z
UID:10002563-1763398800-1763402400@michigancityin.gov
SUMMARY:Port Authority Commission Regular Meeting
DESCRIPTION:
URL:https://michigancityin.gov/city-event/port-authority-commission-regular-meeting-3-2/2025-11-17/
LOCATION:Port Authority Conference Room\, 200 Heisman Harbor Road\, Michigan City\, 46360\, United States
CATEGORIES:Port Authority Commission
END:VEVENT
BEGIN:VEVENT
DTSTART;TZID=America/Chicago:20251103T170000
DTEND;TZID=America/Chicago:20251103T180000
DTSTAMP:20260422T145528
CREATED:20250609T021023Z
LAST-MODIFIED:20250609T021023Z
UID:10001508-1762189200-1762192800@michigancityin.gov
SUMMARY:Port Authority Commission Regular Meeting
DESCRIPTION:
URL:https://michigancityin.gov/city-event/port-authority-commission-regular-meeting-2/2025-11-03/
LOCATION:Port Authority Conference Room\, 200 Heisman Harbor Road\, Michigan City\, 46360\, United States
CATEGORIES:Port Authority Commission
END:VEVENT
BEGIN:VEVENT
DTSTART;TZID=America/Chicago:20251020T170000
DTEND;TZID=America/Chicago:20251020T180000
DTSTAMP:20260422T145528
CREATED:20250910T163838Z
LAST-MODIFIED:20250910T163839Z
UID:10002501-1760979600-1760983200@michigancityin.gov
SUMMARY:Port Authority Commission Regular Meeting
DESCRIPTION:
URL:https://michigancityin.gov/city-event/port-authority-commission-regular-meeting-3-2/2025-10-20/
LOCATION:Port Authority Conference Room\, 200 Heisman Harbor Road\, Michigan City\, 46360\, United States
CATEGORIES:Port Authority Commission
END:VEVENT
BEGIN:VEVENT
DTSTART;TZID=America/Chicago:20251006T170000
DTEND;TZID=America/Chicago:20251006T180000
DTSTAMP:20260422T145528
CREATED:20250609T021023Z
LAST-MODIFIED:20250609T021023Z
UID:10001507-1759770000-1759773600@michigancityin.gov
SUMMARY:Port Authority Commission Regular Meeting
DESCRIPTION:
URL:https://michigancityin.gov/city-event/port-authority-commission-regular-meeting-2/2025-10-06/
LOCATION:Port Authority Conference Room\, 200 Heisman Harbor Road\, Michigan City\, 46360\, United States
CATEGORIES:Port Authority Commission
END:VEVENT
BEGIN:VEVENT
DTSTART;TZID=America/Chicago:20250922T170000
DTEND;TZID=America/Chicago:20250922T180000
DTSTAMP:20260422T145528
CREATED:20250910T163352Z
LAST-MODIFIED:20250910T163352Z
UID:10002561-1758560400-1758564000@michigancityin.gov
SUMMARY:Port Authority Commission Regular Meeting
DESCRIPTION:
URL:https://michigancityin.gov/city-event/port-authority-commission-regular-meeting-4/
CATEGORIES:Port Authority Commission
END:VEVENT
BEGIN:VEVENT
DTSTART;TZID=America/Chicago:20250908T170000
DTEND;TZID=America/Chicago:20250908T180000
DTSTAMP:20260422T145528
CREATED:20250910T162941Z
LAST-MODIFIED:20250910T162941Z
UID:10001447-1757350800-1757354400@michigancityin.gov
SUMMARY:Port Authority Commission Regular Meeting
DESCRIPTION:
URL:https://michigancityin.gov/city-event/port-authority-commission-regular-meeting-3/
LOCATION:Port Authority Conference Room\, 200 Heisman Harbor Road\, Michigan City\, 46360\, United States
CATEGORIES:Port Authority Commission
END:VEVENT
BEGIN:VEVENT
DTSTART;TZID=America/Chicago:20250818T170000
DTEND;TZID=America/Chicago:20250818T180000
DTSTAMP:20260422T145528
CREATED:20250609T020421Z
LAST-MODIFIED:20250609T020421Z
UID:10001446-1755536400-1755540000@michigancityin.gov
SUMMARY:Port Authority Commission Regular Meeting
DESCRIPTION:
URL:https://michigancityin.gov/city-event/port-authority-commission-regular-meeting/2025-08-18/
LOCATION:Port Authority Conference Room\, 200 Heisman Harbor Road\, Michigan City\, 46360\, United States
CATEGORIES:Port Authority Commission
END:VEVENT
BEGIN:VEVENT
DTSTART;TZID=America/Chicago:20250804T170000
DTEND;TZID=America/Chicago:20250804T180000
DTSTAMP:20260422T145528
CREATED:20250609T021023Z
LAST-MODIFIED:20250609T021023Z
UID:10001505-1754326800-1754330400@michigancityin.gov
SUMMARY:Port Authority Commission Regular Meeting
DESCRIPTION:
URL:https://michigancityin.gov/city-event/port-authority-commission-regular-meeting-2/2025-08-04/
LOCATION:Port Authority Conference Room\, 200 Heisman Harbor Road\, Michigan City\, 46360\, United States
CATEGORIES:Port Authority Commission
END:VEVENT
BEGIN:VEVENT
DTSTART;TZID=America/Chicago:20250721T170000
DTEND;TZID=America/Chicago:20250721T180000
DTSTAMP:20260422T145528
CREATED:20250609T020421Z
LAST-MODIFIED:20250609T020421Z
UID:10001445-1753117200-1753120800@michigancityin.gov
SUMMARY:Port Authority Commission Regular Meeting
DESCRIPTION:
URL:https://michigancityin.gov/city-event/port-authority-commission-regular-meeting/2025-07-21/
LOCATION:Port Authority Conference Room\, 200 Heisman Harbor Road\, Michigan City\, 46360\, United States
CATEGORIES:Port Authority Commission
END:VEVENT
BEGIN:VEVENT
DTSTART;TZID=America/Chicago:20250707T170000
DTEND;TZID=America/Chicago:20250707T180000
DTSTAMP:20260422T145528
CREATED:20250609T021023Z
LAST-MODIFIED:20250609T021023Z
UID:10001504-1751907600-1751911200@michigancityin.gov
SUMMARY:Port Authority Commission Regular Meeting
DESCRIPTION:
URL:https://michigancityin.gov/city-event/port-authority-commission-regular-meeting-2/2025-07-07/
LOCATION:Port Authority Conference Room\, 200 Heisman Harbor Road\, Michigan City\, 46360\, United States
CATEGORIES:Port Authority Commission
END:VEVENT
BEGIN:VEVENT
DTSTART;TZID=America/Chicago:20250616T170000
DTEND;TZID=America/Chicago:20250616T180000
DTSTAMP:20260422T145528
CREATED:20250609T020421Z
LAST-MODIFIED:20250609T020421Z
UID:10001444-1750093200-1750096800@michigancityin.gov
SUMMARY:Port Authority Commission Regular Meeting
DESCRIPTION:
URL:https://michigancityin.gov/city-event/port-authority-commission-regular-meeting/2025-06-16/
LOCATION:Port Authority Conference Room\, 200 Heisman Harbor Road\, Michigan City\, 46360\, United States
CATEGORIES:Port Authority Commission
END:VEVENT
END:VCALENDAR