BEGIN:VCALENDAR
VERSION:2.0
PRODID:-//City of Michigan City Indiana - ECPv6.15.20//NONSGML v1.0//EN
CALSCALE:GREGORIAN
METHOD:PUBLISH
X-ORIGINAL-URL:https://michigancityin.gov
X-WR-CALDESC:Events for City of Michigan City Indiana
REFRESH-INTERVAL;VALUE=DURATION:PT1H
X-Robots-Tag:noindex
X-PUBLISHED-TTL:PT1H
BEGIN:VTIMEZONE
TZID:America/Chicago
BEGIN:DAYLIGHT
TZOFFSETFROM:-0600
TZOFFSETTO:-0500
TZNAME:CDT
DTSTART:20250309T080000
END:DAYLIGHT
BEGIN:STANDARD
TZOFFSETFROM:-0500
TZOFFSETTO:-0600
TZNAME:CST
DTSTART:20251102T070000
END:STANDARD
BEGIN:DAYLIGHT
TZOFFSETFROM:-0600
TZOFFSETTO:-0500
TZNAME:CDT
DTSTART:20260308T080000
END:DAYLIGHT
BEGIN:STANDARD
TZOFFSETFROM:-0500
TZOFFSETTO:-0600
TZNAME:CST
DTSTART:20261101T070000
END:STANDARD
BEGIN:DAYLIGHT
TZOFFSETFROM:-0600
TZOFFSETTO:-0500
TZNAME:CDT
DTSTART:20270314T080000
END:DAYLIGHT
BEGIN:STANDARD
TZOFFSETFROM:-0500
TZOFFSETTO:-0600
TZNAME:CST
DTSTART:20271107T070000
END:STANDARD
BEGIN:DAYLIGHT
TZOFFSETFROM:-0600
TZOFFSETTO:-0500
TZNAME:CDT
DTSTART:20280312T080000
END:DAYLIGHT
BEGIN:STANDARD
TZOFFSETFROM:-0500
TZOFFSETTO:-0600
TZNAME:CST
DTSTART:20281105T070000
END:STANDARD
END:VTIMEZONE
BEGIN:VEVENT
DTSTART;TZID=America/Chicago:20260504T170000
DTEND;TZID=America/Chicago:20260504T180000
DTSTAMP:20260422T133354
CREATED:20250609T021023Z
LAST-MODIFIED:20250609T021023Z
UID:10001514-1777914000-1777917600@michigancityin.gov
SUMMARY:Port Authority Commission Regular Meeting
DESCRIPTION:
URL:https://michigancityin.gov/city-event/port-authority-commission-regular-meeting-2/2026-05-04/
LOCATION:Port Authority Conference Room\, 200 Heisman Harbor Road\, Michigan City\, 46360\, United States
CATEGORIES:Port Authority Commission
END:VEVENT
BEGIN:VEVENT
DTSTART;TZID=America/Chicago:20260518T170000
DTEND;TZID=America/Chicago:20260518T180000
DTSTAMP:20260422T133354
CREATED:20250910T163838Z
LAST-MODIFIED:20250910T163839Z
UID:10002569-1779123600-1779127200@michigancityin.gov
SUMMARY:Port Authority Commission Regular Meeting
DESCRIPTION:
URL:https://michigancityin.gov/city-event/port-authority-commission-regular-meeting-3-2/2026-05-18/
LOCATION:Port Authority Conference Room\, 200 Heisman Harbor Road\, Michigan City\, 46360\, United States
CATEGORIES:Port Authority Commission
END:VEVENT
BEGIN:VEVENT
DTSTART;TZID=America/Chicago:20260601T170000
DTEND;TZID=America/Chicago:20260601T180000
DTSTAMP:20260422T133354
CREATED:20250609T021023Z
LAST-MODIFIED:20250609T021023Z
UID:10001515-1780333200-1780336800@michigancityin.gov
SUMMARY:Port Authority Commission Regular Meeting
DESCRIPTION:
URL:https://michigancityin.gov/city-event/port-authority-commission-regular-meeting-2/2026-06-01/
LOCATION:Port Authority Conference Room\, 200 Heisman Harbor Road\, Michigan City\, 46360\, United States
CATEGORIES:Port Authority Commission
END:VEVENT
BEGIN:VEVENT
DTSTART;TZID=America/Chicago:20260615T170000
DTEND;TZID=America/Chicago:20260615T180000
DTSTAMP:20260422T133354
CREATED:20250910T163838Z
LAST-MODIFIED:20250910T163839Z
UID:10002570-1781542800-1781546400@michigancityin.gov
SUMMARY:Port Authority Commission Regular Meeting
DESCRIPTION:
URL:https://michigancityin.gov/city-event/port-authority-commission-regular-meeting-3-2/2026-06-15/
LOCATION:Port Authority Conference Room\, 200 Heisman Harbor Road\, Michigan City\, 46360\, United States
CATEGORIES:Port Authority Commission
END:VEVENT
BEGIN:VEVENT
DTSTART;TZID=America/Chicago:20260706T170000
DTEND;TZID=America/Chicago:20260706T180000
DTSTAMP:20260422T133354
CREATED:20250609T021023Z
LAST-MODIFIED:20250609T021023Z
UID:10001516-1783357200-1783360800@michigancityin.gov
SUMMARY:Port Authority Commission Regular Meeting
DESCRIPTION:
URL:https://michigancityin.gov/city-event/port-authority-commission-regular-meeting-2/2026-07-06/
LOCATION:Port Authority Conference Room\, 200 Heisman Harbor Road\, Michigan City\, 46360\, United States
CATEGORIES:Port Authority Commission
END:VEVENT
BEGIN:VEVENT
DTSTART;TZID=America/Chicago:20260720T170000
DTEND;TZID=America/Chicago:20260720T180000
DTSTAMP:20260422T133354
CREATED:20250910T163838Z
LAST-MODIFIED:20250910T163839Z
UID:10002571-1784566800-1784570400@michigancityin.gov
SUMMARY:Port Authority Commission Regular Meeting
DESCRIPTION:
URL:https://michigancityin.gov/city-event/port-authority-commission-regular-meeting-3-2/2026-07-20/
LOCATION:Port Authority Conference Room\, 200 Heisman Harbor Road\, Michigan City\, 46360\, United States
CATEGORIES:Port Authority Commission
END:VEVENT
BEGIN:VEVENT
DTSTART;TZID=America/Chicago:20260803T170000
DTEND;TZID=America/Chicago:20260803T180000
DTSTAMP:20260422T133354
CREATED:20250609T021023Z
LAST-MODIFIED:20250609T021023Z
UID:10001517-1785776400-1785780000@michigancityin.gov
SUMMARY:Port Authority Commission Regular Meeting
DESCRIPTION:
URL:https://michigancityin.gov/city-event/port-authority-commission-regular-meeting-2/2026-08-03/
LOCATION:Port Authority Conference Room\, 200 Heisman Harbor Road\, Michigan City\, 46360\, United States
CATEGORIES:Port Authority Commission
END:VEVENT
BEGIN:VEVENT
DTSTART;TZID=America/Chicago:20260817T170000
DTEND;TZID=America/Chicago:20260817T180000
DTSTAMP:20260422T133354
CREATED:20250910T163838Z
LAST-MODIFIED:20250910T163839Z
UID:10002572-1786986000-1786989600@michigancityin.gov
SUMMARY:Port Authority Commission Regular Meeting
DESCRIPTION:
URL:https://michigancityin.gov/city-event/port-authority-commission-regular-meeting-3-2/2026-08-17/
LOCATION:Port Authority Conference Room\, 200 Heisman Harbor Road\, Michigan City\, 46360\, United States
CATEGORIES:Port Authority Commission
END:VEVENT
BEGIN:VEVENT
DTSTART;TZID=America/Chicago:20260907T170000
DTEND;TZID=America/Chicago:20260907T180000
DTSTAMP:20260422T133354
CREATED:20250609T021023Z
LAST-MODIFIED:20250609T021023Z
UID:10001518-1788800400-1788804000@michigancityin.gov
SUMMARY:Port Authority Commission Regular Meeting
DESCRIPTION:
URL:https://michigancityin.gov/city-event/port-authority-commission-regular-meeting-2/2026-09-07/
LOCATION:Port Authority Conference Room\, 200 Heisman Harbor Road\, Michigan City\, 46360\, United States
CATEGORIES:Port Authority Commission
END:VEVENT
BEGIN:VEVENT
DTSTART;TZID=America/Chicago:20260921T170000
DTEND;TZID=America/Chicago:20260921T180000
DTSTAMP:20260422T133354
CREATED:20250910T163838Z
LAST-MODIFIED:20250910T163839Z
UID:10002573-1790010000-1790013600@michigancityin.gov
SUMMARY:Port Authority Commission Regular Meeting
DESCRIPTION:
URL:https://michigancityin.gov/city-event/port-authority-commission-regular-meeting-3-2/2026-09-21/
LOCATION:Port Authority Conference Room\, 200 Heisman Harbor Road\, Michigan City\, 46360\, United States
CATEGORIES:Port Authority Commission
END:VEVENT
BEGIN:VEVENT
DTSTART;TZID=America/Chicago:20261005T170000
DTEND;TZID=America/Chicago:20261005T180000
DTSTAMP:20260422T133354
CREATED:20250609T021023Z
LAST-MODIFIED:20250609T021023Z
UID:10001519-1791219600-1791223200@michigancityin.gov
SUMMARY:Port Authority Commission Regular Meeting
DESCRIPTION:
URL:https://michigancityin.gov/city-event/port-authority-commission-regular-meeting-2/2026-10-05/
LOCATION:Port Authority Conference Room\, 200 Heisman Harbor Road\, Michigan City\, 46360\, United States
CATEGORIES:Port Authority Commission
END:VEVENT
BEGIN:VEVENT
DTSTART;TZID=America/Chicago:20261019T170000
DTEND;TZID=America/Chicago:20261019T180000
DTSTAMP:20260422T133354
CREATED:20250910T163838Z
LAST-MODIFIED:20250910T163839Z
UID:10002574-1792429200-1792432800@michigancityin.gov
SUMMARY:Port Authority Commission Regular Meeting
DESCRIPTION:
URL:https://michigancityin.gov/city-event/port-authority-commission-regular-meeting-3-2/2026-10-19/
LOCATION:Port Authority Conference Room\, 200 Heisman Harbor Road\, Michigan City\, 46360\, United States
CATEGORIES:Port Authority Commission
END:VEVENT
BEGIN:VEVENT
DTSTART;TZID=America/Chicago:20261102T170000
DTEND;TZID=America/Chicago:20261102T180000
DTSTAMP:20260422T133354
CREATED:20250609T021023Z
LAST-MODIFIED:20250609T021023Z
UID:10001520-1793638800-1793642400@michigancityin.gov
SUMMARY:Port Authority Commission Regular Meeting
DESCRIPTION:
URL:https://michigancityin.gov/city-event/port-authority-commission-regular-meeting-2/2026-11-02/
LOCATION:Port Authority Conference Room\, 200 Heisman Harbor Road\, Michigan City\, 46360\, United States
CATEGORIES:Port Authority Commission
END:VEVENT
BEGIN:VEVENT
DTSTART;TZID=America/Chicago:20261116T170000
DTEND;TZID=America/Chicago:20261116T180000
DTSTAMP:20260422T133354
CREATED:20250910T163838Z
LAST-MODIFIED:20250910T163839Z
UID:10002575-1794848400-1794852000@michigancityin.gov
SUMMARY:Port Authority Commission Regular Meeting
DESCRIPTION:
URL:https://michigancityin.gov/city-event/port-authority-commission-regular-meeting-3-2/2026-11-16/
LOCATION:Port Authority Conference Room\, 200 Heisman Harbor Road\, Michigan City\, 46360\, United States
CATEGORIES:Port Authority Commission
END:VEVENT
BEGIN:VEVENT
DTSTART;TZID=America/Chicago:20261207T170000
DTEND;TZID=America/Chicago:20261207T180000
DTSTAMP:20260422T133354
CREATED:20250609T021023Z
LAST-MODIFIED:20250609T021023Z
UID:10001521-1796662800-1796666400@michigancityin.gov
SUMMARY:Port Authority Commission Regular Meeting
DESCRIPTION:
URL:https://michigancityin.gov/city-event/port-authority-commission-regular-meeting-2/2026-12-07/
LOCATION:Port Authority Conference Room\, 200 Heisman Harbor Road\, Michigan City\, 46360\, United States
CATEGORIES:Port Authority Commission
END:VEVENT
BEGIN:VEVENT
DTSTART;TZID=America/Chicago:20261221T170000
DTEND;TZID=America/Chicago:20261221T180000
DTSTAMP:20260422T133354
CREATED:20250910T163838Z
LAST-MODIFIED:20250910T163839Z
UID:10002576-1797872400-1797876000@michigancityin.gov
SUMMARY:Port Authority Commission Regular Meeting
DESCRIPTION:
URL:https://michigancityin.gov/city-event/port-authority-commission-regular-meeting-3-2/2026-12-21/
LOCATION:Port Authority Conference Room\, 200 Heisman Harbor Road\, Michigan City\, 46360\, United States
CATEGORIES:Port Authority Commission
END:VEVENT
BEGIN:VEVENT
DTSTART;TZID=America/Chicago:20270104T170000
DTEND;TZID=America/Chicago:20270104T180000
DTSTAMP:20260422T133354
CREATED:20250609T021023Z
LAST-MODIFIED:20250609T021023Z
UID:10001522-1799082000-1799085600@michigancityin.gov
SUMMARY:Port Authority Commission Regular Meeting
DESCRIPTION:
URL:https://michigancityin.gov/city-event/port-authority-commission-regular-meeting-2/2027-01-04/
LOCATION:Port Authority Conference Room\, 200 Heisman Harbor Road\, Michigan City\, 46360\, United States
CATEGORIES:Port Authority Commission
END:VEVENT
BEGIN:VEVENT
DTSTART;TZID=America/Chicago:20270118T170000
DTEND;TZID=America/Chicago:20270118T180000
DTSTAMP:20260422T133354
CREATED:20250910T163838Z
LAST-MODIFIED:20250910T163839Z
UID:10002577-1800291600-1800295200@michigancityin.gov
SUMMARY:Port Authority Commission Regular Meeting
DESCRIPTION:
URL:https://michigancityin.gov/city-event/port-authority-commission-regular-meeting-3-2/2027-01-18/
LOCATION:Port Authority Conference Room\, 200 Heisman Harbor Road\, Michigan City\, 46360\, United States
CATEGORIES:Port Authority Commission
END:VEVENT
BEGIN:VEVENT
DTSTART;TZID=America/Chicago:20270201T170000
DTEND;TZID=America/Chicago:20270201T180000
DTSTAMP:20260422T133354
CREATED:20250609T021023Z
LAST-MODIFIED:20250609T021023Z
UID:10001523-1801501200-1801504800@michigancityin.gov
SUMMARY:Port Authority Commission Regular Meeting
DESCRIPTION:
URL:https://michigancityin.gov/city-event/port-authority-commission-regular-meeting-2/2027-02-01/
LOCATION:Port Authority Conference Room\, 200 Heisman Harbor Road\, Michigan City\, 46360\, United States
CATEGORIES:Port Authority Commission
END:VEVENT
BEGIN:VEVENT
DTSTART;TZID=America/Chicago:20270215T170000
DTEND;TZID=America/Chicago:20270215T180000
DTSTAMP:20260422T133354
CREATED:20250910T163838Z
LAST-MODIFIED:20250910T163839Z
UID:10002578-1802710800-1802714400@michigancityin.gov
SUMMARY:Port Authority Commission Regular Meeting
DESCRIPTION:
URL:https://michigancityin.gov/city-event/port-authority-commission-regular-meeting-3-2/2027-02-15/
LOCATION:Port Authority Conference Room\, 200 Heisman Harbor Road\, Michigan City\, 46360\, United States
CATEGORIES:Port Authority Commission
END:VEVENT
BEGIN:VEVENT
DTSTART;TZID=America/Chicago:20270301T170000
DTEND;TZID=America/Chicago:20270301T180000
DTSTAMP:20260422T133354
CREATED:20250609T021023Z
LAST-MODIFIED:20250609T021023Z
UID:10001524-1803920400-1803924000@michigancityin.gov
SUMMARY:Port Authority Commission Regular Meeting
DESCRIPTION:
URL:https://michigancityin.gov/city-event/port-authority-commission-regular-meeting-2/2027-03-01/
LOCATION:Port Authority Conference Room\, 200 Heisman Harbor Road\, Michigan City\, 46360\, United States
CATEGORIES:Port Authority Commission
END:VEVENT
BEGIN:VEVENT
DTSTART;TZID=America/Chicago:20270315T170000
DTEND;TZID=America/Chicago:20270315T180000
DTSTAMP:20260422T133354
CREATED:20250910T163838Z
LAST-MODIFIED:20250910T163839Z
UID:10002579-1805130000-1805133600@michigancityin.gov
SUMMARY:Port Authority Commission Regular Meeting
DESCRIPTION:
URL:https://michigancityin.gov/city-event/port-authority-commission-regular-meeting-3-2/2027-03-15/
LOCATION:Port Authority Conference Room\, 200 Heisman Harbor Road\, Michigan City\, 46360\, United States
CATEGORIES:Port Authority Commission
END:VEVENT
BEGIN:VEVENT
DTSTART;TZID=America/Chicago:20270405T170000
DTEND;TZID=America/Chicago:20270405T180000
DTSTAMP:20260422T133354
CREATED:20250609T021023Z
LAST-MODIFIED:20250609T021023Z
UID:10001525-1806944400-1806948000@michigancityin.gov
SUMMARY:Port Authority Commission Regular Meeting
DESCRIPTION:
URL:https://michigancityin.gov/city-event/port-authority-commission-regular-meeting-2/2027-04-05/
LOCATION:Port Authority Conference Room\, 200 Heisman Harbor Road\, Michigan City\, 46360\, United States
CATEGORIES:Port Authority Commission
END:VEVENT
BEGIN:VEVENT
DTSTART;TZID=America/Chicago:20270419T170000
DTEND;TZID=America/Chicago:20270419T180000
DTSTAMP:20260422T133354
CREATED:20250910T163838Z
LAST-MODIFIED:20250910T163839Z
UID:10002580-1808154000-1808157600@michigancityin.gov
SUMMARY:Port Authority Commission Regular Meeting
DESCRIPTION:
URL:https://michigancityin.gov/city-event/port-authority-commission-regular-meeting-3-2/2027-04-19/
LOCATION:Port Authority Conference Room\, 200 Heisman Harbor Road\, Michigan City\, 46360\, United States
CATEGORIES:Port Authority Commission
END:VEVENT
BEGIN:VEVENT
DTSTART;TZID=America/Chicago:20270503T170000
DTEND;TZID=America/Chicago:20270503T180000
DTSTAMP:20260422T133354
CREATED:20250609T021023Z
LAST-MODIFIED:20250609T021023Z
UID:10001526-1809363600-1809367200@michigancityin.gov
SUMMARY:Port Authority Commission Regular Meeting
DESCRIPTION:
URL:https://michigancityin.gov/city-event/port-authority-commission-regular-meeting-2/2027-05-03/
LOCATION:Port Authority Conference Room\, 200 Heisman Harbor Road\, Michigan City\, 46360\, United States
CATEGORIES:Port Authority Commission
END:VEVENT
BEGIN:VEVENT
DTSTART;TZID=America/Chicago:20270517T170000
DTEND;TZID=America/Chicago:20270517T180000
DTSTAMP:20260422T133354
CREATED:20250910T163838Z
LAST-MODIFIED:20250910T163839Z
UID:10002581-1810573200-1810576800@michigancityin.gov
SUMMARY:Port Authority Commission Regular Meeting
DESCRIPTION:
URL:https://michigancityin.gov/city-event/port-authority-commission-regular-meeting-3-2/2027-05-17/
LOCATION:Port Authority Conference Room\, 200 Heisman Harbor Road\, Michigan City\, 46360\, United States
CATEGORIES:Port Authority Commission
END:VEVENT
BEGIN:VEVENT
DTSTART;TZID=America/Chicago:20270607T170000
DTEND;TZID=America/Chicago:20270607T180000
DTSTAMP:20260422T133354
CREATED:20250609T021023Z
LAST-MODIFIED:20250609T021023Z
UID:10001527-1812387600-1812391200@michigancityin.gov
SUMMARY:Port Authority Commission Regular Meeting
DESCRIPTION:
URL:https://michigancityin.gov/city-event/port-authority-commission-regular-meeting-2/2027-06-07/
LOCATION:Port Authority Conference Room\, 200 Heisman Harbor Road\, Michigan City\, 46360\, United States
CATEGORIES:Port Authority Commission
END:VEVENT
BEGIN:VEVENT
DTSTART;TZID=America/Chicago:20270621T170000
DTEND;TZID=America/Chicago:20270621T180000
DTSTAMP:20260422T133354
CREATED:20250910T163838Z
LAST-MODIFIED:20250910T163839Z
UID:10002582-1813597200-1813600800@michigancityin.gov
SUMMARY:Port Authority Commission Regular Meeting
DESCRIPTION:
URL:https://michigancityin.gov/city-event/port-authority-commission-regular-meeting-3-2/2027-06-21/
LOCATION:Port Authority Conference Room\, 200 Heisman Harbor Road\, Michigan City\, 46360\, United States
CATEGORIES:Port Authority Commission
END:VEVENT
BEGIN:VEVENT
DTSTART;TZID=America/Chicago:20270705T170000
DTEND;TZID=America/Chicago:20270705T180000
DTSTAMP:20260422T133354
CREATED:20250609T021023Z
LAST-MODIFIED:20250609T021023Z
UID:10001528-1814806800-1814810400@michigancityin.gov
SUMMARY:Port Authority Commission Regular Meeting
DESCRIPTION:
URL:https://michigancityin.gov/city-event/port-authority-commission-regular-meeting-2/2027-07-05/
LOCATION:Port Authority Conference Room\, 200 Heisman Harbor Road\, Michigan City\, 46360\, United States
CATEGORIES:Port Authority Commission
END:VEVENT
BEGIN:VEVENT
DTSTART;TZID=America/Chicago:20270719T170000
DTEND;TZID=America/Chicago:20270719T180000
DTSTAMP:20260422T133354
CREATED:20250910T163838Z
LAST-MODIFIED:20250910T163839Z
UID:10002583-1816016400-1816020000@michigancityin.gov
SUMMARY:Port Authority Commission Regular Meeting
DESCRIPTION:
URL:https://michigancityin.gov/city-event/port-authority-commission-regular-meeting-3-2/2027-07-19/
LOCATION:Port Authority Conference Room\, 200 Heisman Harbor Road\, Michigan City\, 46360\, United States
CATEGORIES:Port Authority Commission
END:VEVENT
END:VCALENDAR