BEGIN:VCALENDAR
VERSION:2.0
PRODID:-//City of Michigan City Indiana - ECPv6.15.20//NONSGML v1.0//EN
CALSCALE:GREGORIAN
METHOD:PUBLISH
X-ORIGINAL-URL:https://michigancityin.gov
X-WR-CALDESC:Events for City of Michigan City Indiana
REFRESH-INTERVAL;VALUE=DURATION:PT1H
X-Robots-Tag:noindex
X-PUBLISHED-TTL:PT1H
BEGIN:VTIMEZONE
TZID:America/Chicago
BEGIN:DAYLIGHT
TZOFFSETFROM:-0600
TZOFFSETTO:-0500
TZNAME:CDT
DTSTART:20240310T080000
END:DAYLIGHT
BEGIN:STANDARD
TZOFFSETFROM:-0500
TZOFFSETTO:-0600
TZNAME:CST
DTSTART:20241103T070000
END:STANDARD
BEGIN:DAYLIGHT
TZOFFSETFROM:-0600
TZOFFSETTO:-0500
TZNAME:CDT
DTSTART:20250309T080000
END:DAYLIGHT
BEGIN:STANDARD
TZOFFSETFROM:-0500
TZOFFSETTO:-0600
TZNAME:CST
DTSTART:20251102T070000
END:STANDARD
BEGIN:DAYLIGHT
TZOFFSETFROM:-0600
TZOFFSETTO:-0500
TZNAME:CDT
DTSTART:20260308T080000
END:DAYLIGHT
BEGIN:STANDARD
TZOFFSETFROM:-0500
TZOFFSETTO:-0600
TZNAME:CST
DTSTART:20261101T070000
END:STANDARD
BEGIN:DAYLIGHT
TZOFFSETFROM:-0600
TZOFFSETTO:-0500
TZNAME:CDT
DTSTART:20270314T080000
END:DAYLIGHT
BEGIN:STANDARD
TZOFFSETFROM:-0500
TZOFFSETTO:-0600
TZNAME:CST
DTSTART:20271107T070000
END:STANDARD
BEGIN:DAYLIGHT
TZOFFSETFROM:-0600
TZOFFSETTO:-0500
TZNAME:CDT
DTSTART:20280312T080000
END:DAYLIGHT
BEGIN:STANDARD
TZOFFSETFROM:-0500
TZOFFSETTO:-0600
TZNAME:CST
DTSTART:20281105T070000
END:STANDARD
BEGIN:DAYLIGHT
TZOFFSETFROM:-0600
TZOFFSETTO:-0500
TZNAME:CDT
DTSTART:20290311T080000
END:DAYLIGHT
BEGIN:STANDARD
TZOFFSETFROM:-0500
TZOFFSETTO:-0600
TZNAME:CST
DTSTART:20291104T070000
END:STANDARD
END:VTIMEZONE
BEGIN:VEVENT
DTSTART;TZID=America/Chicago:20250911T163000
DTEND;TZID=America/Chicago:20250911T173000
DTSTAMP:20260423T062511
CREATED:20250609T022253Z
LAST-MODIFIED:20250609T022253Z
UID:10001807-1757608200-1757611800@michigancityin.gov
SUMMARY:Sustainability Commission Regular Meeting
DESCRIPTION:
URL:https://michigancityin.gov/city-event/sustainability-commission-regular-meeting/2025-09-11/
LOCATION:EOC Room\, 100 E Michigan Blvd\, Michigan City\, 46360\, United States
CATEGORIES:Sustainability Commission
END:VEVENT
BEGIN:VEVENT
DTSTART;TZID=America/Chicago:20251009T163000
DTEND;TZID=America/Chicago:20251009T173000
DTSTAMP:20260423T062511
CREATED:20250609T022253Z
LAST-MODIFIED:20250609T022253Z
UID:10001808-1760027400-1760031000@michigancityin.gov
SUMMARY:Sustainability Commission Regular Meeting
DESCRIPTION:
URL:https://michigancityin.gov/city-event/sustainability-commission-regular-meeting/2025-10-09/
LOCATION:EOC Room\, 100 E Michigan Blvd\, Michigan City\, 46360\, United States
CATEGORIES:Sustainability Commission
END:VEVENT
BEGIN:VEVENT
DTSTART;TZID=America/Chicago:20251113T163000
DTEND;TZID=America/Chicago:20251113T173000
DTSTAMP:20260423T062511
CREATED:20250609T022253Z
LAST-MODIFIED:20250609T022253Z
UID:10001809-1763051400-1763055000@michigancityin.gov
SUMMARY:Sustainability Commission Regular Meeting
DESCRIPTION:
URL:https://michigancityin.gov/city-event/sustainability-commission-regular-meeting/2025-11-13/
LOCATION:EOC Room\, 100 E Michigan Blvd\, Michigan City\, 46360\, United States
CATEGORIES:Sustainability Commission
END:VEVENT
BEGIN:VEVENT
DTSTART;TZID=America/Chicago:20251211T163000
DTEND;TZID=America/Chicago:20251211T173000
DTSTAMP:20260423T062511
CREATED:20250609T022253Z
LAST-MODIFIED:20250609T022253Z
UID:10001810-1765470600-1765474200@michigancityin.gov
SUMMARY:Sustainability Commission Regular Meeting
DESCRIPTION:
URL:https://michigancityin.gov/city-event/sustainability-commission-regular-meeting/2025-12-11/
LOCATION:EOC Room\, 100 E Michigan Blvd\, Michigan City\, 46360\, United States
CATEGORIES:Sustainability Commission
END:VEVENT
BEGIN:VEVENT
DTSTART;TZID=America/Chicago:20260108T163000
DTEND;TZID=America/Chicago:20260108T173000
DTSTAMP:20260423T062511
CREATED:20250609T022253Z
LAST-MODIFIED:20250609T022253Z
UID:10001811-1767889800-1767893400@michigancityin.gov
SUMMARY:Sustainability Commission Regular Meeting
DESCRIPTION:
URL:https://michigancityin.gov/city-event/sustainability-commission-regular-meeting/2026-01-08/
LOCATION:EOC Room\, 100 E Michigan Blvd\, Michigan City\, 46360\, United States
CATEGORIES:Sustainability Commission
END:VEVENT
BEGIN:VEVENT
DTSTART;TZID=America/Chicago:20260212T163000
DTEND;TZID=America/Chicago:20260212T173000
DTSTAMP:20260423T062511
CREATED:20250609T022253Z
LAST-MODIFIED:20250609T022253Z
UID:10001812-1770913800-1770917400@michigancityin.gov
SUMMARY:Sustainability Commission Regular Meeting
DESCRIPTION:
URL:https://michigancityin.gov/city-event/sustainability-commission-regular-meeting/2026-02-12/
LOCATION:EOC Room\, 100 E Michigan Blvd\, Michigan City\, 46360\, United States
CATEGORIES:Sustainability Commission
END:VEVENT
BEGIN:VEVENT
DTSTART;TZID=America/Chicago:20260312T163000
DTEND;TZID=America/Chicago:20260312T173000
DTSTAMP:20260423T062511
CREATED:20250609T022253Z
LAST-MODIFIED:20250609T022253Z
UID:10001813-1773333000-1773336600@michigancityin.gov
SUMMARY:Sustainability Commission Regular Meeting
DESCRIPTION:
URL:https://michigancityin.gov/city-event/sustainability-commission-regular-meeting/2026-03-12/
LOCATION:EOC Room\, 100 E Michigan Blvd\, Michigan City\, 46360\, United States
CATEGORIES:Sustainability Commission
END:VEVENT
BEGIN:VEVENT
DTSTART;TZID=America/Chicago:20260409T163000
DTEND;TZID=America/Chicago:20260409T173000
DTSTAMP:20260423T062511
CREATED:20250609T022253Z
LAST-MODIFIED:20250609T022253Z
UID:10001814-1775752200-1775755800@michigancityin.gov
SUMMARY:Sustainability Commission Regular Meeting
DESCRIPTION:
URL:https://michigancityin.gov/city-event/sustainability-commission-regular-meeting/2026-04-09/
LOCATION:EOC Room\, 100 E Michigan Blvd\, Michigan City\, 46360\, United States
CATEGORIES:Sustainability Commission
END:VEVENT
BEGIN:VEVENT
DTSTART;TZID=America/Chicago:20260514T163000
DTEND;TZID=America/Chicago:20260514T173000
DTSTAMP:20260423T062511
CREATED:20250609T022253Z
LAST-MODIFIED:20250609T022253Z
UID:10001815-1778776200-1778779800@michigancityin.gov
SUMMARY:Sustainability Commission Regular Meeting
DESCRIPTION:
URL:https://michigancityin.gov/city-event/sustainability-commission-regular-meeting/2026-05-14/
LOCATION:EOC Room\, 100 E Michigan Blvd\, Michigan City\, 46360\, United States
CATEGORIES:Sustainability Commission
END:VEVENT
BEGIN:VEVENT
DTSTART;TZID=America/Chicago:20260611T163000
DTEND;TZID=America/Chicago:20260611T173000
DTSTAMP:20260423T062511
CREATED:20250609T022253Z
LAST-MODIFIED:20250609T022253Z
UID:10001816-1781195400-1781199000@michigancityin.gov
SUMMARY:Sustainability Commission Regular Meeting
DESCRIPTION:
URL:https://michigancityin.gov/city-event/sustainability-commission-regular-meeting/2026-06-11/
LOCATION:EOC Room\, 100 E Michigan Blvd\, Michigan City\, 46360\, United States
CATEGORIES:Sustainability Commission
END:VEVENT
BEGIN:VEVENT
DTSTART;TZID=America/Chicago:20260709T163000
DTEND;TZID=America/Chicago:20260709T173000
DTSTAMP:20260423T062511
CREATED:20250609T022253Z
LAST-MODIFIED:20250609T022253Z
UID:10001817-1783614600-1783618200@michigancityin.gov
SUMMARY:Sustainability Commission Regular Meeting
DESCRIPTION:
URL:https://michigancityin.gov/city-event/sustainability-commission-regular-meeting/2026-07-09/
LOCATION:EOC Room\, 100 E Michigan Blvd\, Michigan City\, 46360\, United States
CATEGORIES:Sustainability Commission
END:VEVENT
BEGIN:VEVENT
DTSTART;TZID=America/Chicago:20260813T163000
DTEND;TZID=America/Chicago:20260813T173000
DTSTAMP:20260423T062511
CREATED:20250609T022253Z
LAST-MODIFIED:20250609T022253Z
UID:10001818-1786638600-1786642200@michigancityin.gov
SUMMARY:Sustainability Commission Regular Meeting
DESCRIPTION:
URL:https://michigancityin.gov/city-event/sustainability-commission-regular-meeting/2026-08-13/
LOCATION:EOC Room\, 100 E Michigan Blvd\, Michigan City\, 46360\, United States
CATEGORIES:Sustainability Commission
END:VEVENT
BEGIN:VEVENT
DTSTART;TZID=America/Chicago:20260910T163000
DTEND;TZID=America/Chicago:20260910T173000
DTSTAMP:20260423T062511
CREATED:20250609T022253Z
LAST-MODIFIED:20250609T022253Z
UID:10001819-1789057800-1789061400@michigancityin.gov
SUMMARY:Sustainability Commission Regular Meeting
DESCRIPTION:
URL:https://michigancityin.gov/city-event/sustainability-commission-regular-meeting/2026-09-10/
LOCATION:EOC Room\, 100 E Michigan Blvd\, Michigan City\, 46360\, United States
CATEGORIES:Sustainability Commission
END:VEVENT
BEGIN:VEVENT
DTSTART;TZID=America/Chicago:20261008T163000
DTEND;TZID=America/Chicago:20261008T173000
DTSTAMP:20260423T062511
CREATED:20250609T022253Z
LAST-MODIFIED:20250609T022253Z
UID:10001820-1791477000-1791480600@michigancityin.gov
SUMMARY:Sustainability Commission Regular Meeting
DESCRIPTION:
URL:https://michigancityin.gov/city-event/sustainability-commission-regular-meeting/2026-10-08/
LOCATION:EOC Room\, 100 E Michigan Blvd\, Michigan City\, 46360\, United States
CATEGORIES:Sustainability Commission
END:VEVENT
BEGIN:VEVENT
DTSTART;TZID=America/Chicago:20261112T163000
DTEND;TZID=America/Chicago:20261112T173000
DTSTAMP:20260423T062511
CREATED:20250609T022253Z
LAST-MODIFIED:20250609T022253Z
UID:10001821-1794501000-1794504600@michigancityin.gov
SUMMARY:Sustainability Commission Regular Meeting
DESCRIPTION:
URL:https://michigancityin.gov/city-event/sustainability-commission-regular-meeting/2026-11-12/
LOCATION:EOC Room\, 100 E Michigan Blvd\, Michigan City\, 46360\, United States
CATEGORIES:Sustainability Commission
END:VEVENT
BEGIN:VEVENT
DTSTART;TZID=America/Chicago:20261210T163000
DTEND;TZID=America/Chicago:20261210T173000
DTSTAMP:20260423T062511
CREATED:20250609T022253Z
LAST-MODIFIED:20250609T022253Z
UID:10001822-1796920200-1796923800@michigancityin.gov
SUMMARY:Sustainability Commission Regular Meeting
DESCRIPTION:
URL:https://michigancityin.gov/city-event/sustainability-commission-regular-meeting/2026-12-10/
LOCATION:EOC Room\, 100 E Michigan Blvd\, Michigan City\, 46360\, United States
CATEGORIES:Sustainability Commission
END:VEVENT
BEGIN:VEVENT
DTSTART;TZID=America/Chicago:20270114T163000
DTEND;TZID=America/Chicago:20270114T173000
DTSTAMP:20260423T062511
CREATED:20250609T022253Z
LAST-MODIFIED:20250609T022253Z
UID:10001823-1799944200-1799947800@michigancityin.gov
SUMMARY:Sustainability Commission Regular Meeting
DESCRIPTION:
URL:https://michigancityin.gov/city-event/sustainability-commission-regular-meeting/2027-01-14/
LOCATION:EOC Room\, 100 E Michigan Blvd\, Michigan City\, 46360\, United States
CATEGORIES:Sustainability Commission
END:VEVENT
BEGIN:VEVENT
DTSTART;TZID=America/Chicago:20270211T163000
DTEND;TZID=America/Chicago:20270211T173000
DTSTAMP:20260423T062511
CREATED:20250609T022253Z
LAST-MODIFIED:20250609T022253Z
UID:10001824-1802363400-1802367000@michigancityin.gov
SUMMARY:Sustainability Commission Regular Meeting
DESCRIPTION:
URL:https://michigancityin.gov/city-event/sustainability-commission-regular-meeting/2027-02-11/
LOCATION:EOC Room\, 100 E Michigan Blvd\, Michigan City\, 46360\, United States
CATEGORIES:Sustainability Commission
END:VEVENT
BEGIN:VEVENT
DTSTART;TZID=America/Chicago:20270311T163000
DTEND;TZID=America/Chicago:20270311T173000
DTSTAMP:20260423T062511
CREATED:20250609T022253Z
LAST-MODIFIED:20250609T022253Z
UID:10001825-1804782600-1804786200@michigancityin.gov
SUMMARY:Sustainability Commission Regular Meeting
DESCRIPTION:
URL:https://michigancityin.gov/city-event/sustainability-commission-regular-meeting/2027-03-11/
LOCATION:EOC Room\, 100 E Michigan Blvd\, Michigan City\, 46360\, United States
CATEGORIES:Sustainability Commission
END:VEVENT
BEGIN:VEVENT
DTSTART;TZID=America/Chicago:20270408T163000
DTEND;TZID=America/Chicago:20270408T173000
DTSTAMP:20260423T062511
CREATED:20250609T022253Z
LAST-MODIFIED:20250609T022253Z
UID:10001826-1807201800-1807205400@michigancityin.gov
SUMMARY:Sustainability Commission Regular Meeting
DESCRIPTION:
URL:https://michigancityin.gov/city-event/sustainability-commission-regular-meeting/2027-04-08/
LOCATION:EOC Room\, 100 E Michigan Blvd\, Michigan City\, 46360\, United States
CATEGORIES:Sustainability Commission
END:VEVENT
BEGIN:VEVENT
DTSTART;TZID=America/Chicago:20270513T163000
DTEND;TZID=America/Chicago:20270513T173000
DTSTAMP:20260423T062511
CREATED:20250609T022253Z
LAST-MODIFIED:20250609T022253Z
UID:10001827-1810225800-1810229400@michigancityin.gov
SUMMARY:Sustainability Commission Regular Meeting
DESCRIPTION:
URL:https://michigancityin.gov/city-event/sustainability-commission-regular-meeting/2027-05-13/
LOCATION:EOC Room\, 100 E Michigan Blvd\, Michigan City\, 46360\, United States
CATEGORIES:Sustainability Commission
END:VEVENT
BEGIN:VEVENT
DTSTART;TZID=America/Chicago:20270610T163000
DTEND;TZID=America/Chicago:20270610T173000
DTSTAMP:20260423T062511
CREATED:20250609T022253Z
LAST-MODIFIED:20250609T022253Z
UID:10001828-1812645000-1812648600@michigancityin.gov
SUMMARY:Sustainability Commission Regular Meeting
DESCRIPTION:
URL:https://michigancityin.gov/city-event/sustainability-commission-regular-meeting/2027-06-10/
LOCATION:EOC Room\, 100 E Michigan Blvd\, Michigan City\, 46360\, United States
CATEGORIES:Sustainability Commission
END:VEVENT
BEGIN:VEVENT
DTSTART;TZID=America/Chicago:20270708T163000
DTEND;TZID=America/Chicago:20270708T173000
DTSTAMP:20260423T062511
CREATED:20250609T022253Z
LAST-MODIFIED:20250609T022253Z
UID:10001829-1815064200-1815067800@michigancityin.gov
SUMMARY:Sustainability Commission Regular Meeting
DESCRIPTION:
URL:https://michigancityin.gov/city-event/sustainability-commission-regular-meeting/2027-07-08/
LOCATION:EOC Room\, 100 E Michigan Blvd\, Michigan City\, 46360\, United States
CATEGORIES:Sustainability Commission
END:VEVENT
BEGIN:VEVENT
DTSTART;TZID=America/Chicago:20270812T163000
DTEND;TZID=America/Chicago:20270812T173000
DTSTAMP:20260423T062511
CREATED:20250609T022253Z
LAST-MODIFIED:20250609T022253Z
UID:10001830-1818088200-1818091800@michigancityin.gov
SUMMARY:Sustainability Commission Regular Meeting
DESCRIPTION:
URL:https://michigancityin.gov/city-event/sustainability-commission-regular-meeting/2027-08-12/
LOCATION:EOC Room\, 100 E Michigan Blvd\, Michigan City\, 46360\, United States
CATEGORIES:Sustainability Commission
END:VEVENT
BEGIN:VEVENT
DTSTART;TZID=America/Chicago:20270909T163000
DTEND;TZID=America/Chicago:20270909T173000
DTSTAMP:20260423T062511
CREATED:20250609T022253Z
LAST-MODIFIED:20250609T022253Z
UID:10001831-1820507400-1820511000@michigancityin.gov
SUMMARY:Sustainability Commission Regular Meeting
DESCRIPTION:
URL:https://michigancityin.gov/city-event/sustainability-commission-regular-meeting/2027-09-09/
LOCATION:EOC Room\, 100 E Michigan Blvd\, Michigan City\, 46360\, United States
CATEGORIES:Sustainability Commission
END:VEVENT
BEGIN:VEVENT
DTSTART;TZID=America/Chicago:20271014T163000
DTEND;TZID=America/Chicago:20271014T173000
DTSTAMP:20260423T062511
CREATED:20250609T022253Z
LAST-MODIFIED:20250609T022253Z
UID:10001832-1823531400-1823535000@michigancityin.gov
SUMMARY:Sustainability Commission Regular Meeting
DESCRIPTION:
URL:https://michigancityin.gov/city-event/sustainability-commission-regular-meeting/2027-10-14/
LOCATION:EOC Room\, 100 E Michigan Blvd\, Michigan City\, 46360\, United States
CATEGORIES:Sustainability Commission
END:VEVENT
BEGIN:VEVENT
DTSTART;TZID=America/Chicago:20271111T163000
DTEND;TZID=America/Chicago:20271111T173000
DTSTAMP:20260423T062511
CREATED:20250609T022253Z
LAST-MODIFIED:20250609T022253Z
UID:10001833-1825950600-1825954200@michigancityin.gov
SUMMARY:Sustainability Commission Regular Meeting
DESCRIPTION:
URL:https://michigancityin.gov/city-event/sustainability-commission-regular-meeting/2027-11-11/
LOCATION:EOC Room\, 100 E Michigan Blvd\, Michigan City\, 46360\, United States
CATEGORIES:Sustainability Commission
END:VEVENT
BEGIN:VEVENT
DTSTART;TZID=America/Chicago:20271209T163000
DTEND;TZID=America/Chicago:20271209T173000
DTSTAMP:20260423T062511
CREATED:20250609T022253Z
LAST-MODIFIED:20250609T022253Z
UID:10001834-1828369800-1828373400@michigancityin.gov
SUMMARY:Sustainability Commission Regular Meeting
DESCRIPTION:
URL:https://michigancityin.gov/city-event/sustainability-commission-regular-meeting/2027-12-09/
LOCATION:EOC Room\, 100 E Michigan Blvd\, Michigan City\, 46360\, United States
CATEGORIES:Sustainability Commission
END:VEVENT
BEGIN:VEVENT
DTSTART;TZID=America/Chicago:20280113T163000
DTEND;TZID=America/Chicago:20280113T173000
DTSTAMP:20260423T062511
CREATED:20250609T022253Z
LAST-MODIFIED:20250609T022253Z
UID:10001835-1831393800-1831397400@michigancityin.gov
SUMMARY:Sustainability Commission Regular Meeting
DESCRIPTION:
URL:https://michigancityin.gov/city-event/sustainability-commission-regular-meeting/2028-01-13/
LOCATION:EOC Room\, 100 E Michigan Blvd\, Michigan City\, 46360\, United States
CATEGORIES:Sustainability Commission
END:VEVENT
BEGIN:VEVENT
DTSTART;TZID=America/Chicago:20280210T163000
DTEND;TZID=America/Chicago:20280210T173000
DTSTAMP:20260423T062511
CREATED:20250609T022253Z
LAST-MODIFIED:20250609T022253Z
UID:10001836-1833813000-1833816600@michigancityin.gov
SUMMARY:Sustainability Commission Regular Meeting
DESCRIPTION:
URL:https://michigancityin.gov/city-event/sustainability-commission-regular-meeting/2028-02-10/
LOCATION:EOC Room\, 100 E Michigan Blvd\, Michigan City\, 46360\, United States
CATEGORIES:Sustainability Commission
END:VEVENT
END:VCALENDAR