BEGIN:VCALENDAR
VERSION:2.0
PRODID:-//City of Michigan City Indiana - ECPv6.15.20//NONSGML v1.0//EN
CALSCALE:GREGORIAN
METHOD:PUBLISH
X-WR-CALNAME:City of Michigan City Indiana
X-ORIGINAL-URL:https://michigancityin.gov
X-WR-CALDESC:Events for City of Michigan City Indiana
REFRESH-INTERVAL;VALUE=DURATION:PT1H
X-Robots-Tag:noindex
X-PUBLISHED-TTL:PT1H
BEGIN:VTIMEZONE
TZID:America/Chicago
BEGIN:DAYLIGHT
TZOFFSETFROM:-0600
TZOFFSETTO:-0500
TZNAME:CDT
DTSTART:20240310T080000
END:DAYLIGHT
BEGIN:STANDARD
TZOFFSETFROM:-0500
TZOFFSETTO:-0600
TZNAME:CST
DTSTART:20241103T070000
END:STANDARD
BEGIN:DAYLIGHT
TZOFFSETFROM:-0600
TZOFFSETTO:-0500
TZNAME:CDT
DTSTART:20250309T080000
END:DAYLIGHT
BEGIN:STANDARD
TZOFFSETFROM:-0500
TZOFFSETTO:-0600
TZNAME:CST
DTSTART:20251102T070000
END:STANDARD
BEGIN:DAYLIGHT
TZOFFSETFROM:-0600
TZOFFSETTO:-0500
TZNAME:CDT
DTSTART:20260308T080000
END:DAYLIGHT
BEGIN:STANDARD
TZOFFSETFROM:-0500
TZOFFSETTO:-0600
TZNAME:CST
DTSTART:20261101T070000
END:STANDARD
END:VTIMEZONE
BEGIN:VEVENT
DTSTART;TZID=America/Chicago:20251209T183000
DTEND;TZID=America/Chicago:20251209T193000
DTSTAMP:20260422T224033
CREATED:20250609T022950Z
LAST-MODIFIED:20250609T022950Z
UID:10002110-1765305000-1765308600@michigancityin.gov
SUMMARY:Water Works Board Tentative Meeting
DESCRIPTION:
URL:https://michigancityin.gov/city-event/water-works-board-tentative-meeting/2025-12-09/
LOCATION:Water Works Main Office\, 532 Franklin Street\, Michigan City\, 46360\, United States
CATEGORIES:Water Works Board
END:VEVENT
BEGIN:VEVENT
DTSTART;TZID=America/Chicago:20251209T180000
DTEND;TZID=America/Chicago:20251209T183000
DTSTAMP:20260422T224033
CREATED:20250609T022844Z
LAST-MODIFIED:20250609T022844Z
UID:10002050-1765303200-1765305000@michigancityin.gov
SUMMARY:Water Works Board Executive Meeting
DESCRIPTION:
URL:https://michigancityin.gov/city-event/water-works-board-executive-meeting/2025-12-09/
LOCATION:Water Works Main Office\, 532 Franklin Street\, Michigan City\, 46360\, United States
CATEGORIES:Water Works Board
END:VEVENT
BEGIN:VEVENT
DTSTART;TZID=America/Chicago:20251125T190000
DTEND;TZID=America/Chicago:20251125T200000
DTSTAMP:20260422T224033
CREATED:20250609T023106Z
LAST-MODIFIED:20250609T023106Z
UID:10002169-1764097200-1764100800@michigancityin.gov
SUMMARY:Water Works Board Regular Meeting
DESCRIPTION:
URL:https://michigancityin.gov/city-event/water-works-board-regular-meeting/2025-11-25/
LOCATION:Water Works Main Office\, 532 Franklin Street\, Michigan City\, 46360\, United States
CATEGORIES:Water Works Board
END:VEVENT
BEGIN:VEVENT
DTSTART;TZID=America/Chicago:20251111T183000
DTEND;TZID=America/Chicago:20251111T193000
DTSTAMP:20260422T224033
CREATED:20250609T022950Z
LAST-MODIFIED:20250609T022950Z
UID:10002109-1762885800-1762889400@michigancityin.gov
SUMMARY:Water Works Board Tentative Meeting
DESCRIPTION:
URL:https://michigancityin.gov/city-event/water-works-board-tentative-meeting/2025-11-11/
LOCATION:Water Works Main Office\, 532 Franklin Street\, Michigan City\, 46360\, United States
CATEGORIES:Water Works Board
END:VEVENT
BEGIN:VEVENT
DTSTART;TZID=America/Chicago:20251111T180000
DTEND;TZID=America/Chicago:20251111T183000
DTSTAMP:20260422T224033
CREATED:20250609T022844Z
LAST-MODIFIED:20250609T022844Z
UID:10002049-1762884000-1762885800@michigancityin.gov
SUMMARY:Water Works Board Executive Meeting
DESCRIPTION:
URL:https://michigancityin.gov/city-event/water-works-board-executive-meeting/2025-11-11/
LOCATION:Water Works Main Office\, 532 Franklin Street\, Michigan City\, 46360\, United States
CATEGORIES:Water Works Board
END:VEVENT
BEGIN:VEVENT
DTSTART;TZID=America/Chicago:20251028T190000
DTEND;TZID=America/Chicago:20251028T200000
DTSTAMP:20260422T224033
CREATED:20250609T023106Z
LAST-MODIFIED:20250609T023106Z
UID:10002168-1761678000-1761681600@michigancityin.gov
SUMMARY:Water Works Board Regular Meeting
DESCRIPTION:
URL:https://michigancityin.gov/city-event/water-works-board-regular-meeting/2025-10-28/
LOCATION:Water Works Main Office\, 532 Franklin Street\, Michigan City\, 46360\, United States
CATEGORIES:Water Works Board
END:VEVENT
BEGIN:VEVENT
DTSTART;TZID=America/Chicago:20251014T183000
DTEND;TZID=America/Chicago:20251014T193000
DTSTAMP:20260422T224033
CREATED:20250609T022950Z
LAST-MODIFIED:20250609T022950Z
UID:10002108-1760466600-1760470200@michigancityin.gov
SUMMARY:Water Works Board Tentative Meeting
DESCRIPTION:
URL:https://michigancityin.gov/city-event/water-works-board-tentative-meeting/2025-10-14/
LOCATION:Water Works Main Office\, 532 Franklin Street\, Michigan City\, 46360\, United States
CATEGORIES:Water Works Board
END:VEVENT
BEGIN:VEVENT
DTSTART;TZID=America/Chicago:20251014T180000
DTEND;TZID=America/Chicago:20251014T183000
DTSTAMP:20260422T224033
CREATED:20250609T022844Z
LAST-MODIFIED:20250609T022844Z
UID:10002048-1760464800-1760466600@michigancityin.gov
SUMMARY:Water Works Board Executive Meeting
DESCRIPTION:
URL:https://michigancityin.gov/city-event/water-works-board-executive-meeting/2025-10-14/
LOCATION:Water Works Main Office\, 532 Franklin Street\, Michigan City\, 46360\, United States
CATEGORIES:Water Works Board
END:VEVENT
BEGIN:VEVENT
DTSTART;TZID=America/Chicago:20250923T190000
DTEND;TZID=America/Chicago:20250923T200000
DTSTAMP:20260422T224033
CREATED:20250609T023106Z
LAST-MODIFIED:20250609T023106Z
UID:10002167-1758654000-1758657600@michigancityin.gov
SUMMARY:Water Works Board Regular Meeting
DESCRIPTION:
URL:https://michigancityin.gov/city-event/water-works-board-regular-meeting/2025-09-23/
LOCATION:Water Works Main Office\, 532 Franklin Street\, Michigan City\, 46360\, United States
CATEGORIES:Water Works Board
END:VEVENT
BEGIN:VEVENT
DTSTART;TZID=America/Chicago:20250909T190000
DTEND;TZID=America/Chicago:20250909T200000
DTSTAMP:20260422T224033
CREATED:20250909T191844Z
LAST-MODIFIED:20250909T191844Z
UID:10002107-1757444400-1757448000@michigancityin.gov
SUMMARY:Water Works Board Tentative Meeting
DESCRIPTION:
URL:https://michigancityin.gov/city-event/water-works-board-tentative-meeting-2/
LOCATION:Water Works Main Office\, 532 Franklin Street\, Michigan City\, 46360\, United States
CATEGORIES:Water Works Board
END:VEVENT
BEGIN:VEVENT
DTSTART;TZID=America/Chicago:20250826T190000
DTEND;TZID=America/Chicago:20250826T200000
DTSTAMP:20260422T224033
CREATED:20250609T023106Z
LAST-MODIFIED:20250609T023106Z
UID:10002166-1756234800-1756238400@michigancityin.gov
SUMMARY:Water Works Board Regular Meeting
DESCRIPTION:
URL:https://michigancityin.gov/city-event/water-works-board-regular-meeting/2025-08-26/
LOCATION:Water Works Main Office\, 532 Franklin Street\, Michigan City\, 46360\, United States
CATEGORIES:Water Works Board
END:VEVENT
BEGIN:VEVENT
DTSTART;TZID=America/Chicago:20250812T183000
DTEND;TZID=America/Chicago:20250812T193000
DTSTAMP:20260422T224033
CREATED:20250609T022950Z
LAST-MODIFIED:20250609T022950Z
UID:10002106-1755023400-1755027000@michigancityin.gov
SUMMARY:Water Works Board Tentative Meeting
DESCRIPTION:
URL:https://michigancityin.gov/city-event/water-works-board-tentative-meeting/2025-08-12/
LOCATION:Water Works Main Office\, 532 Franklin Street\, Michigan City\, 46360\, United States
CATEGORIES:Water Works Board
END:VEVENT
BEGIN:VEVENT
DTSTART;TZID=America/Chicago:20250812T180000
DTEND;TZID=America/Chicago:20250812T183000
DTSTAMP:20260422T224033
CREATED:20250609T022844Z
LAST-MODIFIED:20250609T022844Z
UID:10002046-1755021600-1755023400@michigancityin.gov
SUMMARY:Water Works Board Executive Meeting
DESCRIPTION:
URL:https://michigancityin.gov/city-event/water-works-board-executive-meeting/2025-08-12/
LOCATION:Water Works Main Office\, 532 Franklin Street\, Michigan City\, 46360\, United States
CATEGORIES:Water Works Board
END:VEVENT
BEGIN:VEVENT
DTSTART;TZID=America/Chicago:20250722T190000
DTEND;TZID=America/Chicago:20250722T200000
DTSTAMP:20260422T224033
CREATED:20250609T023106Z
LAST-MODIFIED:20250609T023106Z
UID:10002165-1753210800-1753214400@michigancityin.gov
SUMMARY:Water Works Board Regular Meeting
DESCRIPTION:
URL:https://michigancityin.gov/city-event/water-works-board-regular-meeting/2025-07-22/
LOCATION:Water Works Main Office\, 532 Franklin Street\, Michigan City\, 46360\, United States
CATEGORIES:Water Works Board
END:VEVENT
BEGIN:VEVENT
DTSTART;TZID=America/Chicago:20250708T183000
DTEND;TZID=America/Chicago:20250708T193000
DTSTAMP:20260422T224033
CREATED:20250609T022950Z
LAST-MODIFIED:20250609T022950Z
UID:10002105-1751999400-1752003000@michigancityin.gov
SUMMARY:Water Works Board Tentative Meeting
DESCRIPTION:
URL:https://michigancityin.gov/city-event/water-works-board-tentative-meeting/2025-07-08/
LOCATION:Water Works Main Office\, 532 Franklin Street\, Michigan City\, 46360\, United States
CATEGORIES:Water Works Board
END:VEVENT
BEGIN:VEVENT
DTSTART;TZID=America/Chicago:20250708T180000
DTEND;TZID=America/Chicago:20250708T183000
DTSTAMP:20260422T224033
CREATED:20250609T022844Z
LAST-MODIFIED:20250609T022844Z
UID:10002045-1751997600-1751999400@michigancityin.gov
SUMMARY:Water Works Board Executive Meeting
DESCRIPTION:
URL:https://michigancityin.gov/city-event/water-works-board-executive-meeting/2025-07-08/
LOCATION:Water Works Main Office\, 532 Franklin Street\, Michigan City\, 46360\, United States
CATEGORIES:Water Works Board
END:VEVENT
BEGIN:VEVENT
DTSTART;TZID=America/Chicago:20250624T190000
DTEND;TZID=America/Chicago:20250624T200000
DTSTAMP:20260422T224033
CREATED:20250609T023106Z
LAST-MODIFIED:20250609T023106Z
UID:10002164-1750791600-1750795200@michigancityin.gov
SUMMARY:Water Works Board Regular Meeting
DESCRIPTION:
URL:https://michigancityin.gov/city-event/water-works-board-regular-meeting/2025-06-24/
LOCATION:Water Works Main Office\, 532 Franklin Street\, Michigan City\, 46360\, United States
CATEGORIES:Water Works Board
END:VEVENT
BEGIN:VEVENT
DTSTART;TZID=America/Chicago:20250610T183000
DTEND;TZID=America/Chicago:20250610T193000
DTSTAMP:20260422T224033
CREATED:20250609T022950Z
LAST-MODIFIED:20250609T022950Z
UID:10002104-1749580200-1749583800@michigancityin.gov
SUMMARY:Water Works Board Tentative Meeting
DESCRIPTION:
URL:https://michigancityin.gov/city-event/water-works-board-tentative-meeting/2025-06-10/
LOCATION:Water Works Main Office\, 532 Franklin Street\, Michigan City\, 46360\, United States
CATEGORIES:Water Works Board
END:VEVENT
BEGIN:VEVENT
DTSTART;TZID=America/Chicago:20250610T180000
DTEND;TZID=America/Chicago:20250610T183000
DTSTAMP:20260422T224033
CREATED:20250609T022844Z
LAST-MODIFIED:20250609T022844Z
UID:10002044-1749578400-1749580200@michigancityin.gov
SUMMARY:Water Works Board Executive Meeting
DESCRIPTION:
URL:https://michigancityin.gov/city-event/water-works-board-executive-meeting/2025-06-10/
LOCATION:Water Works Main Office\, 532 Franklin Street\, Michigan City\, 46360\, United States
CATEGORIES:Water Works Board
END:VEVENT
END:VCALENDAR