BEGIN:VCALENDAR
VERSION:2.0
PRODID:-//City of Michigan City Indiana - ECPv6.15.20//NONSGML v1.0//EN
CALSCALE:GREGORIAN
METHOD:PUBLISH
X-WR-CALNAME:City of Michigan City Indiana
X-ORIGINAL-URL:https://michigancityin.gov
X-WR-CALDESC:Events for City of Michigan City Indiana
REFRESH-INTERVAL;VALUE=DURATION:PT1H
X-Robots-Tag:noindex
X-PUBLISHED-TTL:PT1H
BEGIN:VTIMEZONE
TZID:America/Chicago
BEGIN:DAYLIGHT
TZOFFSETFROM:-0600
TZOFFSETTO:-0500
TZNAME:CDT
DTSTART:20240310T080000
END:DAYLIGHT
BEGIN:STANDARD
TZOFFSETFROM:-0500
TZOFFSETTO:-0600
TZNAME:CST
DTSTART:20241103T070000
END:STANDARD
BEGIN:DAYLIGHT
TZOFFSETFROM:-0600
TZOFFSETTO:-0500
TZNAME:CDT
DTSTART:20250309T080000
END:DAYLIGHT
BEGIN:STANDARD
TZOFFSETFROM:-0500
TZOFFSETTO:-0600
TZNAME:CST
DTSTART:20251102T070000
END:STANDARD
BEGIN:DAYLIGHT
TZOFFSETFROM:-0600
TZOFFSETTO:-0500
TZNAME:CDT
DTSTART:20260308T080000
END:DAYLIGHT
BEGIN:STANDARD
TZOFFSETFROM:-0500
TZOFFSETTO:-0600
TZNAME:CST
DTSTART:20261101T070000
END:STANDARD
BEGIN:DAYLIGHT
TZOFFSETFROM:-0600
TZOFFSETTO:-0500
TZNAME:CDT
DTSTART:20270314T080000
END:DAYLIGHT
BEGIN:STANDARD
TZOFFSETFROM:-0500
TZOFFSETTO:-0600
TZNAME:CST
DTSTART:20271107T070000
END:STANDARD
END:VTIMEZONE
BEGIN:VEVENT
DTSTART;VALUE=DATE:20260403
DTEND;VALUE=DATE:20260404
DTSTAMP:20260422T133439
CREATED:20260202T142304Z
LAST-MODIFIED:20260202T142305Z
UID:10003377-1775174400-1775260799@michigancityin.gov
SUMMARY:Good Friday Holiday Closure
DESCRIPTION:
URL:https://michigancityin.gov/city-event/good-friday-holiday-closure-2/
CATEGORIES:Holiday Closures
END:VEVENT
BEGIN:VEVENT
DTSTART;VALUE=DATE:20260119
DTEND;VALUE=DATE:20260120
DTSTAMP:20260422T133439
CREATED:20250608T210012Z
LAST-MODIFIED:20250608T210012Z
UID:10000349-1768780800-1768867199@michigancityin.gov
SUMMARY:Martin Luther King Jr. Day Holiday Closure
DESCRIPTION:
URL:https://michigancityin.gov/city-event/martin-luther-king-jr-day-holiday-closure/2026-01-19/
CATEGORIES:Holiday Closures
END:VEVENT
BEGIN:VEVENT
DTSTART;VALUE=DATE:20260101
DTEND;VALUE=DATE:20260102
DTSTAMP:20260422T133439
CREATED:20250608T205800Z
LAST-MODIFIED:20250608T205800Z
UID:10000344-1767225600-1767311999@michigancityin.gov
SUMMARY:New Year's Day Holiday Closure
DESCRIPTION:
URL:https://michigancityin.gov/city-event/new-years-day-holiday-closure/2026-01-01/
CATEGORIES:Holiday Closures
END:VEVENT
BEGIN:VEVENT
DTSTART;VALUE=DATE:20251231
DTEND;VALUE=DATE:20260101
DTSTAMP:20260422T133439
CREATED:20250608T205636Z
LAST-MODIFIED:20250608T205830Z
UID:10000339-1767139200-1767225599@michigancityin.gov
SUMMARY:New Year's Eve Holiday Closure
DESCRIPTION:
URL:https://michigancityin.gov/city-event/new-years-eve-holiday-closure/2025-12-31/
CATEGORIES:Holiday Closures
END:VEVENT
BEGIN:VEVENT
DTSTART;VALUE=DATE:20251225
DTEND;VALUE=DATE:20251226
DTSTAMP:20260422T133439
CREATED:20250608T205512Z
LAST-MODIFIED:20250608T205513Z
UID:10000334-1766620800-1766707199@michigancityin.gov
SUMMARY:Christmas Day Holiday Closure
DESCRIPTION:
URL:https://michigancityin.gov/city-event/christmas-day-holiday-closure/2025-12-25/
CATEGORIES:Holiday Closures
END:VEVENT
BEGIN:VEVENT
DTSTART;VALUE=DATE:20251224
DTEND;VALUE=DATE:20251225
DTSTAMP:20260422T133439
CREATED:20250608T205413Z
LAST-MODIFIED:20250608T205413Z
UID:10000329-1766534400-1766620799@michigancityin.gov
SUMMARY:Christmas Eve Holiday Closure
DESCRIPTION:
URL:https://michigancityin.gov/city-event/christmas-eve-holiday-closure/2025-12-24/
CATEGORIES:Holiday Closures
END:VEVENT
BEGIN:VEVENT
DTSTART;VALUE=DATE:20251128
DTEND;VALUE=DATE:20251129
DTSTAMP:20260422T133439
CREATED:20250608T205307Z
LAST-MODIFIED:20250608T205307Z
UID:10000324-1764288000-1764374399@michigancityin.gov
SUMMARY:Day After Thanksgiving Holiday Closure
DESCRIPTION:
URL:https://michigancityin.gov/city-event/day-after-thanksgiving-holiday-closure/2025-11-28/
CATEGORIES:Holiday Closures
END:VEVENT
BEGIN:VEVENT
DTSTART;VALUE=DATE:20251127
DTEND;VALUE=DATE:20251128
DTSTAMP:20260422T133439
CREATED:20250608T205146Z
LAST-MODIFIED:20250608T205146Z
UID:10000319-1764201600-1764287999@michigancityin.gov
SUMMARY:Thanksgiving Day Holiday Closure
DESCRIPTION:
URL:https://michigancityin.gov/city-event/thanksgiving-day-holiday-closure/2025-11-27/
CATEGORIES:Holiday Closures
END:VEVENT
BEGIN:VEVENT
DTSTART;VALUE=DATE:20251111
DTEND;VALUE=DATE:20251112
DTSTAMP:20260422T133439
CREATED:20250608T205001Z
LAST-MODIFIED:20250608T205001Z
UID:10000314-1762819200-1762905599@michigancityin.gov
SUMMARY:Veterans Day Holiday Closure
DESCRIPTION:
URL:https://michigancityin.gov/city-event/veterans-day-holiday-closure/2025-11-11/
CATEGORIES:Holiday Closures
END:VEVENT
BEGIN:VEVENT
DTSTART;VALUE=DATE:20250901
DTEND;VALUE=DATE:20250902
DTSTAMP:20260422T133439
CREATED:20250608T204253Z
LAST-MODIFIED:20250608T204253Z
UID:10000298-1756684800-1756771199@michigancityin.gov
SUMMARY:Labor Day Holiday Closure
DESCRIPTION:
URL:https://michigancityin.gov/city-event/labor-day-holiday-closure/2025-09-01/
CATEGORIES:Holiday Closures
END:VEVENT
BEGIN:VEVENT
DTSTART;VALUE=DATE:20250619
DTEND;VALUE=DATE:20250620
DTSTAMP:20260422T133439
CREATED:20250613T205947Z
LAST-MODIFIED:20250613T205947Z
UID:10002234-1750291200-1750377599@michigancityin.gov
SUMMARY:Juneteenth Holiday Closure
DESCRIPTION:
URL:https://michigancityin.gov/city-event/juneteenth-holiday-closure/2025-06-19/
CATEGORIES:Holiday Closures
END:VEVENT
BEGIN:VEVENT
DTSTART;VALUE=DATE:20250526
DTEND;VALUE=DATE:20250527
DTSTAMP:20260422T133439
CREATED:20250320T161210Z
LAST-MODIFIED:20250608T204122Z
UID:10000012-1748217600-1748303999@michigancityin.gov
SUMMARY:Memorial Day Holiday Closure
DESCRIPTION:
URL:https://michigancityin.gov/city-event/memorial-day-holiday-closure/2025-05-26/
CATEGORIES:Holiday Closures
END:VEVENT
END:VCALENDAR