BEGIN:VCALENDAR
VERSION:2.0
PRODID:-//City of Michigan City Indiana - ECPv6.15.20//NONSGML v1.0//EN
CALSCALE:GREGORIAN
METHOD:PUBLISH
X-ORIGINAL-URL:https://michigancityin.gov
X-WR-CALDESC:Events for City of Michigan City Indiana
REFRESH-INTERVAL;VALUE=DURATION:PT1H
X-Robots-Tag:noindex
X-PUBLISHED-TTL:PT1H
BEGIN:VTIMEZONE
TZID:America/Chicago
BEGIN:DAYLIGHT
TZOFFSETFROM:-0600
TZOFFSETTO:-0500
TZNAME:CDT
DTSTART:20240310T080000
END:DAYLIGHT
BEGIN:STANDARD
TZOFFSETFROM:-0500
TZOFFSETTO:-0600
TZNAME:CST
DTSTART:20241103T070000
END:STANDARD
BEGIN:DAYLIGHT
TZOFFSETFROM:-0600
TZOFFSETTO:-0500
TZNAME:CDT
DTSTART:20250309T080000
END:DAYLIGHT
BEGIN:STANDARD
TZOFFSETFROM:-0500
TZOFFSETTO:-0600
TZNAME:CST
DTSTART:20251102T070000
END:STANDARD
BEGIN:DAYLIGHT
TZOFFSETFROM:-0600
TZOFFSETTO:-0500
TZNAME:CDT
DTSTART:20260308T080000
END:DAYLIGHT
BEGIN:STANDARD
TZOFFSETFROM:-0500
TZOFFSETTO:-0600
TZNAME:CST
DTSTART:20261101T070000
END:STANDARD
END:VTIMEZONE
BEGIN:VEVENT
DTSTART;TZID=America/Chicago:20250619T120000
DTEND;TZID=America/Chicago:20250619T220000
DTSTAMP:20260423T010922
CREATED:20250609T024845Z
LAST-MODIFIED:20250617T002220Z
UID:10002224-1750334400-1750370400@michigancityin.gov
SUMMARY:Michigan City Juneteenth Celebration
DESCRIPTION:Juneteenth celebrates the emancipation of enslaved people in Texas on June 19\, 1865\, marking the end of slavery in the United States. It is a time for reflection on the legacy of slavery and the ongoing fight for freedom and equality\, while also celebrating the resilience and joy of the African American community.
URL:https://michigancityin.gov/city-event/michigan-city-juneteenth-celebration/
LOCATION:Guy Foreman Amphitheater\, 115 Lake Shore Dr\, Michigan City\, 46360\, United States
CATEGORIES:Special Events
ATTACH;FMTTYPE=image/png:https://michigancityin.gov/wp-content/uploads/2025/02/MC-Juneteenth-Logo.png
END:VEVENT
BEGIN:VEVENT
DTSTART;TZID=America/Chicago:20250621T110000
DTEND;TZID=America/Chicago:20250621T120000
DTSTAMP:20260423T010922
CREATED:20250609T025333Z
LAST-MODIFIED:20250620T214739Z
UID:10002225-1750503600-1750507200@michigancityin.gov
SUMMARY:Michigan City Kiddie Parade
DESCRIPTION:June 20\, 2025 \nDue to the extreme heat expected\, the Kiddie Parade will be postponed to a later date. Though we know this is a big disappointment to the kids who are participating\, the health and safety of all those involved is our priority. We are working on a plan to reschedule the Kiddie Parade later this year. Thank you for your planned participation and hopefully we will see you later this year. \nMichigan City’s youth take to the streets to celebrate summer and show their civic spirit. They will dress in costume and decorate their favorite bike\, wagon\, or even their favorite pet and march up Franklin St. through the Uptown Arts District. Proud family members\, friends\, and neighbors will cheer them on and celebrate the next generation in our spirited community. \nLine-Up 10:00 am\, Parade 11:00 am\nRoute – Franklin St north from 7th to 4th
URL:https://michigancityin.gov/city-event/michigan-city-kiddie-parade/
LOCATION:7th Franklin Street\, 700 Franklin Street\, Michigan City\, 46360\, United States
CATEGORIES:Special Events
ATTACH;FMTTYPE=image/png:https://michigancityin.gov/wp-content/uploads/2025/02/Kiddie-Parade-Logo.png
END:VEVENT
BEGIN:VEVENT
DTSTART;TZID=America/Chicago:20250628T110000
DTEND;TZID=America/Chicago:20250628T120000
DTSTAMP:20260423T010922
CREATED:20250609T030527Z
LAST-MODIFIED:20250609T031444Z
UID:10002226-1751108400-1751112000@michigancityin.gov
SUMMARY:Michigan City Patriotic Parade
DESCRIPTION:Michigan City celebrates our freedom and independence with the traditional march down Franklin St. Residents line the street to cheer on local and regional organizations\, businesses\, church groups\, youth groups\, school organizations\, and anyone who wants to show their community spirit and national pride. Come celebrate in style with this years theme…\n“God Bless Our Military” \nRoute – Franklin St South from 9th to Harrison St.\nLine-up 9:00 am\, Parade 11:00 am
URL:https://michigancityin.gov/city-event/michigan-city-patriotic-parade/
LOCATION:9th Franklin Street\, 900 Franklin Street\, Michigan City\, 46360\, United States
CATEGORIES:Special Events
ATTACH;FMTTYPE=image/png:https://michigancityin.gov/wp-content/uploads/2025/02/Patriotic-Parade-Logo.png
END:VEVENT
END:VCALENDAR