BEGIN:VCALENDAR
VERSION:2.0
PRODID:-//City of Michigan City Indiana - ECPv6.15.20//NONSGML v1.0//EN
CALSCALE:GREGORIAN
METHOD:PUBLISH
X-ORIGINAL-URL:https://michigancityin.gov
X-WR-CALDESC:Events for City of Michigan City Indiana
REFRESH-INTERVAL;VALUE=DURATION:PT1H
X-Robots-Tag:noindex
X-PUBLISHED-TTL:PT1H
BEGIN:VTIMEZONE
TZID:America/Chicago
BEGIN:DAYLIGHT
TZOFFSETFROM:-0600
TZOFFSETTO:-0500
TZNAME:CDT
DTSTART:20240310T080000
END:DAYLIGHT
BEGIN:STANDARD
TZOFFSETFROM:-0500
TZOFFSETTO:-0600
TZNAME:CST
DTSTART:20241103T070000
END:STANDARD
BEGIN:DAYLIGHT
TZOFFSETFROM:-0600
TZOFFSETTO:-0500
TZNAME:CDT
DTSTART:20250309T080000
END:DAYLIGHT
BEGIN:STANDARD
TZOFFSETFROM:-0500
TZOFFSETTO:-0600
TZNAME:CST
DTSTART:20251102T070000
END:STANDARD
BEGIN:DAYLIGHT
TZOFFSETFROM:-0600
TZOFFSETTO:-0500
TZNAME:CDT
DTSTART:20260308T080000
END:DAYLIGHT
BEGIN:STANDARD
TZOFFSETFROM:-0500
TZOFFSETTO:-0600
TZNAME:CST
DTSTART:20261101T070000
END:STANDARD
END:VTIMEZONE
BEGIN:VEVENT
DTSTART;VALUE=DATE:20250730
DTEND;VALUE=DATE:20250804
DTSTAMP:20260422T222200
CREATED:20250609T033204Z
LAST-MODIFIED:20250609T033237Z
UID:10002229-1753833600-1754265599@michigancityin.gov
SUMMARY:XINSURANCE Great Lakes Grand Prix
DESCRIPTION:
URL:https://michigancityin.gov/city-event/xinsurance-great-lakes-grand-prix/
LOCATION:Washington Park\, 6 On the Lake\, Michigan CIty\, 46360\, United States
CATEGORIES:Special Events
ATTACH;FMTTYPE=image/png:https://michigancityin.gov/wp-content/uploads/2025/06/Great-Lakes-Grand-Prix-1.png
END:VEVENT
BEGIN:VEVENT
DTSTART;TZID=America/Chicago:20250812T170000
DTEND;TZID=America/Chicago:20250812T190000
DTSTAMP:20260422T222200
CREATED:20250807T193352Z
LAST-MODIFIED:20250807T193352Z
UID:10002248-1755018000-1755025200@michigancityin.gov
SUMMARY:Indiana Plan Pre-Apprenticeship Open House
DESCRIPTION:Your Career in the Skilled Trades Starts Here!\nAre you interested in a rewarding career in the skilled trades? The Indiana Plan Pre-Apprenticeship Open House is your opportunity to learn how to get started. \nEvent Details: \n\nDate: August 12\, 2025\nTime: 5:00 PM – 7:00 PM\nLocation: Michigan City Hall\, 100 E Michigan Blvd\, Michigan City\, IN 46360\n\nWhy You Should Attend: \n\nLearn about our FREE Pre-Apprenticeship Program. Discover how this program can provide you with the foundational skills and knowledge needed to succeed.\nExplore Career Opportunities. Find out about the high-demand\, high-paying jobs available in the skilled trades right here in Indiana.\nMeet Instructors and Staff. Get your questions answered directly by the people who will be helping you on your career journey.\n\nThis is a fantastic opportunity to take the first step toward a fulfilling career. We look forward to seeing you there! \nQuestions? Reach Out! \n\nPhone: (219) 873-1400\nEmail: kward@emichigancity.com\nWebsite: indianaplan.org
URL:https://michigancityin.gov/city-event/indiana-plan-pre-apprenticeship-open-house/
LOCATION:City Hall\, 100 E. Michigan Blvd.\, Michigan City\, 46360\, United States
CATEGORIES:Special Events
END:VEVENT
BEGIN:VEVENT
DTSTART;VALUE=DATE:20250816
DTEND;VALUE=DATE:20250818
DTSTAMP:20260422T222200
CREATED:20250609T033514Z
LAST-MODIFIED:20250609T033514Z
UID:10002230-1755302400-1755475199@michigancityin.gov
SUMMARY:Lubeznik Arts Festival
DESCRIPTION:
URL:https://michigancityin.gov/city-event/lubeznik-arts-festival/
CATEGORIES:Special Events
ATTACH;FMTTYPE=image/jpeg:https://michigancityin.gov/wp-content/uploads/2025/06/Document-1.jpg
END:VEVENT
BEGIN:VEVENT
DTSTART;VALUE=DATE:20250829
DTEND;VALUE=DATE:20250902
DTSTAMP:20260422T222200
CREATED:20250609T030808Z
LAST-MODIFIED:20250609T031953Z
UID:10002227-1756425600-1756771199@michigancityin.gov
SUMMARY:Michigan City Oktoberfest
DESCRIPTION:One of Michigan City’s most well-known and long-standing traditions is back! Celebrating Labor Day Weekend with the event that is the single most requested event by Michigan City residents. Oktoberfest will feature multiple live music stages\, local and regional food vendors\, as well as art\, craft\, and merchandise vendors from all over.
URL:https://michigancityin.gov/city-event/michigan-city-oktoberfest/
CATEGORIES:Special Events
ATTACH;FMTTYPE=image/png:https://michigancityin.gov/wp-content/uploads/2025/06/Oktoberfest-Arnett.png
END:VEVENT
END:VCALENDAR