BEGIN:VCALENDAR
VERSION:2.0
PRODID:-//City of Michigan City Indiana - ECPv6.15.20//NONSGML v1.0//EN
CALSCALE:GREGORIAN
METHOD:PUBLISH
X-WR-CALNAME:City of Michigan City Indiana
X-ORIGINAL-URL:https://michigancityin.gov
X-WR-CALDESC:Events for City of Michigan City Indiana
REFRESH-INTERVAL;VALUE=DURATION:PT1H
X-Robots-Tag:noindex
X-PUBLISHED-TTL:PT1H
BEGIN:VTIMEZONE
TZID:America/Chicago
BEGIN:DAYLIGHT
TZOFFSETFROM:-0600
TZOFFSETTO:-0500
TZNAME:CDT
DTSTART:20250309T080000
END:DAYLIGHT
BEGIN:STANDARD
TZOFFSETFROM:-0500
TZOFFSETTO:-0600
TZNAME:CST
DTSTART:20251102T070000
END:STANDARD
BEGIN:DAYLIGHT
TZOFFSETFROM:-0600
TZOFFSETTO:-0500
TZNAME:CDT
DTSTART:20260308T080000
END:DAYLIGHT
BEGIN:STANDARD
TZOFFSETFROM:-0500
TZOFFSETTO:-0600
TZNAME:CST
DTSTART:20261101T070000
END:STANDARD
BEGIN:DAYLIGHT
TZOFFSETFROM:-0600
TZOFFSETTO:-0500
TZNAME:CDT
DTSTART:20270314T080000
END:DAYLIGHT
BEGIN:STANDARD
TZOFFSETFROM:-0500
TZOFFSETTO:-0600
TZNAME:CST
DTSTART:20271107T070000
END:STANDARD
END:VTIMEZONE
BEGIN:VEVENT
DTSTART;TZID=America/Chicago:20260619T120000
DTEND;TZID=America/Chicago:20260619T200000
DTSTAMP:20260422T133355
CREATED:20260130T151856Z
LAST-MODIFIED:20260130T151856Z
UID:10003369-1781870400-1781899200@michigancityin.gov
SUMMARY:Juneteenth Celebration - 2026
DESCRIPTION:The City of Michigan City invites the community to celebrate Juneteenth on June 19th\, 2026 at the Guy Foreman Amphitheater in Washington Park. This annual event honors freedom\, history\, and unity through a full day of live performances\, cultural programming\, local food vendors\, an artisan market\, and a kids zone\, bringing together families\, friends\, and neighbors in celebration. \nJuneteenth commemorates the end of slavery in the United States and serves as a time to reflect on the past while celebrating the diversity and shared future of Michigan City. Community leaders\, civic groups\, and local organizations come together to make this celebration meaningful\, fun\, and welcoming for all ages. \nJoin us for a day of music\, food\, entertainment\, and family-friendly activities as Michigan City comes together to honor history and community spirit.
URL:https://michigancityin.gov/city-event/juneteenth-celebration-2026/
LOCATION:Guy Foreman Amphitheater\, 115 Lake Shore Dr\, Michigan City\, 46360\, United States
CATEGORIES:Special Events
ATTACH;FMTTYPE=image/png:https://michigancityin.gov/wp-content/uploads/2026/01/Screenshot-2026-01-29-at-12.23.09-PM.png
END:VEVENT
BEGIN:VEVENT
DTSTART;VALUE=DATE:20260627
DTEND;VALUE=DATE:20260628
DTSTAMP:20260422T133355
CREATED:20260130T151741Z
LAST-MODIFIED:20260130T151741Z
UID:10003371-1782518400-1782604799@michigancityin.gov
SUMMARY:Braden Fiske Family Fun Day - 2026
DESCRIPTION:The Braden Fiske Family Fun Day returns on Saturday\, June 27\, 2026\, at Ames Field\, immediately following the Michigan City Patriotic Parade. This free\, family-friendly event is a collaboration between Michigan City Special Events and Michigan City Area Schools\, hosted by Michigan City High School alumnus and Los Angeles Rams defensive lineman Braden Fiske. \nFamilies can enjoy bounce houses\, games\, food trucks\, live DJ music\, raffles\, and hands-on activities led by MCAS athletics teams. Braden Fiske will be on site for autographs and to connect with the community. The event celebrates youth\, community pride\, and giving back—bringing together students\, families\, and local partners at the field where Fiske once played as a student-athlete.
URL:https://michigancityin.gov/city-event/braden-fiske-family-fun-day-2026/
LOCATION:Ames Field\, 2501 Franklin St\, Michigan City\, 46360\, United States
CATEGORIES:Special Events
ATTACH;FMTTYPE=image/webp:https://michigancityin.gov/wp-content/uploads/2026/01/0x0.jpg.webp
END:VEVENT
BEGIN:VEVENT
DTSTART;TZID=America/Chicago:20260627T110000
DTEND;TZID=America/Chicago:20260627T150000
DTSTAMP:20260422T133355
CREATED:20260130T151807Z
LAST-MODIFIED:20260130T151807Z
UID:10003370-1782558000-1782572400@michigancityin.gov
SUMMARY:Patriotic Parade - 2026
DESCRIPTION:The Michigan City Patriotic Parade returns on Saturday\, June 27th\, 2026\, along Franklin Street\, celebrating freedom\, independence\, and community pride. This annual summer tradition features more than 100 parade entries\, including local high school bands\, emergency vehicles\, community organizations\, youth groups\, church groups\, and businesses\, all coming together to showcase their community spirit. The celebration even includes a patriotic flyover\, adding extra excitement to this family-friendly event. \nResidents and visitors line the streets to cheer on the parade and join in the festivities as Michigan City marks a day of national pride. This year’s theme\, America’s 250th Birthday\, adds a special touch to the celebration\, making it a memorable event for the whole community. \nEvent Details:Date: June 27th\, 2026Parade Start: 11:00 a.m.Route: Franklin Street
URL:https://michigancityin.gov/city-event/patriotic-parade-2026/
LOCATION:9th Franklin Street\, 900 Franklin Street\, Michigan City\, 46360\, United States
CATEGORIES:Special Events
ATTACH;FMTTYPE=image/png:https://michigancityin.gov/wp-content/uploads/2026/01/Screenshot-2026-01-29-at-12.38.34-PM.png
END:VEVENT
END:VCALENDAR