BEGIN:VCALENDAR
VERSION:2.0
PRODID:-//City of Michigan City Indiana - ECPv6.15.20//NONSGML v1.0//EN
CALSCALE:GREGORIAN
METHOD:PUBLISH
X-ORIGINAL-URL:https://michigancityin.gov
X-WR-CALDESC:Events for City of Michigan City Indiana
REFRESH-INTERVAL;VALUE=DURATION:PT1H
X-Robots-Tag:noindex
X-PUBLISHED-TTL:PT1H
BEGIN:VTIMEZONE
TZID:America/Chicago
BEGIN:DAYLIGHT
TZOFFSETFROM:-0600
TZOFFSETTO:-0500
TZNAME:CDT
DTSTART:20250309T080000
END:DAYLIGHT
BEGIN:STANDARD
TZOFFSETFROM:-0500
TZOFFSETTO:-0600
TZNAME:CST
DTSTART:20251102T070000
END:STANDARD
BEGIN:DAYLIGHT
TZOFFSETFROM:-0600
TZOFFSETTO:-0500
TZNAME:CDT
DTSTART:20260308T080000
END:DAYLIGHT
BEGIN:STANDARD
TZOFFSETFROM:-0500
TZOFFSETTO:-0600
TZNAME:CST
DTSTART:20261101T070000
END:STANDARD
BEGIN:DAYLIGHT
TZOFFSETFROM:-0600
TZOFFSETTO:-0500
TZNAME:CDT
DTSTART:20270314T080000
END:DAYLIGHT
BEGIN:STANDARD
TZOFFSETFROM:-0500
TZOFFSETTO:-0600
TZNAME:CST
DTSTART:20271107T070000
END:STANDARD
BEGIN:DAYLIGHT
TZOFFSETFROM:-0600
TZOFFSETTO:-0500
TZNAME:CDT
DTSTART:20280312T080000
END:DAYLIGHT
BEGIN:STANDARD
TZOFFSETFROM:-0500
TZOFFSETTO:-0600
TZNAME:CST
DTSTART:20281105T070000
END:STANDARD
END:VTIMEZONE
BEGIN:VEVENT
DTSTART;TZID=America/Chicago:20260314T130000
DTEND;TZID=America/Chicago:20260314T140000
DTSTAMP:20260422T164858
CREATED:20260130T151937Z
LAST-MODIFIED:20260203T220157Z
UID:10003366-1773493200-1773496800@michigancityin.gov
SUMMARY:St. Patrick's Day Parade - 2026
DESCRIPTION:Celebrate St. Patrick’s Day in Michigan City on March 14th\, 2026 at the annual St. Patrick’s Day Parade\, a fun\, family-friendly tradition that continues to grow in popularity each year. Featuring festive floats\, community groups\, local businesses\, and plenty of Irish spirit\, this parade turns Franklin Street into a sea of green and brings the Uptown Arts District to life. \nThe traditional walk up Franklin Street transforms the heart of the city into a little piece of Ireland\, with both participants and spectators showing off their green and celebrating together. Individuals\, groups\, businesses\, and anyone with the Irish spirit are welcome to participate at no cost\, making this event a true celebration of community and another great reason to come together and enjoy the holiday. \nWear your green\, bring your friends and family\, and join us for an afternoon of celebration in the Uptown Arts District. \nParade Route & Details:Route: Franklin Street north from 9th Street to 4th StreetLine-Up: Begins at 12:00 p.m.Parade Start: 1:00 p.m.
URL:https://michigancityin.gov/city-event/st-patricks-day-parade-2026/
LOCATION:Uptown Arts District\, 500 N Franklin\, Michigan City\, IN\, 46360\, United States
CATEGORIES:Special Events
ATTACH;FMTTYPE=image/jpeg:https://michigancityin.gov/wp-content/uploads/2026/01/Michigan-City-St.-Patricks-Day.jpg
END:VEVENT
BEGIN:VEVENT
DTSTART;TZID=America/Chicago:20260404T113000
DTEND;TZID=America/Chicago:20260404T130000
DTSTAMP:20260422T164858
CREATED:20260130T151542Z
LAST-MODIFIED:20260402T221753Z
UID:10003367-1775302200-1775307600@michigancityin.gov
SUMMARY:Easter Egg Hunt - 2026
DESCRIPTION:UPDATE THURS. 4/2: This event has been modified to accommodate inclement weather. For the latest information\, follow Michigan City Special Events on Facebook \nFOR IMMEDIATE RELEASE  \nMICHIGAN CITY\, IN\, April 2\, 2026 – Michigan City Special Events is making an adjustment to Saturday’s Easter Egg Hunt\, due to forecasted inclement weather. The Easter Egg Hunt is now a “Drive-Thru” event\, Saturday\, April 4 in Washington Park. “The forecast for Saturday looks bad\, so we made the change so that the kids still enjoy the treats\,” said Special Events Director Terry Greetham. “We will miss seeing 20\,000 eggs disappear in a matter of minutes\, but at least the children will still get something from the Easter Bunny.” Cars will enter Washington Park at the main entrance and be routed to the Senior Center. Cars will receive one Easter bag per child in the car. Bags will only be given to children present in the vehicle. Cars can arrive and line up at 11:30 am\, and the drive-thru will start at 12:00 pm. The line will be cut off when supplies begin to run out. MEDIA; For additional information\, contact Terry Greetham tgreetham@emichigancity.com \n———————————————————————————————————————————————————————————————————————————— \nCelebrate spring at the Michigan City Easter Egg Hunt on April 4th\, 2026\, a free\, family-friendly tradition that’s a favorite for all ages. With more than 20\,000 candy-filled eggs hidden throughout the hunt area\, plus special golden ticket prizes and festive surprises\, kids will have plenty to discover and enjoy. \nEach year\, Michigan City’s youth descend on the park to hunt eggs filled with candy\, treats\, and all kinds of fun surprises. With the help of the Michigan City Senior Center\, Michigan City Police Department\, Michigan City Fire Department\, and many local groups and businesses\, this event brings the community together to celebrate Easter in a safe\, welcoming\, and joyful way. \nThere’s no need to register—just show up\, enjoy the fun\, and make some springtime memories with family and friends. \nEvent Details:Fedder’s Alley Opens: 11:30 a.m.Egg Hunt Begins: 12:00 p.m. \nAge Groups:• 0–3• 4–7• 8–10• 11–12 \nParking:Washington Park Main Parking Lot 1 and the Senior Center \nChildren do not need to bring bags or baskets—each child will receive a bag provided by the City. Plastic eggs will be collected at the end of the event for recycling.
URL:https://michigancityin.gov/city-event/easter-egg-hunt-2026/
LOCATION:Fedder’s Alley\, Washington Park\, Fedder Dr\, Michigan City\, IN\, 46360\, United States
CATEGORIES:Special Events
ATTACH;FMTTYPE=image/png:https://michigancityin.gov/wp-content/uploads/2026/01/Screenshot-2026-01-29-at-11.02.24-AM.png
END:VEVENT
BEGIN:VEVENT
DTSTART;TZID=America/Chicago:20260523T110000
DTEND;TZID=America/Chicago:20260524T190000
DTSTAMP:20260422T164858
CREATED:20260130T152009Z
LAST-MODIFIED:20260130T152009Z
UID:10003368-1779534000-1779649200@michigancityin.gov
SUMMARY:MC Food & Music Festival - 2026
DESCRIPTION:Experience a weekend of great eats and live entertainment at the MC Food & Music Festival\, happening May 23–24th\, 2026 one of Michigan City’s most anticipated early-summer events. This two-day celebration brings together some of the best food vendors and musicians in the region for a lively weekend of flavor\, sound\, and community. \nHosted at the Guy Foreman Amphitheater in Washington Park\, the festival features a diverse lineup of local and regional musicians alongside a wide variety of food vendors serving up something for every taste. Beyond the stage and the food\, guests can explore an artisan market\, enjoy a limited bar\, and let the kids burn off energy in the dedicated kids zone. \nA collaboration between Harbor Country Adventures and Michigan City Special Events\, the MC Food & Music Festival is all about celebrating local talent\, good food\, and the kind of summer atmosphere that brings people together. Come hungry\, stay for the music\, and make a weekend of it in Michigan City.
URL:https://michigancityin.gov/city-event/mc-food-music-festival-2026/
LOCATION:Guy Foreman Amphitheater\, 115 Lake Shore Dr\, Michigan City\, 46360\, United States
CATEGORIES:Special Events
ATTACH;FMTTYPE=image/webp:https://michigancityin.gov/wp-content/uploads/2026/01/rsw-1160h-734.webp
END:VEVENT
BEGIN:VEVENT
DTSTART;TZID=America/Chicago:20260619T120000
DTEND;TZID=America/Chicago:20260619T200000
DTSTAMP:20260422T164858
CREATED:20260130T151856Z
LAST-MODIFIED:20260130T151856Z
UID:10003369-1781870400-1781899200@michigancityin.gov
SUMMARY:Juneteenth Celebration - 2026
DESCRIPTION:The City of Michigan City invites the community to celebrate Juneteenth on June 19th\, 2026 at the Guy Foreman Amphitheater in Washington Park. This annual event honors freedom\, history\, and unity through a full day of live performances\, cultural programming\, local food vendors\, an artisan market\, and a kids zone\, bringing together families\, friends\, and neighbors in celebration. \nJuneteenth commemorates the end of slavery in the United States and serves as a time to reflect on the past while celebrating the diversity and shared future of Michigan City. Community leaders\, civic groups\, and local organizations come together to make this celebration meaningful\, fun\, and welcoming for all ages. \nJoin us for a day of music\, food\, entertainment\, and family-friendly activities as Michigan City comes together to honor history and community spirit.
URL:https://michigancityin.gov/city-event/juneteenth-celebration-2026/
LOCATION:Guy Foreman Amphitheater\, 115 Lake Shore Dr\, Michigan City\, 46360\, United States
CATEGORIES:Special Events
ATTACH;FMTTYPE=image/png:https://michigancityin.gov/wp-content/uploads/2026/01/Screenshot-2026-01-29-at-12.23.09-PM.png
END:VEVENT
BEGIN:VEVENT
DTSTART;VALUE=DATE:20260627
DTEND;VALUE=DATE:20260628
DTSTAMP:20260422T164858
CREATED:20260130T151741Z
LAST-MODIFIED:20260130T151741Z
UID:10003371-1782518400-1782604799@michigancityin.gov
SUMMARY:Braden Fiske Family Fun Day - 2026
DESCRIPTION:The Braden Fiske Family Fun Day returns on Saturday\, June 27\, 2026\, at Ames Field\, immediately following the Michigan City Patriotic Parade. This free\, family-friendly event is a collaboration between Michigan City Special Events and Michigan City Area Schools\, hosted by Michigan City High School alumnus and Los Angeles Rams defensive lineman Braden Fiske. \nFamilies can enjoy bounce houses\, games\, food trucks\, live DJ music\, raffles\, and hands-on activities led by MCAS athletics teams. Braden Fiske will be on site for autographs and to connect with the community. The event celebrates youth\, community pride\, and giving back—bringing together students\, families\, and local partners at the field where Fiske once played as a student-athlete.
URL:https://michigancityin.gov/city-event/braden-fiske-family-fun-day-2026/
LOCATION:Ames Field\, 2501 Franklin St\, Michigan City\, 46360\, United States
CATEGORIES:Special Events
ATTACH;FMTTYPE=image/webp:https://michigancityin.gov/wp-content/uploads/2026/01/0x0.jpg.webp
END:VEVENT
BEGIN:VEVENT
DTSTART;TZID=America/Chicago:20260627T110000
DTEND;TZID=America/Chicago:20260627T150000
DTSTAMP:20260422T164858
CREATED:20260130T151807Z
LAST-MODIFIED:20260130T151807Z
UID:10003370-1782558000-1782572400@michigancityin.gov
SUMMARY:Patriotic Parade - 2026
DESCRIPTION:The Michigan City Patriotic Parade returns on Saturday\, June 27th\, 2026\, along Franklin Street\, celebrating freedom\, independence\, and community pride. This annual summer tradition features more than 100 parade entries\, including local high school bands\, emergency vehicles\, community organizations\, youth groups\, church groups\, and businesses\, all coming together to showcase their community spirit. The celebration even includes a patriotic flyover\, adding extra excitement to this family-friendly event. \nResidents and visitors line the streets to cheer on the parade and join in the festivities as Michigan City marks a day of national pride. This year’s theme\, America’s 250th Birthday\, adds a special touch to the celebration\, making it a memorable event for the whole community. \nEvent Details:Date: June 27th\, 2026Parade Start: 11:00 a.m.Route: Franklin Street
URL:https://michigancityin.gov/city-event/patriotic-parade-2026/
LOCATION:9th Franklin Street\, 900 Franklin Street\, Michigan City\, 46360\, United States
CATEGORIES:Special Events
ATTACH;FMTTYPE=image/png:https://michigancityin.gov/wp-content/uploads/2026/01/Screenshot-2026-01-29-at-12.38.34-PM.png
END:VEVENT
BEGIN:VEVENT
DTSTART;TZID=America/Chicago:20260704T203000
DTEND;TZID=America/Chicago:20260704T213000
DTSTAMP:20260422T164858
CREATED:20260130T151643Z
LAST-MODIFIED:20260130T151643Z
UID:10003372-1783197000-1783200600@michigancityin.gov
SUMMARY:Michigan City Fireworks Spectacular - 2026
DESCRIPTION:Join us for the annual Michigan City Fireworks Spectacular Show at sunset on Saturday\, July 4th\, 2026 at Washington Park Beach. Fireworks can be viewed from anywhere along the City’s 1.9 miles of beachfront\, within Washington Park\, or from the Uptown Arts District. \nParking is available in Washington Park on a first come\, first served basis. Additional parking can be found at City Hall\, the Courthouse\, and along downtown streets. This event is free and open to the public. Washington Park parking rates apply.
URL:https://michigancityin.gov/city-event/michigan-city-fireworks-spectacular-2026/
LOCATION:Washington Park\, 6 On the Lake\, Michigan CIty\, 46360\, United States
CATEGORIES:Special Events
ATTACH;FMTTYPE=image/jpeg:https://michigancityin.gov/wp-content/uploads/2026/01/AdobeStock_396177849-scaled.jpeg
END:VEVENT
BEGIN:VEVENT
DTSTART;TZID=America/Chicago:20260717T100000
DTEND;TZID=America/Chicago:20260719T200000
DTSTAMP:20260422T164858
CREATED:20260130T152046Z
LAST-MODIFIED:20260130T152046Z
UID:10003373-1784282400-1784491200@michigancityin.gov
SUMMARY:"Singing Sands" Sand Sculpting Festival - 2026
DESCRIPTION:The Singing Sands Sand Sculpting Festival is a multi-day celebration of Michigan City’s iconic lakefront and beach\, taking place at Washington Park from July 17 – 19th\, 2026. The centerpiece of the festival is a professional sand sculpting competition and exhibition\, featuring some of the world’s most talented and renowned sand sculptors creating incredible works of art in Michigan City’s famous “Singing Sands.” \nStandard Washington Park parking rates apply. Please revisit this event page for admission and pricing details as they become available.
URL:https://michigancityin.gov/city-event/singing-sands-sand-sculpting-festival-2026/
LOCATION:Washington Park\, 6 On the Lake\, Michigan CIty\, 46360\, United States
CATEGORIES:Special Events
ATTACH;FMTTYPE=image/jpeg:https://michigancityin.gov/wp-content/uploads/2026/01/030A3549.jpg
END:VEVENT
BEGIN:VEVENT
DTSTART;VALUE=DATE:20260729
DTEND;VALUE=DATE:20260803
DTSTAMP:20260422T164858
CREATED:20260130T151614Z
LAST-MODIFIED:20260130T153258Z
UID:10003374-1785283200-1785715199@michigancityin.gov
SUMMARY:Great Lakes Grand Prix - 2026
DESCRIPTION:The 17th Annual Award-Winning XINSURANCE Great Lakes Grand Prix returns to Michigan City for a week of high-speed excitement July 27–August 2\, 2026\, at Washington Park. This premier offshore powerboat racing event showcases some of the world’s fastest and most powerful boats as they race along the southern shores of Lake Michigan\, with incredible viewing from Washington Park Beach and the surrounding shoreline. \nIn addition to thrilling races\, this free\, week-long celebration features community events including a boat parade\, block party\, golf outing\, live entertainment\, brewfest\, family-friendly activities\, festival food and drinks\, meet-and-greet opportunities\, VIP experiences\, and dramatic flyovers. Fans can also get up close with boat owners\, racers\, and teams throughout Washington Park for an unforgettable motorsports experience.
URL:https://michigancityin.gov/city-event/great-lakes-grand-prix-2026/
LOCATION:Washington Park\, 6 On the Lake\, Michigan CIty\, 46360\, United States
CATEGORIES:Special Events
ATTACH;FMTTYPE=image/jpeg:https://michigancityin.gov/wp-content/uploads/2026/01/Ryan-X-small-boat-scaled-1.jpg
END:VEVENT
BEGIN:VEVENT
DTSTART;VALUE=DATE:20260904
DTEND;VALUE=DATE:20260908
DTSTAMP:20260422T164858
CREATED:20260130T151712Z
LAST-MODIFIED:20260130T151712Z
UID:10003375-1788480000-1788825599@michigancityin.gov
SUMMARY:Oktoberfest - 2026
DESCRIPTION:One of Michigan City’s most beloved traditions returns Labor Day Weekend\, September 4–7th\, 2026\, at Washington Park. Oktoberfest is the City’s most requested annual event\, bringing together residents and visitors for four days of great food\, live music\, and community celebration. \nThe festival features multiple live music stages with dozens of performances\, along with local and regional food vendors and a wide variety of art\, craft\, and merchandise vendors from across the region. Families and friends can enjoy a festive atmosphere\, delicious eats\, and lively entertainment\, all while celebrating the end of summer together. \nCelebrate the season with good music\, good food\, and good company at this signature Michigan City event. \nEvent Details:Dates & Hours: \n\n\nFriday–Sunday: 12:00 p.m. – 10:00 p.m. (CT) \n\n\nMonday: 12:00 p.m. – 6:00 p.m. (CT)
URL:https://michigancityin.gov/city-event/oktoberfest-2026/
LOCATION:Washington Park\, 6 On the Lake\, Michigan CIty\, 46360\, United States
CATEGORIES:Special Events
ATTACH;FMTTYPE=image/png:https://michigancityin.gov/wp-content/uploads/2026/01/Screenshot-2026-01-29-at-1.59.52-PM.png
END:VEVENT
BEGIN:VEVENT
DTSTART;VALUE=DATE:20261205
DTEND;VALUE=DATE:20270111
DTSTAMP:20260422T164858
CREATED:20260130T151505Z
LAST-MODIFIED:20260130T151505Z
UID:10003376-1796428800-1799625599@michigancityin.gov
SUMMARY:Festival of Lights Celebration - 2026
DESCRIPTION:Celebrate the holiday season at the Michigan City Festival of Lights\, beginning December 5th\, 2026\, a cherished annual event that transforms the city into a winter wonderland. Stroll down Franklin Street through the Uptown Arts District during the festive parade\, then experience the dazzling and vast light displays in Washington Park\, where thousands of custom-designed twinkling lights create a magical atmosphere for families and friends. \nThe Festival of Lights features a variety of holiday activities\, including visits from Santa Claus\, live musical performances\, local food vendors\, and plenty of opportunities to capture memorable photos. The City’s official Christmas Tree serves as a centerpiece for the festivities\, surrounded by seasonal treats like hot chocolate and festive snacks. \nHosted by Michigan City Special Events in partnership with the Parks & Recreation Department\, the Festival of Lights offers an enchanting holiday experience at no cost! \nParade occurs: Dec. 5th\, 2026 at 5pm
URL:https://michigancityin.gov/city-event/festival-of-lights-celebration-2026/
LOCATION:Washington Park\, 6 On the Lake\, Michigan CIty\, 46360\, United States
CATEGORIES:Special Events
ATTACH;FMTTYPE=image/jpeg:https://michigancityin.gov/wp-content/uploads/2026/01/michigancity_christmas_lights_04.jpg
END:VEVENT
END:VCALENDAR