BEGIN:VCALENDAR
VERSION:2.0
PRODID:-//City of Michigan City Indiana - ECPv6.15.20//NONSGML v1.0//EN
CALSCALE:GREGORIAN
METHOD:PUBLISH
X-ORIGINAL-URL:https://michigancityin.gov
X-WR-CALDESC:Events for City of Michigan City Indiana
REFRESH-INTERVAL;VALUE=DURATION:PT1H
X-Robots-Tag:noindex
X-PUBLISHED-TTL:PT1H
BEGIN:VTIMEZONE
TZID:America/Chicago
BEGIN:DAYLIGHT
TZOFFSETFROM:-0600
TZOFFSETTO:-0500
TZNAME:CDT
DTSTART:20250309T080000
END:DAYLIGHT
BEGIN:STANDARD
TZOFFSETFROM:-0500
TZOFFSETTO:-0600
TZNAME:CST
DTSTART:20251102T070000
END:STANDARD
BEGIN:DAYLIGHT
TZOFFSETFROM:-0600
TZOFFSETTO:-0500
TZNAME:CDT
DTSTART:20260308T080000
END:DAYLIGHT
BEGIN:STANDARD
TZOFFSETFROM:-0500
TZOFFSETTO:-0600
TZNAME:CST
DTSTART:20261101T070000
END:STANDARD
BEGIN:DAYLIGHT
TZOFFSETFROM:-0600
TZOFFSETTO:-0500
TZNAME:CDT
DTSTART:20270314T080000
END:DAYLIGHT
BEGIN:STANDARD
TZOFFSETFROM:-0500
TZOFFSETTO:-0600
TZNAME:CST
DTSTART:20271107T070000
END:STANDARD
BEGIN:DAYLIGHT
TZOFFSETFROM:-0600
TZOFFSETTO:-0500
TZNAME:CDT
DTSTART:20280312T080000
END:DAYLIGHT
BEGIN:STANDARD
TZOFFSETFROM:-0500
TZOFFSETTO:-0600
TZNAME:CST
DTSTART:20281105T070000
END:STANDARD
END:VTIMEZONE
BEGIN:VEVENT
DTSTART;VALUE=DATE:20261205
DTEND;VALUE=DATE:20270111
DTSTAMP:20260423T021222
CREATED:20260130T151505Z
LAST-MODIFIED:20260130T151505Z
UID:10003376-1796428800-1799625599@michigancityin.gov
SUMMARY:Festival of Lights Celebration - 2026
DESCRIPTION:Celebrate the holiday season at the Michigan City Festival of Lights\, beginning December 5th\, 2026\, a cherished annual event that transforms the city into a winter wonderland. Stroll down Franklin Street through the Uptown Arts District during the festive parade\, then experience the dazzling and vast light displays in Washington Park\, where thousands of custom-designed twinkling lights create a magical atmosphere for families and friends. \nThe Festival of Lights features a variety of holiday activities\, including visits from Santa Claus\, live musical performances\, local food vendors\, and plenty of opportunities to capture memorable photos. The City’s official Christmas Tree serves as a centerpiece for the festivities\, surrounded by seasonal treats like hot chocolate and festive snacks. \nHosted by Michigan City Special Events in partnership with the Parks & Recreation Department\, the Festival of Lights offers an enchanting holiday experience at no cost! \nParade occurs: Dec. 5th\, 2026 at 5pm
URL:https://michigancityin.gov/city-event/festival-of-lights-celebration-2026/
LOCATION:Washington Park\, 6 On the Lake\, Michigan CIty\, 46360\, United States
CATEGORIES:Special Events
ATTACH;FMTTYPE=image/jpeg:https://michigancityin.gov/wp-content/uploads/2026/01/michigancity_christmas_lights_04.jpg
END:VEVENT
END:VCALENDAR