BEGIN:VCALENDAR
VERSION:2.0
PRODID:-//City of Michigan City Indiana - ECPv6.15.20//NONSGML v1.0//EN
CALSCALE:GREGORIAN
METHOD:PUBLISH
X-WR-CALNAME:City of Michigan City Indiana
X-ORIGINAL-URL:https://michigancityin.gov
X-WR-CALDESC:Events for City of Michigan City Indiana
REFRESH-INTERVAL;VALUE=DURATION:PT1H
X-Robots-Tag:noindex
X-PUBLISHED-TTL:PT1H
BEGIN:VTIMEZONE
TZID:America/Chicago
BEGIN:DAYLIGHT
TZOFFSETFROM:-0600
TZOFFSETTO:-0500
TZNAME:CDT
DTSTART:20290311T080000
END:DAYLIGHT
BEGIN:STANDARD
TZOFFSETFROM:-0500
TZOFFSETTO:-0600
TZNAME:CST
DTSTART:20291104T070000
END:STANDARD
BEGIN:DAYLIGHT
TZOFFSETFROM:-0600
TZOFFSETTO:-0500
TZNAME:CDT
DTSTART:20300310T080000
END:DAYLIGHT
BEGIN:STANDARD
TZOFFSETFROM:-0500
TZOFFSETTO:-0600
TZNAME:CST
DTSTART:20301103T070000
END:STANDARD
BEGIN:DAYLIGHT
TZOFFSETFROM:-0600
TZOFFSETTO:-0500
TZNAME:CDT
DTSTART:20310309T080000
END:DAYLIGHT
BEGIN:STANDARD
TZOFFSETFROM:-0500
TZOFFSETTO:-0600
TZNAME:CST
DTSTART:20311102T070000
END:STANDARD
BEGIN:DAYLIGHT
TZOFFSETFROM:-0600
TZOFFSETTO:-0500
TZNAME:CDT
DTSTART:20320314T080000
END:DAYLIGHT
BEGIN:STANDARD
TZOFFSETFROM:-0500
TZOFFSETTO:-0600
TZNAME:CST
DTSTART:20321107T070000
END:STANDARD
END:VTIMEZONE
BEGIN:VEVENT
DTSTART;TZID=America/Chicago:20301217T183000
DTEND;TZID=America/Chicago:20301217T193000
DTSTAMP:20260419T181927
CREATED:20250320T161204Z
LAST-MODIFIED:20250320T171226Z
UID:10003530-1923762600-1923766200@michigancityin.gov
SUMMARY:City Council Regular Meeting
DESCRIPTION:
URL:https://michigancityin.gov/city-event/city-council-regular-meeting-2/2030-12-17/
LOCATION:Council Chambers – City Hall 100 East  Michigan Boulevard Michigan City IN 46360
CATEGORIES:City Council
END:VEVENT
BEGIN:VEVENT
DTSTART;TZID=America/Chicago:20301223T180000
DTEND;TZID=America/Chicago:20301223T190000
DTSTAMP:20260419T181927
CREATED:20250609T014537Z
LAST-MODIFIED:20260126T182021Z
UID:10003357-1924279200-1924282800@michigancityin.gov
SUMMARY:Historic Preservation Commission Regular Meeting
DESCRIPTION:
URL:https://michigancityin.gov/city-event/historic-preservation-commission-regular-meeting/2030-12-23/
LOCATION:Council Chambers – City Hall 100 East  Michigan Boulevard Michigan City IN 46360
CATEGORIES:Historic Preservation Commission
END:VEVENT
BEGIN:VEVENT
DTSTART;TZID=America/Chicago:20301225T160000
DTEND;TZID=America/Chicago:20301225T170000
DTSTAMP:20260419T181927
CREATED:20251024T165246Z
LAST-MODIFIED:20251024T165416Z
UID:10003385-1924444800-1924448400@michigancityin.gov
SUMMARY:Sanitary Board Regular Meeting
DESCRIPTION:
URL:https://michigancityin.gov/city-event/sanitary-board-regular-meeting-2/2030-12-25/
LOCATION:Sanitary District Office\, 1100 E 8th St\, Michigan City\, 46360\, United States
CATEGORIES:Sanitary Board
END:VEVENT
BEGIN:VEVENT
DTSTART;TZID=America/Chicago:20301231T190000
DTEND;TZID=America/Chicago:20301231T200000
DTSTAMP:20260419T181927
CREATED:20260319T184722Z
LAST-MODIFIED:20260319T184723Z
UID:10003486-1924974000-1924977600@michigancityin.gov
SUMMARY:Water Works Board Regular Meeting
DESCRIPTION:
URL:https://michigancityin.gov/city-event/water-works-board-regular-meeting-2/2030-12-31/
LOCATION:Water Works Main Office\, 532 Franklin Street\, Michigan City\, 46360\, United States
CATEGORIES:Water Works Board
END:VEVENT
BEGIN:VEVENT
DTSTART;TZID=America/Chicago:20310101T170000
DTEND;TZID=America/Chicago:20310101T180000
DTSTAMP:20260419T181927
CREATED:20260120T145844Z
LAST-MODIFIED:20260120T145844Z
UID:10003346-1925053200-1925056800@michigancityin.gov
SUMMARY:Park Board Regular Meeting
DESCRIPTION:
URL:https://michigancityin.gov/city-event/park-board-regular-meeting-2/2031-01-01/
LOCATION:Council Chambers – City Hall 100 East  Michigan Boulevard Michigan City IN 46360
CATEGORIES:Park Board
END:VEVENT
BEGIN:VEVENT
DTSTART;TZID=America/Chicago:20310101T173000
DTEND;TZID=America/Chicago:20310101T183000
DTSTAMP:20260419T181927
CREATED:20260109T131155Z
LAST-MODIFIED:20260305T163559Z
UID:10003446-1925055000-1925058600@michigancityin.gov
SUMMARY:Tree Board Regular Meeting
DESCRIPTION:
URL:https://michigancityin.gov/city-event/tree-board-regular-meeting-3-2/2031-01-01/
LOCATION:ALCO Meeting Studio\, 301 E. 8th St.\, Michigan City\, 46360\, United States
CATEGORIES:Tree Board
END:VEVENT
BEGIN:VEVENT
DTSTART;TZID=America/Chicago:20310107T120000
DTEND;TZID=America/Chicago:20310107T130000
DTSTAMP:20260419T181928
CREATED:20250609T015036Z
LAST-MODIFIED:20260107T171014Z
UID:10003157-1925553600-1925557200@michigancityin.gov
SUMMARY:Human Rights Commission Regular Meeting
DESCRIPTION:
URL:https://michigancityin.gov/city-event/human-rights-commission-regular-meeting/2031-01-07/
LOCATION:Michigan City Police Department\, 1201 E Michigan Blvd\, Michigan City\, IN\, 46360\, United States
CATEGORIES:Human Rights Commission
END:VEVENT
BEGIN:VEVENT
DTSTART;TZID=America/Chicago:20310107T180000
DTEND;TZID=America/Chicago:20310107T183000
DTSTAMP:20260419T181928
CREATED:20250320T161200Z
LAST-MODIFIED:20250320T170803Z
UID:10003507-1925575200-1925577000@michigancityin.gov
SUMMARY:City Council Financial Committee Meeting
DESCRIPTION:
URL:https://michigancityin.gov/city-event/city-council-financial-committee-meeting/2031-01-07/
LOCATION:Council Chambers – City Hall 100 East  Michigan Boulevard Michigan City IN 46360
CATEGORIES:City Council
END:VEVENT
BEGIN:VEVENT
DTSTART;TZID=America/Chicago:20310107T183000
DTEND;TZID=America/Chicago:20310107T193000
DTSTAMP:20260419T181928
CREATED:20250320T161201Z
LAST-MODIFIED:20250320T170523Z
UID:10003516-1925577000-1925580600@michigancityin.gov
SUMMARY:City Council Regular Meeting
DESCRIPTION:
URL:https://michigancityin.gov/city-event/michigan-city-city-council-regular-meeting/2031-01-07/
LOCATION:Council Chambers – City Hall 100 East  Michigan Boulevard Michigan City IN 46360
CATEGORIES:City Council
END:VEVENT
BEGIN:VEVENT
DTSTART;TZID=America/Chicago:20310113T170000
DTEND;TZID=America/Chicago:20310113T180000
DTSTAMP:20260419T181928
CREATED:20250609T022654Z
LAST-MODIFIED:20250609T022654Z
UID:10003451-1926090000-1926093600@michigancityin.gov
SUMMARY:Veterans Commission Regular Meeting
DESCRIPTION:
URL:https://michigancityin.gov/city-event/veterans-commission-regular-meeting/2031-01-13/
LOCATION:EOC Room\, 100 E Michigan Blvd\, Michigan City\, 46360\, United States
CATEGORIES:Veterans Commission
END:VEVENT
BEGIN:VEVENT
DTSTART;TZID=America/Chicago:20310114T183000
DTEND;TZID=America/Chicago:20310114T193000
DTSTAMP:20260419T181928
CREATED:20260319T184735Z
LAST-MODIFIED:20260319T184736Z
UID:10003491-1926181800-1926185400@michigancityin.gov
SUMMARY:Water Works Board Tentative Meeting
DESCRIPTION:
URL:https://michigancityin.gov/city-event/water-works-board-tentative-meeting-3/2031-01-14/
LOCATION:Water Works Main Office\, 532 Franklin Street\, Michigan City\, 46360\, United States
CATEGORIES:Water Works Board
END:VEVENT
BEGIN:VEVENT
DTSTART;TZID=America/Chicago:20310121T180000
DTEND;TZID=America/Chicago:20310121T183000
DTSTAMP:20260419T181928
CREATED:20250320T161202Z
LAST-MODIFIED:20250320T170902Z
UID:10003464-1926784800-1926786600@michigancityin.gov
SUMMARY:City Council Financial Committee Meeting
DESCRIPTION:
URL:https://michigancityin.gov/city-event/michigan-city-council-financial-committee-meeting-2/2031-01-21/
LOCATION:Council Chambers – City Hall 100 East  Michigan Boulevard Michigan City IN 46360
CATEGORIES:City Council
END:VEVENT
BEGIN:VEVENT
DTSTART;TZID=America/Chicago:20310121T183000
DTEND;TZID=America/Chicago:20310121T193000
DTSTAMP:20260419T181928
CREATED:20250320T161204Z
LAST-MODIFIED:20250320T171226Z
UID:10003531-1926786600-1926790200@michigancityin.gov
SUMMARY:City Council Regular Meeting
DESCRIPTION:
URL:https://michigancityin.gov/city-event/city-council-regular-meeting-2/2031-01-21/
LOCATION:Council Chambers – City Hall 100 East  Michigan Boulevard Michigan City IN 46360
CATEGORIES:City Council
END:VEVENT
BEGIN:VEVENT
DTSTART;TZID=America/Chicago:20310122T160000
DTEND;TZID=America/Chicago:20310122T170000
DTSTAMP:20260419T181928
CREATED:20251024T165246Z
LAST-MODIFIED:20251024T165416Z
UID:10003386-1926864000-1926867600@michigancityin.gov
SUMMARY:Sanitary Board Regular Meeting
DESCRIPTION:
URL:https://michigancityin.gov/city-event/sanitary-board-regular-meeting-2/2031-01-22/
LOCATION:Sanitary District Office\, 1100 E 8th St\, Michigan City\, 46360\, United States
CATEGORIES:Sanitary Board
END:VEVENT
BEGIN:VEVENT
DTSTART;TZID=America/Chicago:20310127T180000
DTEND;TZID=America/Chicago:20310127T190000
DTSTAMP:20260419T181928
CREATED:20250609T014537Z
LAST-MODIFIED:20260126T182021Z
UID:10003363-1927303200-1927306800@michigancityin.gov
SUMMARY:Historic Preservation Commission Regular Meeting
DESCRIPTION:
URL:https://michigancityin.gov/city-event/historic-preservation-commission-regular-meeting/2031-01-27/
LOCATION:Council Chambers – City Hall 100 East  Michigan Boulevard Michigan City IN 46360
CATEGORIES:Historic Preservation Commission
END:VEVENT
BEGIN:VEVENT
DTSTART;TZID=America/Chicago:20310204T180000
DTEND;TZID=America/Chicago:20310204T183000
DTSTAMP:20260419T181928
CREATED:20250320T161200Z
LAST-MODIFIED:20250320T170803Z
UID:10003508-1927994400-1927996200@michigancityin.gov
SUMMARY:City Council Financial Committee Meeting
DESCRIPTION:
URL:https://michigancityin.gov/city-event/city-council-financial-committee-meeting/2031-02-04/
LOCATION:Council Chambers – City Hall 100 East  Michigan Boulevard Michigan City IN 46360
CATEGORIES:City Council
END:VEVENT
BEGIN:VEVENT
DTSTART;TZID=America/Chicago:20310204T183000
DTEND;TZID=America/Chicago:20310204T193000
DTSTAMP:20260419T181928
CREATED:20250320T161201Z
LAST-MODIFIED:20250320T170523Z
UID:10003517-1927996200-1927999800@michigancityin.gov
SUMMARY:City Council Regular Meeting
DESCRIPTION:
URL:https://michigancityin.gov/city-event/michigan-city-city-council-regular-meeting/2031-02-04/
LOCATION:Council Chambers – City Hall 100 East  Michigan Boulevard Michigan City IN 46360
CATEGORIES:City Council
END:VEVENT
BEGIN:VEVENT
DTSTART;TZID=America/Chicago:20310205T173000
DTEND;TZID=America/Chicago:20310205T183000
DTSTAMP:20260419T181928
CREATED:20260109T131155Z
LAST-MODIFIED:20260305T163559Z
UID:10003447-1928079000-1928082600@michigancityin.gov
SUMMARY:Tree Board Regular Meeting
DESCRIPTION:
URL:https://michigancityin.gov/city-event/tree-board-regular-meeting-3-2/2031-02-05/
LOCATION:ALCO Meeting Studio\, 301 E. 8th St.\, Michigan City\, 46360\, United States
CATEGORIES:Tree Board
END:VEVENT
BEGIN:VEVENT
DTSTART;TZID=America/Chicago:20310210T170000
DTEND;TZID=America/Chicago:20310210T180000
DTSTAMP:20260419T181928
CREATED:20250609T022654Z
LAST-MODIFIED:20250609T022654Z
UID:10003452-1928509200-1928512800@michigancityin.gov
SUMMARY:Veterans Commission Regular Meeting
DESCRIPTION:
URL:https://michigancityin.gov/city-event/veterans-commission-regular-meeting/2031-02-10/
LOCATION:EOC Room\, 100 E Michigan Blvd\, Michigan City\, 46360\, United States
CATEGORIES:Veterans Commission
END:VEVENT
BEGIN:VEVENT
DTSTART;TZID=America/Chicago:20310211T183000
DTEND;TZID=America/Chicago:20310211T193000
DTSTAMP:20260419T181928
CREATED:20260319T184735Z
LAST-MODIFIED:20260319T184736Z
UID:10003492-1928601000-1928604600@michigancityin.gov
SUMMARY:Water Works Board Tentative Meeting
DESCRIPTION:
URL:https://michigancityin.gov/city-event/water-works-board-tentative-meeting-3/2031-02-11/
LOCATION:Water Works Main Office\, 532 Franklin Street\, Michigan City\, 46360\, United States
CATEGORIES:Water Works Board
END:VEVENT
BEGIN:VEVENT
DTSTART;TZID=America/Chicago:20310218T180000
DTEND;TZID=America/Chicago:20310218T183000
DTSTAMP:20260419T181928
CREATED:20250320T161202Z
LAST-MODIFIED:20250320T170902Z
UID:10003465-1929204000-1929205800@michigancityin.gov
SUMMARY:City Council Financial Committee Meeting
DESCRIPTION:
URL:https://michigancityin.gov/city-event/michigan-city-council-financial-committee-meeting-2/2031-02-18/
LOCATION:Council Chambers – City Hall 100 East  Michigan Boulevard Michigan City IN 46360
CATEGORIES:City Council
END:VEVENT
BEGIN:VEVENT
DTSTART;TZID=America/Chicago:20310218T183000
DTEND;TZID=America/Chicago:20310218T193000
DTSTAMP:20260419T181928
CREATED:20250320T161204Z
LAST-MODIFIED:20250320T171226Z
UID:10003532-1929205800-1929209400@michigancityin.gov
SUMMARY:City Council Regular Meeting
DESCRIPTION:
URL:https://michigancityin.gov/city-event/city-council-regular-meeting-2/2031-02-18/
LOCATION:Council Chambers – City Hall 100 East  Michigan Boulevard Michigan City IN 46360
CATEGORIES:City Council
END:VEVENT
BEGIN:VEVENT
DTSTART;TZID=America/Chicago:20310304T180000
DTEND;TZID=America/Chicago:20310304T183000
DTSTAMP:20260419T181928
CREATED:20250320T161200Z
LAST-MODIFIED:20250320T170803Z
UID:10003509-1930413600-1930415400@michigancityin.gov
SUMMARY:City Council Financial Committee Meeting
DESCRIPTION:
URL:https://michigancityin.gov/city-event/city-council-financial-committee-meeting/2031-03-04/
LOCATION:Council Chambers – City Hall 100 East  Michigan Boulevard Michigan City IN 46360
CATEGORIES:City Council
END:VEVENT
BEGIN:VEVENT
DTSTART;TZID=America/Chicago:20310304T183000
DTEND;TZID=America/Chicago:20310304T193000
DTSTAMP:20260419T181928
CREATED:20250320T161201Z
LAST-MODIFIED:20250320T170523Z
UID:10003518-1930415400-1930419000@michigancityin.gov
SUMMARY:City Council Regular Meeting
DESCRIPTION:
URL:https://michigancityin.gov/city-event/michigan-city-city-council-regular-meeting/2031-03-04/
LOCATION:Council Chambers – City Hall 100 East  Michigan Boulevard Michigan City IN 46360
CATEGORIES:City Council
END:VEVENT
BEGIN:VEVENT
DTSTART;TZID=America/Chicago:20310305T173000
DTEND;TZID=America/Chicago:20310305T183000
DTSTAMP:20260419T181928
CREATED:20260109T131155Z
LAST-MODIFIED:20260305T163559Z
UID:10003448-1930498200-1930501800@michigancityin.gov
SUMMARY:Tree Board Regular Meeting
DESCRIPTION:
URL:https://michigancityin.gov/city-event/tree-board-regular-meeting-3-2/2031-03-05/
LOCATION:ALCO Meeting Studio\, 301 E. 8th St.\, Michigan City\, 46360\, United States
CATEGORIES:Tree Board
END:VEVENT
BEGIN:VEVENT
DTSTART;TZID=America/Chicago:20310311T183000
DTEND;TZID=America/Chicago:20310311T193000
DTSTAMP:20260419T181928
CREATED:20260319T184735Z
LAST-MODIFIED:20260319T184736Z
UID:10003493-1931020200-1931023800@michigancityin.gov
SUMMARY:Water Works Board Tentative Meeting
DESCRIPTION:
URL:https://michigancityin.gov/city-event/water-works-board-tentative-meeting-3/2031-03-11/
LOCATION:Water Works Main Office\, 532 Franklin Street\, Michigan City\, 46360\, United States
CATEGORIES:Water Works Board
END:VEVENT
BEGIN:VEVENT
DTSTART;TZID=America/Chicago:20310318T180000
DTEND;TZID=America/Chicago:20310318T183000
DTSTAMP:20260419T181928
CREATED:20250320T161202Z
LAST-MODIFIED:20250320T170902Z
UID:10003520-1931623200-1931625000@michigancityin.gov
SUMMARY:City Council Financial Committee Meeting
DESCRIPTION:
URL:https://michigancityin.gov/city-event/michigan-city-council-financial-committee-meeting-2/2031-03-18/
LOCATION:Council Chambers – City Hall 100 East  Michigan Boulevard Michigan City IN 46360
CATEGORIES:City Council
END:VEVENT
BEGIN:VEVENT
DTSTART;TZID=America/Chicago:20310318T183000
DTEND;TZID=America/Chicago:20310318T193000
DTSTAMP:20260419T181928
CREATED:20250320T161204Z
LAST-MODIFIED:20250320T171226Z
UID:10003533-1931625000-1931628600@michigancityin.gov
SUMMARY:City Council Regular Meeting
DESCRIPTION:
URL:https://michigancityin.gov/city-event/city-council-regular-meeting-2/2031-03-18/
LOCATION:Council Chambers – City Hall 100 East  Michigan Boulevard Michigan City IN 46360
CATEGORIES:City Council
END:VEVENT
BEGIN:VEVENT
DTSTART;TZID=America/Chicago:20310326T123000
DTEND;TZID=America/Chicago:20310326T133000
DTSTAMP:20260419T181928
CREATED:20250608T203334Z
LAST-MODIFIED:20250608T203334Z
UID:10003496-1932294600-1932298200@michigancityin.gov
SUMMARY:Michigan City 1st Quarter Animal Control Board Meeting
DESCRIPTION:
URL:https://michigancityin.gov/city-event/michigan-city-1st-quarter-animal-control-board-meeting/2031-03-26/
LOCATION:Police Department Community Room\, 1201 E. Michigan Blvd.\, Michigan City\, 46360\, United States
CATEGORIES:Animal Control
END:VEVENT
BEGIN:VEVENT
DTSTART;TZID=America/Chicago:20310401T180000
DTEND;TZID=America/Chicago:20310401T183000
DTSTAMP:20260419T181928
CREATED:20250320T161200Z
LAST-MODIFIED:20250320T170803Z
UID:10003510-1932832800-1932834600@michigancityin.gov
SUMMARY:City Council Financial Committee Meeting
DESCRIPTION:
URL:https://michigancityin.gov/city-event/city-council-financial-committee-meeting/2031-04-01/
LOCATION:Council Chambers – City Hall 100 East  Michigan Boulevard Michigan City IN 46360
CATEGORIES:City Council
END:VEVENT
END:VCALENDAR