BEGIN:VCALENDAR
VERSION:2.0
PRODID:-//City of Michigan City Indiana - ECPv6.15.20//NONSGML v1.0//EN
CALSCALE:GREGORIAN
METHOD:PUBLISH
X-WR-CALNAME:City of Michigan City Indiana
X-ORIGINAL-URL:https://michigancityin.gov
X-WR-CALDESC:Events for City of Michigan City Indiana
REFRESH-INTERVAL;VALUE=DURATION:PT1H
X-Robots-Tag:noindex
X-PUBLISHED-TTL:PT1H
BEGIN:VTIMEZONE
TZID:America/Chicago
BEGIN:DAYLIGHT
TZOFFSETFROM:-0600
TZOFFSETTO:-0500
TZNAME:CDT
DTSTART:20260308T080000
END:DAYLIGHT
BEGIN:STANDARD
TZOFFSETFROM:-0500
TZOFFSETTO:-0600
TZNAME:CST
DTSTART:20261101T070000
END:STANDARD
BEGIN:DAYLIGHT
TZOFFSETFROM:-0600
TZOFFSETTO:-0500
TZNAME:CDT
DTSTART:20270314T080000
END:DAYLIGHT
BEGIN:STANDARD
TZOFFSETFROM:-0500
TZOFFSETTO:-0600
TZNAME:CST
DTSTART:20271107T070000
END:STANDARD
BEGIN:DAYLIGHT
TZOFFSETFROM:-0600
TZOFFSETTO:-0500
TZNAME:CDT
DTSTART:20280312T080000
END:DAYLIGHT
BEGIN:STANDARD
TZOFFSETFROM:-0500
TZOFFSETTO:-0600
TZNAME:CST
DTSTART:20281105T070000
END:STANDARD
END:VTIMEZONE
BEGIN:VEVENT
DTSTART;VALUE=DATE:20271111
DTEND;VALUE=DATE:20271112
DTSTAMP:20260423T181140
CREATED:20250608T205001Z
LAST-MODIFIED:20250608T205001Z
UID:10000316-1825891200-1825977599@michigancityin.gov
SUMMARY:Veterans Day Holiday Closure
DESCRIPTION:
URL:https://michigancityin.gov/city-event/veterans-day-holiday-closure/2027-11-11/
CATEGORIES:Holiday Closures
END:VEVENT
BEGIN:VEVENT
DTSTART;VALUE=DATE:20271125
DTEND;VALUE=DATE:20271126
DTSTAMP:20260423T181140
CREATED:20250608T205146Z
LAST-MODIFIED:20250608T205146Z
UID:10000321-1827100800-1827187199@michigancityin.gov
SUMMARY:Thanksgiving Day Holiday Closure
DESCRIPTION:
URL:https://michigancityin.gov/city-event/thanksgiving-day-holiday-closure/2027-11-25/
CATEGORIES:Holiday Closures
END:VEVENT
BEGIN:VEVENT
DTSTART;VALUE=DATE:20271126
DTEND;VALUE=DATE:20271127
DTSTAMP:20260423T181140
CREATED:20250608T205307Z
LAST-MODIFIED:20250608T205307Z
UID:10000326-1827187200-1827273599@michigancityin.gov
SUMMARY:Day After Thanksgiving Holiday Closure
DESCRIPTION:
URL:https://michigancityin.gov/city-event/day-after-thanksgiving-holiday-closure/2027-11-26/
CATEGORIES:Holiday Closures
END:VEVENT
END:VCALENDAR