BEGIN:VCALENDAR
VERSION:2.0
PRODID:-//City of Michigan City Indiana - ECPv6.15.20//NONSGML v1.0//EN
CALSCALE:GREGORIAN
METHOD:PUBLISH
X-ORIGINAL-URL:https://michigancityin.gov
X-WR-CALDESC:Events for City of Michigan City Indiana
REFRESH-INTERVAL;VALUE=DURATION:PT1H
X-Robots-Tag:noindex
X-PUBLISHED-TTL:PT1H
BEGIN:VTIMEZONE
TZID:America/Chicago
BEGIN:DAYLIGHT
TZOFFSETFROM:-0600
TZOFFSETTO:-0500
TZNAME:CDT
DTSTART:20270314T080000
END:DAYLIGHT
BEGIN:STANDARD
TZOFFSETFROM:-0500
TZOFFSETTO:-0600
TZNAME:CST
DTSTART:20271107T070000
END:STANDARD
BEGIN:DAYLIGHT
TZOFFSETFROM:-0600
TZOFFSETTO:-0500
TZNAME:CDT
DTSTART:20280312T080000
END:DAYLIGHT
BEGIN:STANDARD
TZOFFSETFROM:-0500
TZOFFSETTO:-0600
TZNAME:CST
DTSTART:20281105T070000
END:STANDARD
BEGIN:DAYLIGHT
TZOFFSETFROM:-0600
TZOFFSETTO:-0500
TZNAME:CDT
DTSTART:20290311T080000
END:DAYLIGHT
BEGIN:STANDARD
TZOFFSETFROM:-0500
TZOFFSETTO:-0600
TZNAME:CST
DTSTART:20291104T070000
END:STANDARD
END:VTIMEZONE
BEGIN:VEVENT
DTSTART;TZID=America/Chicago:20280425T173000
DTEND;TZID=America/Chicago:20280425T183000
DTSTAMP:20260423T044004
CREATED:20250916T170603Z
LAST-MODIFIED:20250916T170604Z
UID:10002719-1840296600-1840300200@michigancityin.gov
SUMMARY:Commission for Women Regular Meeting
DESCRIPTION:
URL:https://michigancityin.gov/city-event/commission-for-women-regular-meeting-3/2028-04-25/
LOCATION:ALCO Meeting Studio\, 301 E. 8th St.\, Michigan City\, 46360\, United States
CATEGORIES:Commission for Women
END:VEVENT
BEGIN:VEVENT
DTSTART;TZID=America/Chicago:20280503T173000
DTEND;TZID=America/Chicago:20280503T183000
DTSTAMP:20260423T044004
CREATED:20260109T131155Z
LAST-MODIFIED:20260305T163559Z
UID:10003414-1840987800-1840991400@michigancityin.gov
SUMMARY:Tree Board Regular Meeting
DESCRIPTION:
URL:https://michigancityin.gov/city-event/tree-board-regular-meeting-3-2/2028-05-03/
LOCATION:ALCO Meeting Studio\, 301 E. 8th St.\, Michigan City\, 46360\, United States
CATEGORIES:Tree Board
END:VEVENT
BEGIN:VEVENT
DTSTART;TZID=America/Chicago:20280510T120000
DTEND;TZID=America/Chicago:20280510T130000
DTSTAMP:20260423T044004
CREATED:20250909T192135Z
LAST-MODIFIED:20250909T192135Z
UID:10000759-1841572800-1841576400@michigancityin.gov
SUMMARY:Commission on the Social Status of African-American Males Regular Meeting
DESCRIPTION:
URL:https://michigancityin.gov/city-event/commission-on-the-social-status-of-african-american-males-regular-meeting-2/2028-05-10/
LOCATION:ALCO Meeting Studio\, 301 E. 8th St.\, Michigan City\, 46360\, United States
CATEGORIES:Commission on the Social Status of African-American Males
END:VEVENT
BEGIN:VEVENT
DTSTART;TZID=America/Chicago:20280515T170000
DTEND;TZID=America/Chicago:20280515T180000
DTSTAMP:20260423T044004
CREATED:20251216T133941Z
LAST-MODIFIED:20251216T133942Z
UID:10003055-1842022800-1842026400@michigancityin.gov
SUMMARY:Licensing Board Regular Meeting
DESCRIPTION:
URL:https://michigancityin.gov/city-event/licensing-board-regular-meeting-3-2/2028-05-15/
LOCATION:ALCO Meeting Studio\, 301 E. 8th St.\, Michigan City\, 46360\, United States
CATEGORIES:Licensing Board
END:VEVENT
BEGIN:VEVENT
DTSTART;TZID=America/Chicago:20280515T180000
DTEND;TZID=America/Chicago:20280515T190000
DTSTAMP:20260423T044004
CREATED:20250609T022526Z
LAST-MODIFIED:20250609T022526Z
UID:10001959-1842026400-1842030000@michigancityin.gov
SUMMARY:Urban Enterprise Association Regular Meeting
DESCRIPTION:
URL:https://michigancityin.gov/city-event/urban-enterprise-association-regular-meeting/2028-05-15/
LOCATION:ALCO Meeting Studio\, 301 E. 8th St.\, Michigan City\, 46360\, United States
CATEGORIES:Urban Enterprise Association
END:VEVENT
BEGIN:VEVENT
DTSTART;TZID=America/Chicago:20280523T173000
DTEND;TZID=America/Chicago:20280523T183000
DTSTAMP:20260423T044004
CREATED:20250916T170603Z
LAST-MODIFIED:20250916T170604Z
UID:10002720-1842715800-1842719400@michigancityin.gov
SUMMARY:Commission for Women Regular Meeting
DESCRIPTION:
URL:https://michigancityin.gov/city-event/commission-for-women-regular-meeting-3/2028-05-23/
LOCATION:ALCO Meeting Studio\, 301 E. 8th St.\, Michigan City\, 46360\, United States
CATEGORIES:Commission for Women
END:VEVENT
BEGIN:VEVENT
DTSTART;TZID=America/Chicago:20280607T173000
DTEND;TZID=America/Chicago:20280607T183000
DTSTAMP:20260423T044004
CREATED:20260109T131155Z
LAST-MODIFIED:20260305T163559Z
UID:10003415-1844011800-1844015400@michigancityin.gov
SUMMARY:Tree Board Regular Meeting
DESCRIPTION:
URL:https://michigancityin.gov/city-event/tree-board-regular-meeting-3-2/2028-06-07/
LOCATION:ALCO Meeting Studio\, 301 E. 8th St.\, Michigan City\, 46360\, United States
CATEGORIES:Tree Board
END:VEVENT
BEGIN:VEVENT
DTSTART;TZID=America/Chicago:20280614T120000
DTEND;TZID=America/Chicago:20280614T130000
DTSTAMP:20260423T044004
CREATED:20250909T192135Z
LAST-MODIFIED:20250909T192135Z
UID:10000760-1844596800-1844600400@michigancityin.gov
SUMMARY:Commission on the Social Status of African-American Males Regular Meeting
DESCRIPTION:
URL:https://michigancityin.gov/city-event/commission-on-the-social-status-of-african-american-males-regular-meeting-2/2028-06-14/
LOCATION:ALCO Meeting Studio\, 301 E. 8th St.\, Michigan City\, 46360\, United States
CATEGORIES:Commission on the Social Status of African-American Males
END:VEVENT
BEGIN:VEVENT
DTSTART;TZID=America/Chicago:20280619T170000
DTEND;TZID=America/Chicago:20280619T180000
DTSTAMP:20260423T044004
CREATED:20251216T133941Z
LAST-MODIFIED:20251216T133942Z
UID:10003056-1845046800-1845050400@michigancityin.gov
SUMMARY:Licensing Board Regular Meeting
DESCRIPTION:
URL:https://michigancityin.gov/city-event/licensing-board-regular-meeting-3-2/2028-06-19/
LOCATION:ALCO Meeting Studio\, 301 E. 8th St.\, Michigan City\, 46360\, United States
CATEGORIES:Licensing Board
END:VEVENT
BEGIN:VEVENT
DTSTART;TZID=America/Chicago:20280619T180000
DTEND;TZID=America/Chicago:20280619T190000
DTSTAMP:20260423T044004
CREATED:20250609T022526Z
LAST-MODIFIED:20250609T022526Z
UID:10001960-1845050400-1845054000@michigancityin.gov
SUMMARY:Urban Enterprise Association Regular Meeting
DESCRIPTION:
URL:https://michigancityin.gov/city-event/urban-enterprise-association-regular-meeting/2028-06-19/
LOCATION:ALCO Meeting Studio\, 301 E. 8th St.\, Michigan City\, 46360\, United States
CATEGORIES:Urban Enterprise Association
END:VEVENT
BEGIN:VEVENT
DTSTART;TZID=America/Chicago:20280627T173000
DTEND;TZID=America/Chicago:20280627T183000
DTSTAMP:20260423T044004
CREATED:20250916T170603Z
LAST-MODIFIED:20250916T170604Z
UID:10002721-1845739800-1845743400@michigancityin.gov
SUMMARY:Commission for Women Regular Meeting
DESCRIPTION:
URL:https://michigancityin.gov/city-event/commission-for-women-regular-meeting-3/2028-06-27/
LOCATION:ALCO Meeting Studio\, 301 E. 8th St.\, Michigan City\, 46360\, United States
CATEGORIES:Commission for Women
END:VEVENT
BEGIN:VEVENT
DTSTART;TZID=America/Chicago:20280705T173000
DTEND;TZID=America/Chicago:20280705T183000
DTSTAMP:20260423T044004
CREATED:20260109T131155Z
LAST-MODIFIED:20260305T163559Z
UID:10003416-1846431000-1846434600@michigancityin.gov
SUMMARY:Tree Board Regular Meeting
DESCRIPTION:
URL:https://michigancityin.gov/city-event/tree-board-regular-meeting-3-2/2028-07-05/
LOCATION:ALCO Meeting Studio\, 301 E. 8th St.\, Michigan City\, 46360\, United States
CATEGORIES:Tree Board
END:VEVENT
BEGIN:VEVENT
DTSTART;TZID=America/Chicago:20280712T120000
DTEND;TZID=America/Chicago:20280712T130000
DTSTAMP:20260423T044004
CREATED:20250909T192135Z
LAST-MODIFIED:20250909T192135Z
UID:10000761-1847016000-1847019600@michigancityin.gov
SUMMARY:Commission on the Social Status of African-American Males Regular Meeting
DESCRIPTION:
URL:https://michigancityin.gov/city-event/commission-on-the-social-status-of-african-american-males-regular-meeting-2/2028-07-12/
LOCATION:ALCO Meeting Studio\, 301 E. 8th St.\, Michigan City\, 46360\, United States
CATEGORIES:Commission on the Social Status of African-American Males
END:VEVENT
BEGIN:VEVENT
DTSTART;TZID=America/Chicago:20280717T170000
DTEND;TZID=America/Chicago:20280717T180000
DTSTAMP:20260423T044004
CREATED:20251216T133941Z
LAST-MODIFIED:20251216T133942Z
UID:10003057-1847466000-1847469600@michigancityin.gov
SUMMARY:Licensing Board Regular Meeting
DESCRIPTION:
URL:https://michigancityin.gov/city-event/licensing-board-regular-meeting-3-2/2028-07-17/
LOCATION:ALCO Meeting Studio\, 301 E. 8th St.\, Michigan City\, 46360\, United States
CATEGORIES:Licensing Board
END:VEVENT
BEGIN:VEVENT
DTSTART;TZID=America/Chicago:20280717T180000
DTEND;TZID=America/Chicago:20280717T190000
DTSTAMP:20260423T044004
CREATED:20250609T022526Z
LAST-MODIFIED:20250609T022526Z
UID:10001961-1847469600-1847473200@michigancityin.gov
SUMMARY:Urban Enterprise Association Regular Meeting
DESCRIPTION:
URL:https://michigancityin.gov/city-event/urban-enterprise-association-regular-meeting/2028-07-17/
LOCATION:ALCO Meeting Studio\, 301 E. 8th St.\, Michigan City\, 46360\, United States
CATEGORIES:Urban Enterprise Association
END:VEVENT
BEGIN:VEVENT
DTSTART;TZID=America/Chicago:20280725T173000
DTEND;TZID=America/Chicago:20280725T183000
DTSTAMP:20260423T044004
CREATED:20250916T170603Z
LAST-MODIFIED:20250916T170604Z
UID:10002722-1848159000-1848162600@michigancityin.gov
SUMMARY:Commission for Women Regular Meeting
DESCRIPTION:
URL:https://michigancityin.gov/city-event/commission-for-women-regular-meeting-3/2028-07-25/
LOCATION:ALCO Meeting Studio\, 301 E. 8th St.\, Michigan City\, 46360\, United States
CATEGORIES:Commission for Women
END:VEVENT
BEGIN:VEVENT
DTSTART;TZID=America/Chicago:20280802T173000
DTEND;TZID=America/Chicago:20280802T183000
DTSTAMP:20260423T044004
CREATED:20260109T131155Z
LAST-MODIFIED:20260305T163559Z
UID:10003417-1848850200-1848853800@michigancityin.gov
SUMMARY:Tree Board Regular Meeting
DESCRIPTION:
URL:https://michigancityin.gov/city-event/tree-board-regular-meeting-3-2/2028-08-02/
LOCATION:ALCO Meeting Studio\, 301 E. 8th St.\, Michigan City\, 46360\, United States
CATEGORIES:Tree Board
END:VEVENT
BEGIN:VEVENT
DTSTART;TZID=America/Chicago:20280809T120000
DTEND;TZID=America/Chicago:20280809T130000
DTSTAMP:20260423T044004
CREATED:20250909T192135Z
LAST-MODIFIED:20250909T192135Z
UID:10000762-1849435200-1849438800@michigancityin.gov
SUMMARY:Commission on the Social Status of African-American Males Regular Meeting
DESCRIPTION:
URL:https://michigancityin.gov/city-event/commission-on-the-social-status-of-african-american-males-regular-meeting-2/2028-08-09/
LOCATION:ALCO Meeting Studio\, 301 E. 8th St.\, Michigan City\, 46360\, United States
CATEGORIES:Commission on the Social Status of African-American Males
END:VEVENT
BEGIN:VEVENT
DTSTART;TZID=America/Chicago:20280821T170000
DTEND;TZID=America/Chicago:20280821T180000
DTSTAMP:20260423T044004
CREATED:20251216T133941Z
LAST-MODIFIED:20251216T133942Z
UID:10003058-1850490000-1850493600@michigancityin.gov
SUMMARY:Licensing Board Regular Meeting
DESCRIPTION:
URL:https://michigancityin.gov/city-event/licensing-board-regular-meeting-3-2/2028-08-21/
LOCATION:ALCO Meeting Studio\, 301 E. 8th St.\, Michigan City\, 46360\, United States
CATEGORIES:Licensing Board
END:VEVENT
BEGIN:VEVENT
DTSTART;TZID=America/Chicago:20280821T180000
DTEND;TZID=America/Chicago:20280821T190000
DTSTAMP:20260423T044004
CREATED:20250609T022526Z
LAST-MODIFIED:20250609T022526Z
UID:10001962-1850493600-1850497200@michigancityin.gov
SUMMARY:Urban Enterprise Association Regular Meeting
DESCRIPTION:
URL:https://michigancityin.gov/city-event/urban-enterprise-association-regular-meeting/2028-08-21/
LOCATION:ALCO Meeting Studio\, 301 E. 8th St.\, Michigan City\, 46360\, United States
CATEGORIES:Urban Enterprise Association
END:VEVENT
BEGIN:VEVENT
DTSTART;TZID=America/Chicago:20280822T173000
DTEND;TZID=America/Chicago:20280822T183000
DTSTAMP:20260423T044004
CREATED:20250916T170603Z
LAST-MODIFIED:20250916T170604Z
UID:10002723-1850578200-1850581800@michigancityin.gov
SUMMARY:Commission for Women Regular Meeting
DESCRIPTION:
URL:https://michigancityin.gov/city-event/commission-for-women-regular-meeting-3/2028-08-22/
LOCATION:ALCO Meeting Studio\, 301 E. 8th St.\, Michigan City\, 46360\, United States
CATEGORIES:Commission for Women
END:VEVENT
BEGIN:VEVENT
DTSTART;TZID=America/Chicago:20280906T173000
DTEND;TZID=America/Chicago:20280906T183000
DTSTAMP:20260423T044004
CREATED:20260109T131155Z
LAST-MODIFIED:20260305T163559Z
UID:10003418-1851874200-1851877800@michigancityin.gov
SUMMARY:Tree Board Regular Meeting
DESCRIPTION:
URL:https://michigancityin.gov/city-event/tree-board-regular-meeting-3-2/2028-09-06/
LOCATION:ALCO Meeting Studio\, 301 E. 8th St.\, Michigan City\, 46360\, United States
CATEGORIES:Tree Board
END:VEVENT
BEGIN:VEVENT
DTSTART;TZID=America/Chicago:20280913T120000
DTEND;TZID=America/Chicago:20280913T130000
DTSTAMP:20260423T044004
CREATED:20250909T192135Z
LAST-MODIFIED:20250909T192135Z
UID:10000763-1852459200-1852462800@michigancityin.gov
SUMMARY:Commission on the Social Status of African-American Males Regular Meeting
DESCRIPTION:
URL:https://michigancityin.gov/city-event/commission-on-the-social-status-of-african-american-males-regular-meeting-2/2028-09-13/
LOCATION:ALCO Meeting Studio\, 301 E. 8th St.\, Michigan City\, 46360\, United States
CATEGORIES:Commission on the Social Status of African-American Males
END:VEVENT
BEGIN:VEVENT
DTSTART;TZID=America/Chicago:20280918T170000
DTEND;TZID=America/Chicago:20280918T180000
DTSTAMP:20260423T044004
CREATED:20251216T133941Z
LAST-MODIFIED:20251216T133942Z
UID:10003059-1852909200-1852912800@michigancityin.gov
SUMMARY:Licensing Board Regular Meeting
DESCRIPTION:
URL:https://michigancityin.gov/city-event/licensing-board-regular-meeting-3-2/2028-09-18/
LOCATION:ALCO Meeting Studio\, 301 E. 8th St.\, Michigan City\, 46360\, United States
CATEGORIES:Licensing Board
END:VEVENT
BEGIN:VEVENT
DTSTART;TZID=America/Chicago:20280918T180000
DTEND;TZID=America/Chicago:20280918T190000
DTSTAMP:20260423T044004
CREATED:20250609T022526Z
LAST-MODIFIED:20250609T022526Z
UID:10001963-1852912800-1852916400@michigancityin.gov
SUMMARY:Urban Enterprise Association Regular Meeting
DESCRIPTION:
URL:https://michigancityin.gov/city-event/urban-enterprise-association-regular-meeting/2028-09-18/
LOCATION:ALCO Meeting Studio\, 301 E. 8th St.\, Michigan City\, 46360\, United States
CATEGORIES:Urban Enterprise Association
END:VEVENT
BEGIN:VEVENT
DTSTART;TZID=America/Chicago:20280926T173000
DTEND;TZID=America/Chicago:20280926T183000
DTSTAMP:20260423T044004
CREATED:20250916T170603Z
LAST-MODIFIED:20250916T170604Z
UID:10002724-1853602200-1853605800@michigancityin.gov
SUMMARY:Commission for Women Regular Meeting
DESCRIPTION:
URL:https://michigancityin.gov/city-event/commission-for-women-regular-meeting-3/2028-09-26/
LOCATION:ALCO Meeting Studio\, 301 E. 8th St.\, Michigan City\, 46360\, United States
CATEGORIES:Commission for Women
END:VEVENT
BEGIN:VEVENT
DTSTART;TZID=America/Chicago:20281004T173000
DTEND;TZID=America/Chicago:20281004T183000
DTSTAMP:20260423T044004
CREATED:20260109T131155Z
LAST-MODIFIED:20260305T163559Z
UID:10003419-1854293400-1854297000@michigancityin.gov
SUMMARY:Tree Board Regular Meeting
DESCRIPTION:
URL:https://michigancityin.gov/city-event/tree-board-regular-meeting-3-2/2028-10-04/
LOCATION:ALCO Meeting Studio\, 301 E. 8th St.\, Michigan City\, 46360\, United States
CATEGORIES:Tree Board
END:VEVENT
BEGIN:VEVENT
DTSTART;TZID=America/Chicago:20281011T120000
DTEND;TZID=America/Chicago:20281011T130000
DTSTAMP:20260423T044004
CREATED:20250909T192135Z
LAST-MODIFIED:20250909T192135Z
UID:10000764-1854878400-1854882000@michigancityin.gov
SUMMARY:Commission on the Social Status of African-American Males Regular Meeting
DESCRIPTION:
URL:https://michigancityin.gov/city-event/commission-on-the-social-status-of-african-american-males-regular-meeting-2/2028-10-11/
LOCATION:ALCO Meeting Studio\, 301 E. 8th St.\, Michigan City\, 46360\, United States
CATEGORIES:Commission on the Social Status of African-American Males
END:VEVENT
BEGIN:VEVENT
DTSTART;TZID=America/Chicago:20281016T170000
DTEND;TZID=America/Chicago:20281016T180000
DTSTAMP:20260423T044004
CREATED:20251216T133941Z
LAST-MODIFIED:20251216T133942Z
UID:10003060-1855328400-1855332000@michigancityin.gov
SUMMARY:Licensing Board Regular Meeting
DESCRIPTION:
URL:https://michigancityin.gov/city-event/licensing-board-regular-meeting-3-2/2028-10-16/
LOCATION:ALCO Meeting Studio\, 301 E. 8th St.\, Michigan City\, 46360\, United States
CATEGORIES:Licensing Board
END:VEVENT
BEGIN:VEVENT
DTSTART;TZID=America/Chicago:20281016T180000
DTEND;TZID=America/Chicago:20281016T190000
DTSTAMP:20260423T044004
CREATED:20250609T022526Z
LAST-MODIFIED:20250609T022526Z
UID:10001964-1855332000-1855335600@michigancityin.gov
SUMMARY:Urban Enterprise Association Regular Meeting
DESCRIPTION:
URL:https://michigancityin.gov/city-event/urban-enterprise-association-regular-meeting/2028-10-16/
LOCATION:ALCO Meeting Studio\, 301 E. 8th St.\, Michigan City\, 46360\, United States
CATEGORIES:Urban Enterprise Association
END:VEVENT
END:VCALENDAR