BEGIN:VCALENDAR
VERSION:2.0
PRODID:-//City of Michigan City Indiana - ECPv6.15.20//NONSGML v1.0//EN
CALSCALE:GREGORIAN
METHOD:PUBLISH
X-ORIGINAL-URL:https://michigancityin.gov
X-WR-CALDESC:Events for City of Michigan City Indiana
REFRESH-INTERVAL;VALUE=DURATION:PT1H
X-Robots-Tag:noindex
X-PUBLISHED-TTL:PT1H
BEGIN:VTIMEZONE
TZID:America/Chicago
BEGIN:DAYLIGHT
TZOFFSETFROM:-0600
TZOFFSETTO:-0500
TZNAME:CDT
DTSTART:20270314T080000
END:DAYLIGHT
BEGIN:STANDARD
TZOFFSETFROM:-0500
TZOFFSETTO:-0600
TZNAME:CST
DTSTART:20271107T070000
END:STANDARD
BEGIN:DAYLIGHT
TZOFFSETFROM:-0600
TZOFFSETTO:-0500
TZNAME:CDT
DTSTART:20280312T080000
END:DAYLIGHT
BEGIN:STANDARD
TZOFFSETFROM:-0500
TZOFFSETTO:-0600
TZNAME:CST
DTSTART:20281105T070000
END:STANDARD
BEGIN:DAYLIGHT
TZOFFSETFROM:-0600
TZOFFSETTO:-0500
TZNAME:CDT
DTSTART:20290311T080000
END:DAYLIGHT
BEGIN:STANDARD
TZOFFSETFROM:-0500
TZOFFSETTO:-0600
TZNAME:CST
DTSTART:20291104T070000
END:STANDARD
BEGIN:DAYLIGHT
TZOFFSETFROM:-0600
TZOFFSETTO:-0500
TZNAME:CDT
DTSTART:20300310T080000
END:DAYLIGHT
BEGIN:STANDARD
TZOFFSETFROM:-0500
TZOFFSETTO:-0600
TZNAME:CST
DTSTART:20301103T070000
END:STANDARD
END:VTIMEZONE
BEGIN:VEVENT
DTSTART;TZID=America/Chicago:20281206T173000
DTEND;TZID=America/Chicago:20281206T183000
DTSTAMP:20260423T093205
CREATED:20260109T131155Z
LAST-MODIFIED:20260305T163559Z
UID:10003421-1859736600-1859740200@michigancityin.gov
SUMMARY:Tree Board Regular Meeting
DESCRIPTION:
URL:https://michigancityin.gov/city-event/tree-board-regular-meeting-3-2/2028-12-06/
LOCATION:ALCO Meeting Studio\, 301 E. 8th St.\, Michigan City\, 46360\, United States
CATEGORIES:Tree Board
END:VEVENT
BEGIN:VEVENT
DTSTART;TZID=America/Chicago:20281213T120000
DTEND;TZID=America/Chicago:20281213T130000
DTSTAMP:20260423T093205
CREATED:20250909T192135Z
LAST-MODIFIED:20250909T192135Z
UID:10000766-1860321600-1860325200@michigancityin.gov
SUMMARY:Commission on the Social Status of African-American Males Regular Meeting
DESCRIPTION:
URL:https://michigancityin.gov/city-event/commission-on-the-social-status-of-african-american-males-regular-meeting-2/2028-12-13/
LOCATION:ALCO Meeting Studio\, 301 E. 8th St.\, Michigan City\, 46360\, United States
CATEGORIES:Commission on the Social Status of African-American Males
END:VEVENT
BEGIN:VEVENT
DTSTART;TZID=America/Chicago:20281218T170000
DTEND;TZID=America/Chicago:20281218T180000
DTSTAMP:20260423T093205
CREATED:20251216T133941Z
LAST-MODIFIED:20251216T133942Z
UID:10003062-1860771600-1860775200@michigancityin.gov
SUMMARY:Licensing Board Regular Meeting
DESCRIPTION:
URL:https://michigancityin.gov/city-event/licensing-board-regular-meeting-3-2/2028-12-18/
LOCATION:ALCO Meeting Studio\, 301 E. 8th St.\, Michigan City\, 46360\, United States
CATEGORIES:Licensing Board
END:VEVENT
BEGIN:VEVENT
DTSTART;TZID=America/Chicago:20281218T180000
DTEND;TZID=America/Chicago:20281218T190000
DTSTAMP:20260423T093205
CREATED:20250609T022526Z
LAST-MODIFIED:20250609T022526Z
UID:10001966-1860775200-1860778800@michigancityin.gov
SUMMARY:Urban Enterprise Association Regular Meeting
DESCRIPTION:
URL:https://michigancityin.gov/city-event/urban-enterprise-association-regular-meeting/2028-12-18/
LOCATION:ALCO Meeting Studio\, 301 E. 8th St.\, Michigan City\, 46360\, United States
CATEGORIES:Urban Enterprise Association
END:VEVENT
BEGIN:VEVENT
DTSTART;TZID=America/Chicago:20281226T173000
DTEND;TZID=America/Chicago:20281226T183000
DTSTAMP:20260423T093205
CREATED:20250916T170603Z
LAST-MODIFIED:20250916T170604Z
UID:10002727-1861464600-1861468200@michigancityin.gov
SUMMARY:Commission for Women Regular Meeting
DESCRIPTION:
URL:https://michigancityin.gov/city-event/commission-for-women-regular-meeting-3/2028-12-26/
LOCATION:ALCO Meeting Studio\, 301 E. 8th St.\, Michigan City\, 46360\, United States
CATEGORIES:Commission for Women
END:VEVENT
BEGIN:VEVENT
DTSTART;TZID=America/Chicago:20290103T173000
DTEND;TZID=America/Chicago:20290103T183000
DTSTAMP:20260423T093205
CREATED:20260109T131155Z
LAST-MODIFIED:20260305T163559Z
UID:10003422-1862155800-1862159400@michigancityin.gov
SUMMARY:Tree Board Regular Meeting
DESCRIPTION:
URL:https://michigancityin.gov/city-event/tree-board-regular-meeting-3-2/2029-01-03/
LOCATION:ALCO Meeting Studio\, 301 E. 8th St.\, Michigan City\, 46360\, United States
CATEGORIES:Tree Board
END:VEVENT
BEGIN:VEVENT
DTSTART;TZID=America/Chicago:20290110T120000
DTEND;TZID=America/Chicago:20290110T130000
DTSTAMP:20260423T093205
CREATED:20250909T192135Z
LAST-MODIFIED:20250909T192135Z
UID:10000767-1862740800-1862744400@michigancityin.gov
SUMMARY:Commission on the Social Status of African-American Males Regular Meeting
DESCRIPTION:
URL:https://michigancityin.gov/city-event/commission-on-the-social-status-of-african-american-males-regular-meeting-2/2029-01-10/
LOCATION:ALCO Meeting Studio\, 301 E. 8th St.\, Michigan City\, 46360\, United States
CATEGORIES:Commission on the Social Status of African-American Males
END:VEVENT
BEGIN:VEVENT
DTSTART;TZID=America/Chicago:20290115T170000
DTEND;TZID=America/Chicago:20290115T180000
DTSTAMP:20260423T093205
CREATED:20251216T133941Z
LAST-MODIFIED:20251216T133942Z
UID:10003063-1863190800-1863194400@michigancityin.gov
SUMMARY:Licensing Board Regular Meeting
DESCRIPTION:
URL:https://michigancityin.gov/city-event/licensing-board-regular-meeting-3-2/2029-01-15/
LOCATION:ALCO Meeting Studio\, 301 E. 8th St.\, Michigan City\, 46360\, United States
CATEGORIES:Licensing Board
END:VEVENT
BEGIN:VEVENT
DTSTART;TZID=America/Chicago:20290115T180000
DTEND;TZID=America/Chicago:20290115T190000
DTSTAMP:20260423T093205
CREATED:20250609T022526Z
LAST-MODIFIED:20250609T022526Z
UID:10001967-1863194400-1863198000@michigancityin.gov
SUMMARY:Urban Enterprise Association Regular Meeting
DESCRIPTION:
URL:https://michigancityin.gov/city-event/urban-enterprise-association-regular-meeting/2029-01-15/
LOCATION:ALCO Meeting Studio\, 301 E. 8th St.\, Michigan City\, 46360\, United States
CATEGORIES:Urban Enterprise Association
END:VEVENT
BEGIN:VEVENT
DTSTART;TZID=America/Chicago:20290123T173000
DTEND;TZID=America/Chicago:20290123T183000
DTSTAMP:20260423T093205
CREATED:20250916T170603Z
LAST-MODIFIED:20250916T170604Z
UID:10002728-1863883800-1863887400@michigancityin.gov
SUMMARY:Commission for Women Regular Meeting
DESCRIPTION:
URL:https://michigancityin.gov/city-event/commission-for-women-regular-meeting-3/2029-01-23/
LOCATION:ALCO Meeting Studio\, 301 E. 8th St.\, Michigan City\, 46360\, United States
CATEGORIES:Commission for Women
END:VEVENT
BEGIN:VEVENT
DTSTART;TZID=America/Chicago:20290207T173000
DTEND;TZID=America/Chicago:20290207T183000
DTSTAMP:20260423T093205
CREATED:20260109T131155Z
LAST-MODIFIED:20260305T163559Z
UID:10003423-1865179800-1865183400@michigancityin.gov
SUMMARY:Tree Board Regular Meeting
DESCRIPTION:
URL:https://michigancityin.gov/city-event/tree-board-regular-meeting-3-2/2029-02-07/
LOCATION:ALCO Meeting Studio\, 301 E. 8th St.\, Michigan City\, 46360\, United States
CATEGORIES:Tree Board
END:VEVENT
BEGIN:VEVENT
DTSTART;TZID=America/Chicago:20290214T120000
DTEND;TZID=America/Chicago:20290214T130000
DTSTAMP:20260423T093205
CREATED:20250909T192135Z
LAST-MODIFIED:20250909T192135Z
UID:10000768-1865764800-1865768400@michigancityin.gov
SUMMARY:Commission on the Social Status of African-American Males Regular Meeting
DESCRIPTION:
URL:https://michigancityin.gov/city-event/commission-on-the-social-status-of-african-american-males-regular-meeting-2/2029-02-14/
LOCATION:ALCO Meeting Studio\, 301 E. 8th St.\, Michigan City\, 46360\, United States
CATEGORIES:Commission on the Social Status of African-American Males
END:VEVENT
BEGIN:VEVENT
DTSTART;TZID=America/Chicago:20290219T170000
DTEND;TZID=America/Chicago:20290219T180000
DTSTAMP:20260423T093205
CREATED:20251216T133941Z
LAST-MODIFIED:20251216T133942Z
UID:10003064-1866214800-1866218400@michigancityin.gov
SUMMARY:Licensing Board Regular Meeting
DESCRIPTION:
URL:https://michigancityin.gov/city-event/licensing-board-regular-meeting-3-2/2029-02-19/
LOCATION:ALCO Meeting Studio\, 301 E. 8th St.\, Michigan City\, 46360\, United States
CATEGORIES:Licensing Board
END:VEVENT
BEGIN:VEVENT
DTSTART;TZID=America/Chicago:20290219T180000
DTEND;TZID=America/Chicago:20290219T190000
DTSTAMP:20260423T093205
CREATED:20250609T022526Z
LAST-MODIFIED:20250609T022526Z
UID:10001968-1866218400-1866222000@michigancityin.gov
SUMMARY:Urban Enterprise Association Regular Meeting
DESCRIPTION:
URL:https://michigancityin.gov/city-event/urban-enterprise-association-regular-meeting/2029-02-19/
LOCATION:ALCO Meeting Studio\, 301 E. 8th St.\, Michigan City\, 46360\, United States
CATEGORIES:Urban Enterprise Association
END:VEVENT
BEGIN:VEVENT
DTSTART;TZID=America/Chicago:20290227T173000
DTEND;TZID=America/Chicago:20290227T183000
DTSTAMP:20260423T093205
CREATED:20250916T170603Z
LAST-MODIFIED:20250916T170604Z
UID:10002729-1866907800-1866911400@michigancityin.gov
SUMMARY:Commission for Women Regular Meeting
DESCRIPTION:
URL:https://michigancityin.gov/city-event/commission-for-women-regular-meeting-3/2029-02-27/
LOCATION:ALCO Meeting Studio\, 301 E. 8th St.\, Michigan City\, 46360\, United States
CATEGORIES:Commission for Women
END:VEVENT
BEGIN:VEVENT
DTSTART;TZID=America/Chicago:20290307T173000
DTEND;TZID=America/Chicago:20290307T183000
DTSTAMP:20260423T093205
CREATED:20260109T131155Z
LAST-MODIFIED:20260305T163559Z
UID:10003424-1867599000-1867602600@michigancityin.gov
SUMMARY:Tree Board Regular Meeting
DESCRIPTION:
URL:https://michigancityin.gov/city-event/tree-board-regular-meeting-3-2/2029-03-07/
LOCATION:ALCO Meeting Studio\, 301 E. 8th St.\, Michigan City\, 46360\, United States
CATEGORIES:Tree Board
END:VEVENT
BEGIN:VEVENT
DTSTART;TZID=America/Chicago:20290314T120000
DTEND;TZID=America/Chicago:20290314T130000
DTSTAMP:20260423T093205
CREATED:20250909T192135Z
LAST-MODIFIED:20250909T192135Z
UID:10000769-1868184000-1868187600@michigancityin.gov
SUMMARY:Commission on the Social Status of African-American Males Regular Meeting
DESCRIPTION:
URL:https://michigancityin.gov/city-event/commission-on-the-social-status-of-african-american-males-regular-meeting-2/2029-03-14/
LOCATION:ALCO Meeting Studio\, 301 E. 8th St.\, Michigan City\, 46360\, United States
CATEGORIES:Commission on the Social Status of African-American Males
END:VEVENT
BEGIN:VEVENT
DTSTART;TZID=America/Chicago:20290319T170000
DTEND;TZID=America/Chicago:20290319T180000
DTSTAMP:20260423T093205
CREATED:20251216T133941Z
LAST-MODIFIED:20251216T133942Z
UID:10003065-1868634000-1868637600@michigancityin.gov
SUMMARY:Licensing Board Regular Meeting
DESCRIPTION:
URL:https://michigancityin.gov/city-event/licensing-board-regular-meeting-3-2/2029-03-19/
LOCATION:ALCO Meeting Studio\, 301 E. 8th St.\, Michigan City\, 46360\, United States
CATEGORIES:Licensing Board
END:VEVENT
BEGIN:VEVENT
DTSTART;TZID=America/Chicago:20290319T180000
DTEND;TZID=America/Chicago:20290319T190000
DTSTAMP:20260423T093205
CREATED:20250609T022526Z
LAST-MODIFIED:20250609T022526Z
UID:10001969-1868637600-1868641200@michigancityin.gov
SUMMARY:Urban Enterprise Association Regular Meeting
DESCRIPTION:
URL:https://michigancityin.gov/city-event/urban-enterprise-association-regular-meeting/2029-03-19/
LOCATION:ALCO Meeting Studio\, 301 E. 8th St.\, Michigan City\, 46360\, United States
CATEGORIES:Urban Enterprise Association
END:VEVENT
BEGIN:VEVENT
DTSTART;TZID=America/Chicago:20290327T173000
DTEND;TZID=America/Chicago:20290327T183000
DTSTAMP:20260423T093205
CREATED:20250916T170603Z
LAST-MODIFIED:20250916T170604Z
UID:10002730-1869327000-1869330600@michigancityin.gov
SUMMARY:Commission for Women Regular Meeting
DESCRIPTION:
URL:https://michigancityin.gov/city-event/commission-for-women-regular-meeting-3/2029-03-27/
LOCATION:ALCO Meeting Studio\, 301 E. 8th St.\, Michigan City\, 46360\, United States
CATEGORIES:Commission for Women
END:VEVENT
BEGIN:VEVENT
DTSTART;TZID=America/Chicago:20290404T173000
DTEND;TZID=America/Chicago:20290404T183000
DTSTAMP:20260423T093205
CREATED:20260109T131155Z
LAST-MODIFIED:20260305T163559Z
UID:10003425-1870018200-1870021800@michigancityin.gov
SUMMARY:Tree Board Regular Meeting
DESCRIPTION:
URL:https://michigancityin.gov/city-event/tree-board-regular-meeting-3-2/2029-04-04/
LOCATION:ALCO Meeting Studio\, 301 E. 8th St.\, Michigan City\, 46360\, United States
CATEGORIES:Tree Board
END:VEVENT
BEGIN:VEVENT
DTSTART;TZID=America/Chicago:20290411T120000
DTEND;TZID=America/Chicago:20290411T130000
DTSTAMP:20260423T093205
CREATED:20250909T192135Z
LAST-MODIFIED:20250909T192135Z
UID:10000770-1870603200-1870606800@michigancityin.gov
SUMMARY:Commission on the Social Status of African-American Males Regular Meeting
DESCRIPTION:
URL:https://michigancityin.gov/city-event/commission-on-the-social-status-of-african-american-males-regular-meeting-2/2029-04-11/
LOCATION:ALCO Meeting Studio\, 301 E. 8th St.\, Michigan City\, 46360\, United States
CATEGORIES:Commission on the Social Status of African-American Males
END:VEVENT
BEGIN:VEVENT
DTSTART;TZID=America/Chicago:20290416T170000
DTEND;TZID=America/Chicago:20290416T180000
DTSTAMP:20260423T093205
CREATED:20251216T133941Z
LAST-MODIFIED:20251216T133942Z
UID:10003066-1871053200-1871056800@michigancityin.gov
SUMMARY:Licensing Board Regular Meeting
DESCRIPTION:
URL:https://michigancityin.gov/city-event/licensing-board-regular-meeting-3-2/2029-04-16/
LOCATION:ALCO Meeting Studio\, 301 E. 8th St.\, Michigan City\, 46360\, United States
CATEGORIES:Licensing Board
END:VEVENT
BEGIN:VEVENT
DTSTART;TZID=America/Chicago:20290416T180000
DTEND;TZID=America/Chicago:20290416T190000
DTSTAMP:20260423T093205
CREATED:20250609T022526Z
LAST-MODIFIED:20250609T022526Z
UID:10001970-1871056800-1871060400@michigancityin.gov
SUMMARY:Urban Enterprise Association Regular Meeting
DESCRIPTION:
URL:https://michigancityin.gov/city-event/urban-enterprise-association-regular-meeting/2029-04-16/
LOCATION:ALCO Meeting Studio\, 301 E. 8th St.\, Michigan City\, 46360\, United States
CATEGORIES:Urban Enterprise Association
END:VEVENT
BEGIN:VEVENT
DTSTART;TZID=America/Chicago:20290424T173000
DTEND;TZID=America/Chicago:20290424T183000
DTSTAMP:20260423T093205
CREATED:20250916T170603Z
LAST-MODIFIED:20250916T170604Z
UID:10002731-1871746200-1871749800@michigancityin.gov
SUMMARY:Commission for Women Regular Meeting
DESCRIPTION:
URL:https://michigancityin.gov/city-event/commission-for-women-regular-meeting-3/2029-04-24/
LOCATION:ALCO Meeting Studio\, 301 E. 8th St.\, Michigan City\, 46360\, United States
CATEGORIES:Commission for Women
END:VEVENT
BEGIN:VEVENT
DTSTART;TZID=America/Chicago:20290502T173000
DTEND;TZID=America/Chicago:20290502T183000
DTSTAMP:20260423T093205
CREATED:20260109T131155Z
LAST-MODIFIED:20260305T163559Z
UID:10003426-1872437400-1872441000@michigancityin.gov
SUMMARY:Tree Board Regular Meeting
DESCRIPTION:
URL:https://michigancityin.gov/city-event/tree-board-regular-meeting-3-2/2029-05-02/
LOCATION:ALCO Meeting Studio\, 301 E. 8th St.\, Michigan City\, 46360\, United States
CATEGORIES:Tree Board
END:VEVENT
BEGIN:VEVENT
DTSTART;TZID=America/Chicago:20290509T120000
DTEND;TZID=America/Chicago:20290509T130000
DTSTAMP:20260423T093205
CREATED:20250909T192135Z
LAST-MODIFIED:20250909T192135Z
UID:10000771-1873022400-1873026000@michigancityin.gov
SUMMARY:Commission on the Social Status of African-American Males Regular Meeting
DESCRIPTION:
URL:https://michigancityin.gov/city-event/commission-on-the-social-status-of-african-american-males-regular-meeting-2/2029-05-09/
LOCATION:ALCO Meeting Studio\, 301 E. 8th St.\, Michigan City\, 46360\, United States
CATEGORIES:Commission on the Social Status of African-American Males
END:VEVENT
BEGIN:VEVENT
DTSTART;TZID=America/Chicago:20290521T170000
DTEND;TZID=America/Chicago:20290521T180000
DTSTAMP:20260423T093205
CREATED:20251216T133941Z
LAST-MODIFIED:20251216T133942Z
UID:10003067-1874077200-1874080800@michigancityin.gov
SUMMARY:Licensing Board Regular Meeting
DESCRIPTION:
URL:https://michigancityin.gov/city-event/licensing-board-regular-meeting-3-2/2029-05-21/
LOCATION:ALCO Meeting Studio\, 301 E. 8th St.\, Michigan City\, 46360\, United States
CATEGORIES:Licensing Board
END:VEVENT
BEGIN:VEVENT
DTSTART;TZID=America/Chicago:20290521T180000
DTEND;TZID=America/Chicago:20290521T190000
DTSTAMP:20260423T093205
CREATED:20250609T022526Z
LAST-MODIFIED:20250609T022526Z
UID:10001971-1874080800-1874084400@michigancityin.gov
SUMMARY:Urban Enterprise Association Regular Meeting
DESCRIPTION:
URL:https://michigancityin.gov/city-event/urban-enterprise-association-regular-meeting/2029-05-21/
LOCATION:ALCO Meeting Studio\, 301 E. 8th St.\, Michigan City\, 46360\, United States
CATEGORIES:Urban Enterprise Association
END:VEVENT
BEGIN:VEVENT
DTSTART;TZID=America/Chicago:20290522T173000
DTEND;TZID=America/Chicago:20290522T183000
DTSTAMP:20260423T093205
CREATED:20250916T170603Z
LAST-MODIFIED:20250916T170604Z
UID:10002732-1874165400-1874169000@michigancityin.gov
SUMMARY:Commission for Women Regular Meeting
DESCRIPTION:
URL:https://michigancityin.gov/city-event/commission-for-women-regular-meeting-3/2029-05-22/
LOCATION:ALCO Meeting Studio\, 301 E. 8th St.\, Michigan City\, 46360\, United States
CATEGORIES:Commission for Women
END:VEVENT
END:VCALENDAR