BEGIN:VCALENDAR
VERSION:2.0
PRODID:-//City of Michigan City Indiana - ECPv6.15.20//NONSGML v1.0//EN
CALSCALE:GREGORIAN
METHOD:PUBLISH
X-ORIGINAL-URL:https://michigancityin.gov
X-WR-CALDESC:Events for City of Michigan City Indiana
REFRESH-INTERVAL;VALUE=DURATION:PT1H
X-Robots-Tag:noindex
X-PUBLISHED-TTL:PT1H
BEGIN:VTIMEZONE
TZID:America/Chicago
BEGIN:DAYLIGHT
TZOFFSETFROM:-0600
TZOFFSETTO:-0500
TZNAME:CDT
DTSTART:20250309T080000
END:DAYLIGHT
BEGIN:STANDARD
TZOFFSETFROM:-0500
TZOFFSETTO:-0600
TZNAME:CST
DTSTART:20251102T070000
END:STANDARD
BEGIN:DAYLIGHT
TZOFFSETFROM:-0600
TZOFFSETTO:-0500
TZNAME:CDT
DTSTART:20260308T080000
END:DAYLIGHT
BEGIN:STANDARD
TZOFFSETFROM:-0500
TZOFFSETTO:-0600
TZNAME:CST
DTSTART:20261101T070000
END:STANDARD
BEGIN:DAYLIGHT
TZOFFSETFROM:-0600
TZOFFSETTO:-0500
TZNAME:CDT
DTSTART:20270314T080000
END:DAYLIGHT
BEGIN:STANDARD
TZOFFSETFROM:-0500
TZOFFSETTO:-0600
TZNAME:CST
DTSTART:20271107T070000
END:STANDARD
BEGIN:DAYLIGHT
TZOFFSETFROM:-0600
TZOFFSETTO:-0500
TZNAME:CDT
DTSTART:20280312T080000
END:DAYLIGHT
BEGIN:STANDARD
TZOFFSETFROM:-0500
TZOFFSETTO:-0600
TZNAME:CST
DTSTART:20281105T070000
END:STANDARD
END:VTIMEZONE
BEGIN:VEVENT
DTSTART;TZID=America/Chicago:20261202T173000
DTEND;TZID=America/Chicago:20261202T183000
DTSTAMP:20260422T175322
CREATED:20260109T131155Z
LAST-MODIFIED:20260305T163559Z
UID:10003397-1796232600-1796236200@michigancityin.gov
SUMMARY:Tree Board Regular Meeting
DESCRIPTION:
URL:https://michigancityin.gov/city-event/tree-board-regular-meeting-3-2/2026-12-02/
LOCATION:ALCO Meeting Studio\, 301 E. 8th St.\, Michigan City\, 46360\, United States
CATEGORIES:Tree Board
END:VEVENT
BEGIN:VEVENT
DTSTART;TZID=America/Chicago:20261209T120000
DTEND;TZID=America/Chicago:20261209T130000
DTSTAMP:20260422T175322
CREATED:20250909T192135Z
LAST-MODIFIED:20250909T192135Z
UID:10000742-1796817600-1796821200@michigancityin.gov
SUMMARY:Commission on the Social Status of African-American Males Regular Meeting
DESCRIPTION:
URL:https://michigancityin.gov/city-event/commission-on-the-social-status-of-african-american-males-regular-meeting-2/2026-12-09/
LOCATION:ALCO Meeting Studio\, 301 E. 8th St.\, Michigan City\, 46360\, United States
CATEGORIES:Commission on the Social Status of African-American Males
END:VEVENT
BEGIN:VEVENT
DTSTART;TZID=America/Chicago:20261221T170000
DTEND;TZID=America/Chicago:20261221T180000
DTSTAMP:20260422T175322
CREATED:20251216T133941Z
LAST-MODIFIED:20251216T133942Z
UID:10003038-1797872400-1797876000@michigancityin.gov
SUMMARY:Licensing Board Regular Meeting
DESCRIPTION:
URL:https://michigancityin.gov/city-event/licensing-board-regular-meeting-3-2/2026-12-21/
LOCATION:ALCO Meeting Studio\, 301 E. 8th St.\, Michigan City\, 46360\, United States
CATEGORIES:Licensing Board
END:VEVENT
BEGIN:VEVENT
DTSTART;TZID=America/Chicago:20261221T180000
DTEND;TZID=America/Chicago:20261221T190000
DTSTAMP:20260422T175322
CREATED:20250609T022526Z
LAST-MODIFIED:20250609T022526Z
UID:10001942-1797876000-1797879600@michigancityin.gov
SUMMARY:Urban Enterprise Association Regular Meeting
DESCRIPTION:
URL:https://michigancityin.gov/city-event/urban-enterprise-association-regular-meeting/2026-12-21/
LOCATION:ALCO Meeting Studio\, 301 E. 8th St.\, Michigan City\, 46360\, United States
CATEGORIES:Urban Enterprise Association
END:VEVENT
BEGIN:VEVENT
DTSTART;TZID=America/Chicago:20261222T173000
DTEND;TZID=America/Chicago:20261222T183000
DTSTAMP:20260422T175322
CREATED:20250916T170603Z
LAST-MODIFIED:20250916T170604Z
UID:10002703-1797960600-1797964200@michigancityin.gov
SUMMARY:Commission for Women Regular Meeting
DESCRIPTION:
URL:https://michigancityin.gov/city-event/commission-for-women-regular-meeting-3/2026-12-22/
LOCATION:ALCO Meeting Studio\, 301 E. 8th St.\, Michigan City\, 46360\, United States
CATEGORIES:Commission for Women
END:VEVENT
BEGIN:VEVENT
DTSTART;TZID=America/Chicago:20270106T173000
DTEND;TZID=America/Chicago:20270106T183000
DTSTAMP:20260422T175322
CREATED:20260109T131155Z
LAST-MODIFIED:20260305T163559Z
UID:10003398-1799256600-1799260200@michigancityin.gov
SUMMARY:Tree Board Regular Meeting
DESCRIPTION:
URL:https://michigancityin.gov/city-event/tree-board-regular-meeting-3-2/2027-01-06/
LOCATION:ALCO Meeting Studio\, 301 E. 8th St.\, Michigan City\, 46360\, United States
CATEGORIES:Tree Board
END:VEVENT
BEGIN:VEVENT
DTSTART;TZID=America/Chicago:20270113T120000
DTEND;TZID=America/Chicago:20270113T130000
DTSTAMP:20260422T175322
CREATED:20250909T192135Z
LAST-MODIFIED:20250909T192135Z
UID:10000743-1799841600-1799845200@michigancityin.gov
SUMMARY:Commission on the Social Status of African-American Males Regular Meeting
DESCRIPTION:
URL:https://michigancityin.gov/city-event/commission-on-the-social-status-of-african-american-males-regular-meeting-2/2027-01-13/
LOCATION:ALCO Meeting Studio\, 301 E. 8th St.\, Michigan City\, 46360\, United States
CATEGORIES:Commission on the Social Status of African-American Males
END:VEVENT
BEGIN:VEVENT
DTSTART;TZID=America/Chicago:20270118T170000
DTEND;TZID=America/Chicago:20270118T180000
DTSTAMP:20260422T175322
CREATED:20251216T133941Z
LAST-MODIFIED:20251216T133942Z
UID:10003039-1800291600-1800295200@michigancityin.gov
SUMMARY:Licensing Board Regular Meeting
DESCRIPTION:
URL:https://michigancityin.gov/city-event/licensing-board-regular-meeting-3-2/2027-01-18/
LOCATION:ALCO Meeting Studio\, 301 E. 8th St.\, Michigan City\, 46360\, United States
CATEGORIES:Licensing Board
END:VEVENT
BEGIN:VEVENT
DTSTART;TZID=America/Chicago:20270118T180000
DTEND;TZID=America/Chicago:20270118T190000
DTSTAMP:20260422T175322
CREATED:20250609T022526Z
LAST-MODIFIED:20250609T022526Z
UID:10001943-1800295200-1800298800@michigancityin.gov
SUMMARY:Urban Enterprise Association Regular Meeting
DESCRIPTION:
URL:https://michigancityin.gov/city-event/urban-enterprise-association-regular-meeting/2027-01-18/
LOCATION:ALCO Meeting Studio\, 301 E. 8th St.\, Michigan City\, 46360\, United States
CATEGORIES:Urban Enterprise Association
END:VEVENT
BEGIN:VEVENT
DTSTART;TZID=America/Chicago:20270126T173000
DTEND;TZID=America/Chicago:20270126T183000
DTSTAMP:20260422T175322
CREATED:20250916T170603Z
LAST-MODIFIED:20250916T170604Z
UID:10002704-1800984600-1800988200@michigancityin.gov
SUMMARY:Commission for Women Regular Meeting
DESCRIPTION:
URL:https://michigancityin.gov/city-event/commission-for-women-regular-meeting-3/2027-01-26/
LOCATION:ALCO Meeting Studio\, 301 E. 8th St.\, Michigan City\, 46360\, United States
CATEGORIES:Commission for Women
END:VEVENT
BEGIN:VEVENT
DTSTART;TZID=America/Chicago:20270203T173000
DTEND;TZID=America/Chicago:20270203T183000
DTSTAMP:20260422T175322
CREATED:20260109T131155Z
LAST-MODIFIED:20260305T163559Z
UID:10003399-1801675800-1801679400@michigancityin.gov
SUMMARY:Tree Board Regular Meeting
DESCRIPTION:
URL:https://michigancityin.gov/city-event/tree-board-regular-meeting-3-2/2027-02-03/
LOCATION:ALCO Meeting Studio\, 301 E. 8th St.\, Michigan City\, 46360\, United States
CATEGORIES:Tree Board
END:VEVENT
BEGIN:VEVENT
DTSTART;TZID=America/Chicago:20270210T120000
DTEND;TZID=America/Chicago:20270210T130000
DTSTAMP:20260422T175322
CREATED:20250909T192135Z
LAST-MODIFIED:20250909T192135Z
UID:10000744-1802260800-1802264400@michigancityin.gov
SUMMARY:Commission on the Social Status of African-American Males Regular Meeting
DESCRIPTION:
URL:https://michigancityin.gov/city-event/commission-on-the-social-status-of-african-american-males-regular-meeting-2/2027-02-10/
LOCATION:ALCO Meeting Studio\, 301 E. 8th St.\, Michigan City\, 46360\, United States
CATEGORIES:Commission on the Social Status of African-American Males
END:VEVENT
BEGIN:VEVENT
DTSTART;TZID=America/Chicago:20270215T170000
DTEND;TZID=America/Chicago:20270215T180000
DTSTAMP:20260422T175322
CREATED:20251216T133941Z
LAST-MODIFIED:20251216T133942Z
UID:10003040-1802710800-1802714400@michigancityin.gov
SUMMARY:Licensing Board Regular Meeting
DESCRIPTION:
URL:https://michigancityin.gov/city-event/licensing-board-regular-meeting-3-2/2027-02-15/
LOCATION:ALCO Meeting Studio\, 301 E. 8th St.\, Michigan City\, 46360\, United States
CATEGORIES:Licensing Board
END:VEVENT
BEGIN:VEVENT
DTSTART;TZID=America/Chicago:20270215T180000
DTEND;TZID=America/Chicago:20270215T190000
DTSTAMP:20260422T175322
CREATED:20250609T022526Z
LAST-MODIFIED:20250609T022526Z
UID:10001944-1802714400-1802718000@michigancityin.gov
SUMMARY:Urban Enterprise Association Regular Meeting
DESCRIPTION:
URL:https://michigancityin.gov/city-event/urban-enterprise-association-regular-meeting/2027-02-15/
LOCATION:ALCO Meeting Studio\, 301 E. 8th St.\, Michigan City\, 46360\, United States
CATEGORIES:Urban Enterprise Association
END:VEVENT
BEGIN:VEVENT
DTSTART;TZID=America/Chicago:20270223T173000
DTEND;TZID=America/Chicago:20270223T183000
DTSTAMP:20260422T175322
CREATED:20250916T170603Z
LAST-MODIFIED:20250916T170604Z
UID:10002705-1803403800-1803407400@michigancityin.gov
SUMMARY:Commission for Women Regular Meeting
DESCRIPTION:
URL:https://michigancityin.gov/city-event/commission-for-women-regular-meeting-3/2027-02-23/
LOCATION:ALCO Meeting Studio\, 301 E. 8th St.\, Michigan City\, 46360\, United States
CATEGORIES:Commission for Women
END:VEVENT
BEGIN:VEVENT
DTSTART;TZID=America/Chicago:20270303T173000
DTEND;TZID=America/Chicago:20270303T183000
DTSTAMP:20260422T175322
CREATED:20260109T131155Z
LAST-MODIFIED:20260305T163559Z
UID:10003400-1804095000-1804098600@michigancityin.gov
SUMMARY:Tree Board Regular Meeting
DESCRIPTION:
URL:https://michigancityin.gov/city-event/tree-board-regular-meeting-3-2/2027-03-03/
LOCATION:ALCO Meeting Studio\, 301 E. 8th St.\, Michigan City\, 46360\, United States
CATEGORIES:Tree Board
END:VEVENT
BEGIN:VEVENT
DTSTART;TZID=America/Chicago:20270310T120000
DTEND;TZID=America/Chicago:20270310T130000
DTSTAMP:20260422T175322
CREATED:20250909T192135Z
LAST-MODIFIED:20250909T192135Z
UID:10000745-1804680000-1804683600@michigancityin.gov
SUMMARY:Commission on the Social Status of African-American Males Regular Meeting
DESCRIPTION:
URL:https://michigancityin.gov/city-event/commission-on-the-social-status-of-african-american-males-regular-meeting-2/2027-03-10/
LOCATION:ALCO Meeting Studio\, 301 E. 8th St.\, Michigan City\, 46360\, United States
CATEGORIES:Commission on the Social Status of African-American Males
END:VEVENT
BEGIN:VEVENT
DTSTART;TZID=America/Chicago:20270315T170000
DTEND;TZID=America/Chicago:20270315T180000
DTSTAMP:20260422T175322
CREATED:20251216T133941Z
LAST-MODIFIED:20251216T133942Z
UID:10003041-1805130000-1805133600@michigancityin.gov
SUMMARY:Licensing Board Regular Meeting
DESCRIPTION:
URL:https://michigancityin.gov/city-event/licensing-board-regular-meeting-3-2/2027-03-15/
LOCATION:ALCO Meeting Studio\, 301 E. 8th St.\, Michigan City\, 46360\, United States
CATEGORIES:Licensing Board
END:VEVENT
BEGIN:VEVENT
DTSTART;TZID=America/Chicago:20270315T180000
DTEND;TZID=America/Chicago:20270315T190000
DTSTAMP:20260422T175322
CREATED:20250609T022526Z
LAST-MODIFIED:20250609T022526Z
UID:10001945-1805133600-1805137200@michigancityin.gov
SUMMARY:Urban Enterprise Association Regular Meeting
DESCRIPTION:
URL:https://michigancityin.gov/city-event/urban-enterprise-association-regular-meeting/2027-03-15/
LOCATION:ALCO Meeting Studio\, 301 E. 8th St.\, Michigan City\, 46360\, United States
CATEGORIES:Urban Enterprise Association
END:VEVENT
BEGIN:VEVENT
DTSTART;TZID=America/Chicago:20270323T173000
DTEND;TZID=America/Chicago:20270323T183000
DTSTAMP:20260422T175322
CREATED:20250916T170603Z
LAST-MODIFIED:20250916T170604Z
UID:10002706-1805823000-1805826600@michigancityin.gov
SUMMARY:Commission for Women Regular Meeting
DESCRIPTION:
URL:https://michigancityin.gov/city-event/commission-for-women-regular-meeting-3/2027-03-23/
LOCATION:ALCO Meeting Studio\, 301 E. 8th St.\, Michigan City\, 46360\, United States
CATEGORIES:Commission for Women
END:VEVENT
BEGIN:VEVENT
DTSTART;TZID=America/Chicago:20270407T173000
DTEND;TZID=America/Chicago:20270407T183000
DTSTAMP:20260422T175322
CREATED:20260109T131155Z
LAST-MODIFIED:20260305T163559Z
UID:10003401-1807119000-1807122600@michigancityin.gov
SUMMARY:Tree Board Regular Meeting
DESCRIPTION:
URL:https://michigancityin.gov/city-event/tree-board-regular-meeting-3-2/2027-04-07/
LOCATION:ALCO Meeting Studio\, 301 E. 8th St.\, Michigan City\, 46360\, United States
CATEGORIES:Tree Board
END:VEVENT
BEGIN:VEVENT
DTSTART;TZID=America/Chicago:20270414T120000
DTEND;TZID=America/Chicago:20270414T130000
DTSTAMP:20260422T175322
CREATED:20250909T192135Z
LAST-MODIFIED:20250909T192135Z
UID:10000746-1807704000-1807707600@michigancityin.gov
SUMMARY:Commission on the Social Status of African-American Males Regular Meeting
DESCRIPTION:
URL:https://michigancityin.gov/city-event/commission-on-the-social-status-of-african-american-males-regular-meeting-2/2027-04-14/
LOCATION:ALCO Meeting Studio\, 301 E. 8th St.\, Michigan City\, 46360\, United States
CATEGORIES:Commission on the Social Status of African-American Males
END:VEVENT
BEGIN:VEVENT
DTSTART;TZID=America/Chicago:20270419T170000
DTEND;TZID=America/Chicago:20270419T180000
DTSTAMP:20260422T175322
CREATED:20251216T133941Z
LAST-MODIFIED:20251216T133942Z
UID:10003042-1808154000-1808157600@michigancityin.gov
SUMMARY:Licensing Board Regular Meeting
DESCRIPTION:
URL:https://michigancityin.gov/city-event/licensing-board-regular-meeting-3-2/2027-04-19/
LOCATION:ALCO Meeting Studio\, 301 E. 8th St.\, Michigan City\, 46360\, United States
CATEGORIES:Licensing Board
END:VEVENT
BEGIN:VEVENT
DTSTART;TZID=America/Chicago:20270419T180000
DTEND;TZID=America/Chicago:20270419T190000
DTSTAMP:20260422T175322
CREATED:20250609T022526Z
LAST-MODIFIED:20250609T022526Z
UID:10001946-1808157600-1808161200@michigancityin.gov
SUMMARY:Urban Enterprise Association Regular Meeting
DESCRIPTION:
URL:https://michigancityin.gov/city-event/urban-enterprise-association-regular-meeting/2027-04-19/
LOCATION:ALCO Meeting Studio\, 301 E. 8th St.\, Michigan City\, 46360\, United States
CATEGORIES:Urban Enterprise Association
END:VEVENT
BEGIN:VEVENT
DTSTART;TZID=America/Chicago:20270427T173000
DTEND;TZID=America/Chicago:20270427T183000
DTSTAMP:20260422T175322
CREATED:20250916T170603Z
LAST-MODIFIED:20250916T170604Z
UID:10002707-1808847000-1808850600@michigancityin.gov
SUMMARY:Commission for Women Regular Meeting
DESCRIPTION:
URL:https://michigancityin.gov/city-event/commission-for-women-regular-meeting-3/2027-04-27/
LOCATION:ALCO Meeting Studio\, 301 E. 8th St.\, Michigan City\, 46360\, United States
CATEGORIES:Commission for Women
END:VEVENT
BEGIN:VEVENT
DTSTART;TZID=America/Chicago:20270505T173000
DTEND;TZID=America/Chicago:20270505T183000
DTSTAMP:20260422T175322
CREATED:20260109T131155Z
LAST-MODIFIED:20260305T163559Z
UID:10003402-1809538200-1809541800@michigancityin.gov
SUMMARY:Tree Board Regular Meeting
DESCRIPTION:
URL:https://michigancityin.gov/city-event/tree-board-regular-meeting-3-2/2027-05-05/
LOCATION:ALCO Meeting Studio\, 301 E. 8th St.\, Michigan City\, 46360\, United States
CATEGORIES:Tree Board
END:VEVENT
BEGIN:VEVENT
DTSTART;TZID=America/Chicago:20270512T120000
DTEND;TZID=America/Chicago:20270512T130000
DTSTAMP:20260422T175322
CREATED:20250909T192135Z
LAST-MODIFIED:20250909T192135Z
UID:10000747-1810123200-1810126800@michigancityin.gov
SUMMARY:Commission on the Social Status of African-American Males Regular Meeting
DESCRIPTION:
URL:https://michigancityin.gov/city-event/commission-on-the-social-status-of-african-american-males-regular-meeting-2/2027-05-12/
LOCATION:ALCO Meeting Studio\, 301 E. 8th St.\, Michigan City\, 46360\, United States
CATEGORIES:Commission on the Social Status of African-American Males
END:VEVENT
BEGIN:VEVENT
DTSTART;TZID=America/Chicago:20270517T170000
DTEND;TZID=America/Chicago:20270517T180000
DTSTAMP:20260422T175322
CREATED:20251216T133941Z
LAST-MODIFIED:20251216T133942Z
UID:10003043-1810573200-1810576800@michigancityin.gov
SUMMARY:Licensing Board Regular Meeting
DESCRIPTION:
URL:https://michigancityin.gov/city-event/licensing-board-regular-meeting-3-2/2027-05-17/
LOCATION:ALCO Meeting Studio\, 301 E. 8th St.\, Michigan City\, 46360\, United States
CATEGORIES:Licensing Board
END:VEVENT
BEGIN:VEVENT
DTSTART;TZID=America/Chicago:20270517T180000
DTEND;TZID=America/Chicago:20270517T190000
DTSTAMP:20260422T175322
CREATED:20250609T022526Z
LAST-MODIFIED:20250609T022526Z
UID:10001947-1810576800-1810580400@michigancityin.gov
SUMMARY:Urban Enterprise Association Regular Meeting
DESCRIPTION:
URL:https://michigancityin.gov/city-event/urban-enterprise-association-regular-meeting/2027-05-17/
LOCATION:ALCO Meeting Studio\, 301 E. 8th St.\, Michigan City\, 46360\, United States
CATEGORIES:Urban Enterprise Association
END:VEVENT
BEGIN:VEVENT
DTSTART;TZID=America/Chicago:20270525T173000
DTEND;TZID=America/Chicago:20270525T183000
DTSTAMP:20260422T175322
CREATED:20250916T170603Z
LAST-MODIFIED:20250916T170604Z
UID:10002708-1811266200-1811269800@michigancityin.gov
SUMMARY:Commission for Women Regular Meeting
DESCRIPTION:
URL:https://michigancityin.gov/city-event/commission-for-women-regular-meeting-3/2027-05-25/
LOCATION:ALCO Meeting Studio\, 301 E. 8th St.\, Michigan City\, 46360\, United States
CATEGORIES:Commission for Women
END:VEVENT
END:VCALENDAR