BEGIN:VCALENDAR
VERSION:2.0
PRODID:-//City of Michigan City Indiana - ECPv6.15.20//NONSGML v1.0//EN
CALSCALE:GREGORIAN
METHOD:PUBLISH
X-ORIGINAL-URL:https://michigancityin.gov
X-WR-CALDESC:Events for City of Michigan City Indiana
REFRESH-INTERVAL;VALUE=DURATION:PT1H
X-Robots-Tag:noindex
X-PUBLISHED-TTL:PT1H
BEGIN:VTIMEZONE
TZID:America/Chicago
BEGIN:DAYLIGHT
TZOFFSETFROM:-0600
TZOFFSETTO:-0500
TZNAME:CDT
DTSTART:20260308T080000
END:DAYLIGHT
BEGIN:STANDARD
TZOFFSETFROM:-0500
TZOFFSETTO:-0600
TZNAME:CST
DTSTART:20261101T070000
END:STANDARD
BEGIN:DAYLIGHT
TZOFFSETFROM:-0600
TZOFFSETTO:-0500
TZNAME:CDT
DTSTART:20270314T080000
END:DAYLIGHT
BEGIN:STANDARD
TZOFFSETFROM:-0500
TZOFFSETTO:-0600
TZNAME:CST
DTSTART:20271107T070000
END:STANDARD
BEGIN:DAYLIGHT
TZOFFSETFROM:-0600
TZOFFSETTO:-0500
TZNAME:CDT
DTSTART:20280312T080000
END:DAYLIGHT
BEGIN:STANDARD
TZOFFSETFROM:-0500
TZOFFSETTO:-0600
TZNAME:CST
DTSTART:20281105T070000
END:STANDARD
BEGIN:DAYLIGHT
TZOFFSETFROM:-0600
TZOFFSETTO:-0500
TZNAME:CDT
DTSTART:20290311T080000
END:DAYLIGHT
BEGIN:STANDARD
TZOFFSETFROM:-0500
TZOFFSETTO:-0600
TZNAME:CST
DTSTART:20291104T070000
END:STANDARD
END:VTIMEZONE
BEGIN:VEVENT
DTSTART;TZID=America/Chicago:20270714T120000
DTEND;TZID=America/Chicago:20270714T130000
DTSTAMP:20260422T221645
CREATED:20250909T192135Z
LAST-MODIFIED:20250909T192135Z
UID:10000749-1815566400-1815570000@michigancityin.gov
SUMMARY:Commission on the Social Status of African-American Males Regular Meeting
DESCRIPTION:
URL:https://michigancityin.gov/city-event/commission-on-the-social-status-of-african-american-males-regular-meeting-2/2027-07-14/
LOCATION:ALCO Meeting Studio\, 301 E. 8th St.\, Michigan City\, 46360\, United States
CATEGORIES:Commission on the Social Status of African-American Males
END:VEVENT
BEGIN:VEVENT
DTSTART;TZID=America/Chicago:20270719T170000
DTEND;TZID=America/Chicago:20270719T180000
DTSTAMP:20260422T221645
CREATED:20251216T133941Z
LAST-MODIFIED:20251216T133942Z
UID:10003045-1816016400-1816020000@michigancityin.gov
SUMMARY:Licensing Board Regular Meeting
DESCRIPTION:
URL:https://michigancityin.gov/city-event/licensing-board-regular-meeting-3-2/2027-07-19/
LOCATION:ALCO Meeting Studio\, 301 E. 8th St.\, Michigan City\, 46360\, United States
CATEGORIES:Licensing Board
END:VEVENT
BEGIN:VEVENT
DTSTART;TZID=America/Chicago:20270719T180000
DTEND;TZID=America/Chicago:20270719T190000
DTSTAMP:20260422T221645
CREATED:20250609T022526Z
LAST-MODIFIED:20250609T022526Z
UID:10001949-1816020000-1816023600@michigancityin.gov
SUMMARY:Urban Enterprise Association Regular Meeting
DESCRIPTION:
URL:https://michigancityin.gov/city-event/urban-enterprise-association-regular-meeting/2027-07-19/
LOCATION:ALCO Meeting Studio\, 301 E. 8th St.\, Michigan City\, 46360\, United States
CATEGORIES:Urban Enterprise Association
END:VEVENT
BEGIN:VEVENT
DTSTART;TZID=America/Chicago:20270727T173000
DTEND;TZID=America/Chicago:20270727T183000
DTSTAMP:20260422T221645
CREATED:20250916T170603Z
LAST-MODIFIED:20250916T170604Z
UID:10002710-1816709400-1816713000@michigancityin.gov
SUMMARY:Commission for Women Regular Meeting
DESCRIPTION:
URL:https://michigancityin.gov/city-event/commission-for-women-regular-meeting-3/2027-07-27/
LOCATION:ALCO Meeting Studio\, 301 E. 8th St.\, Michigan City\, 46360\, United States
CATEGORIES:Commission for Women
END:VEVENT
BEGIN:VEVENT
DTSTART;TZID=America/Chicago:20270804T173000
DTEND;TZID=America/Chicago:20270804T183000
DTSTAMP:20260422T221645
CREATED:20260109T131155Z
LAST-MODIFIED:20260305T163559Z
UID:10003405-1817400600-1817404200@michigancityin.gov
SUMMARY:Tree Board Regular Meeting
DESCRIPTION:
URL:https://michigancityin.gov/city-event/tree-board-regular-meeting-3-2/2027-08-04/
LOCATION:ALCO Meeting Studio\, 301 E. 8th St.\, Michigan City\, 46360\, United States
CATEGORIES:Tree Board
END:VEVENT
BEGIN:VEVENT
DTSTART;TZID=America/Chicago:20270811T120000
DTEND;TZID=America/Chicago:20270811T130000
DTSTAMP:20260422T221645
CREATED:20250909T192135Z
LAST-MODIFIED:20250909T192135Z
UID:10000750-1817985600-1817989200@michigancityin.gov
SUMMARY:Commission on the Social Status of African-American Males Regular Meeting
DESCRIPTION:
URL:https://michigancityin.gov/city-event/commission-on-the-social-status-of-african-american-males-regular-meeting-2/2027-08-11/
LOCATION:ALCO Meeting Studio\, 301 E. 8th St.\, Michigan City\, 46360\, United States
CATEGORIES:Commission on the Social Status of African-American Males
END:VEVENT
BEGIN:VEVENT
DTSTART;TZID=America/Chicago:20270816T170000
DTEND;TZID=America/Chicago:20270816T180000
DTSTAMP:20260422T221645
CREATED:20251216T133941Z
LAST-MODIFIED:20251216T133942Z
UID:10003046-1818435600-1818439200@michigancityin.gov
SUMMARY:Licensing Board Regular Meeting
DESCRIPTION:
URL:https://michigancityin.gov/city-event/licensing-board-regular-meeting-3-2/2027-08-16/
LOCATION:ALCO Meeting Studio\, 301 E. 8th St.\, Michigan City\, 46360\, United States
CATEGORIES:Licensing Board
END:VEVENT
BEGIN:VEVENT
DTSTART;TZID=America/Chicago:20270816T180000
DTEND;TZID=America/Chicago:20270816T190000
DTSTAMP:20260422T221645
CREATED:20250609T022526Z
LAST-MODIFIED:20250609T022526Z
UID:10001950-1818439200-1818442800@michigancityin.gov
SUMMARY:Urban Enterprise Association Regular Meeting
DESCRIPTION:
URL:https://michigancityin.gov/city-event/urban-enterprise-association-regular-meeting/2027-08-16/
LOCATION:ALCO Meeting Studio\, 301 E. 8th St.\, Michigan City\, 46360\, United States
CATEGORIES:Urban Enterprise Association
END:VEVENT
BEGIN:VEVENT
DTSTART;TZID=America/Chicago:20270824T173000
DTEND;TZID=America/Chicago:20270824T183000
DTSTAMP:20260422T221645
CREATED:20250916T170603Z
LAST-MODIFIED:20250916T170604Z
UID:10002711-1819128600-1819132200@michigancityin.gov
SUMMARY:Commission for Women Regular Meeting
DESCRIPTION:
URL:https://michigancityin.gov/city-event/commission-for-women-regular-meeting-3/2027-08-24/
LOCATION:ALCO Meeting Studio\, 301 E. 8th St.\, Michigan City\, 46360\, United States
CATEGORIES:Commission for Women
END:VEVENT
BEGIN:VEVENT
DTSTART;TZID=America/Chicago:20270901T173000
DTEND;TZID=America/Chicago:20270901T183000
DTSTAMP:20260422T221645
CREATED:20260109T131155Z
LAST-MODIFIED:20260305T163559Z
UID:10003406-1819819800-1819823400@michigancityin.gov
SUMMARY:Tree Board Regular Meeting
DESCRIPTION:
URL:https://michigancityin.gov/city-event/tree-board-regular-meeting-3-2/2027-09-01/
LOCATION:ALCO Meeting Studio\, 301 E. 8th St.\, Michigan City\, 46360\, United States
CATEGORIES:Tree Board
END:VEVENT
BEGIN:VEVENT
DTSTART;TZID=America/Chicago:20270908T120000
DTEND;TZID=America/Chicago:20270908T130000
DTSTAMP:20260422T221645
CREATED:20250909T192135Z
LAST-MODIFIED:20250909T192135Z
UID:10000751-1820404800-1820408400@michigancityin.gov
SUMMARY:Commission on the Social Status of African-American Males Regular Meeting
DESCRIPTION:
URL:https://michigancityin.gov/city-event/commission-on-the-social-status-of-african-american-males-regular-meeting-2/2027-09-08/
LOCATION:ALCO Meeting Studio\, 301 E. 8th St.\, Michigan City\, 46360\, United States
CATEGORIES:Commission on the Social Status of African-American Males
END:VEVENT
BEGIN:VEVENT
DTSTART;TZID=America/Chicago:20270920T170000
DTEND;TZID=America/Chicago:20270920T180000
DTSTAMP:20260422T221645
CREATED:20251216T133941Z
LAST-MODIFIED:20251216T133942Z
UID:10003047-1821459600-1821463200@michigancityin.gov
SUMMARY:Licensing Board Regular Meeting
DESCRIPTION:
URL:https://michigancityin.gov/city-event/licensing-board-regular-meeting-3-2/2027-09-20/
LOCATION:ALCO Meeting Studio\, 301 E. 8th St.\, Michigan City\, 46360\, United States
CATEGORIES:Licensing Board
END:VEVENT
BEGIN:VEVENT
DTSTART;TZID=America/Chicago:20270920T180000
DTEND;TZID=America/Chicago:20270920T190000
DTSTAMP:20260422T221645
CREATED:20250609T022526Z
LAST-MODIFIED:20250609T022526Z
UID:10001951-1821463200-1821466800@michigancityin.gov
SUMMARY:Urban Enterprise Association Regular Meeting
DESCRIPTION:
URL:https://michigancityin.gov/city-event/urban-enterprise-association-regular-meeting/2027-09-20/
LOCATION:ALCO Meeting Studio\, 301 E. 8th St.\, Michigan City\, 46360\, United States
CATEGORIES:Urban Enterprise Association
END:VEVENT
BEGIN:VEVENT
DTSTART;TZID=America/Chicago:20270928T173000
DTEND;TZID=America/Chicago:20270928T183000
DTSTAMP:20260422T221645
CREATED:20250916T170603Z
LAST-MODIFIED:20250916T170604Z
UID:10002712-1822152600-1822156200@michigancityin.gov
SUMMARY:Commission for Women Regular Meeting
DESCRIPTION:
URL:https://michigancityin.gov/city-event/commission-for-women-regular-meeting-3/2027-09-28/
LOCATION:ALCO Meeting Studio\, 301 E. 8th St.\, Michigan City\, 46360\, United States
CATEGORIES:Commission for Women
END:VEVENT
BEGIN:VEVENT
DTSTART;TZID=America/Chicago:20271006T173000
DTEND;TZID=America/Chicago:20271006T183000
DTSTAMP:20260422T221645
CREATED:20260109T131155Z
LAST-MODIFIED:20260305T163559Z
UID:10003407-1822843800-1822847400@michigancityin.gov
SUMMARY:Tree Board Regular Meeting
DESCRIPTION:
URL:https://michigancityin.gov/city-event/tree-board-regular-meeting-3-2/2027-10-06/
LOCATION:ALCO Meeting Studio\, 301 E. 8th St.\, Michigan City\, 46360\, United States
CATEGORIES:Tree Board
END:VEVENT
BEGIN:VEVENT
DTSTART;TZID=America/Chicago:20271013T120000
DTEND;TZID=America/Chicago:20271013T130000
DTSTAMP:20260422T221645
CREATED:20250909T192135Z
LAST-MODIFIED:20250909T192135Z
UID:10000752-1823428800-1823432400@michigancityin.gov
SUMMARY:Commission on the Social Status of African-American Males Regular Meeting
DESCRIPTION:
URL:https://michigancityin.gov/city-event/commission-on-the-social-status-of-african-american-males-regular-meeting-2/2027-10-13/
LOCATION:ALCO Meeting Studio\, 301 E. 8th St.\, Michigan City\, 46360\, United States
CATEGORIES:Commission on the Social Status of African-American Males
END:VEVENT
BEGIN:VEVENT
DTSTART;TZID=America/Chicago:20271018T170000
DTEND;TZID=America/Chicago:20271018T180000
DTSTAMP:20260422T221645
CREATED:20251216T133941Z
LAST-MODIFIED:20251216T133942Z
UID:10003048-1823878800-1823882400@michigancityin.gov
SUMMARY:Licensing Board Regular Meeting
DESCRIPTION:
URL:https://michigancityin.gov/city-event/licensing-board-regular-meeting-3-2/2027-10-18/
LOCATION:ALCO Meeting Studio\, 301 E. 8th St.\, Michigan City\, 46360\, United States
CATEGORIES:Licensing Board
END:VEVENT
BEGIN:VEVENT
DTSTART;TZID=America/Chicago:20271018T180000
DTEND;TZID=America/Chicago:20271018T190000
DTSTAMP:20260422T221645
CREATED:20250609T022526Z
LAST-MODIFIED:20250609T022526Z
UID:10001952-1823882400-1823886000@michigancityin.gov
SUMMARY:Urban Enterprise Association Regular Meeting
DESCRIPTION:
URL:https://michigancityin.gov/city-event/urban-enterprise-association-regular-meeting/2027-10-18/
LOCATION:ALCO Meeting Studio\, 301 E. 8th St.\, Michigan City\, 46360\, United States
CATEGORIES:Urban Enterprise Association
END:VEVENT
BEGIN:VEVENT
DTSTART;TZID=America/Chicago:20271026T173000
DTEND;TZID=America/Chicago:20271026T183000
DTSTAMP:20260422T221645
CREATED:20250916T170603Z
LAST-MODIFIED:20250916T170604Z
UID:10002713-1824571800-1824575400@michigancityin.gov
SUMMARY:Commission for Women Regular Meeting
DESCRIPTION:
URL:https://michigancityin.gov/city-event/commission-for-women-regular-meeting-3/2027-10-26/
LOCATION:ALCO Meeting Studio\, 301 E. 8th St.\, Michigan City\, 46360\, United States
CATEGORIES:Commission for Women
END:VEVENT
BEGIN:VEVENT
DTSTART;TZID=America/Chicago:20271103T173000
DTEND;TZID=America/Chicago:20271103T183000
DTSTAMP:20260422T221645
CREATED:20260109T131155Z
LAST-MODIFIED:20260305T163559Z
UID:10003408-1825263000-1825266600@michigancityin.gov
SUMMARY:Tree Board Regular Meeting
DESCRIPTION:
URL:https://michigancityin.gov/city-event/tree-board-regular-meeting-3-2/2027-11-03/
LOCATION:ALCO Meeting Studio\, 301 E. 8th St.\, Michigan City\, 46360\, United States
CATEGORIES:Tree Board
END:VEVENT
BEGIN:VEVENT
DTSTART;TZID=America/Chicago:20271110T120000
DTEND;TZID=America/Chicago:20271110T130000
DTSTAMP:20260422T221645
CREATED:20250909T192135Z
LAST-MODIFIED:20250909T192135Z
UID:10000753-1825848000-1825851600@michigancityin.gov
SUMMARY:Commission on the Social Status of African-American Males Regular Meeting
DESCRIPTION:
URL:https://michigancityin.gov/city-event/commission-on-the-social-status-of-african-american-males-regular-meeting-2/2027-11-10/
LOCATION:ALCO Meeting Studio\, 301 E. 8th St.\, Michigan City\, 46360\, United States
CATEGORIES:Commission on the Social Status of African-American Males
END:VEVENT
BEGIN:VEVENT
DTSTART;TZID=America/Chicago:20271115T170000
DTEND;TZID=America/Chicago:20271115T180000
DTSTAMP:20260422T221645
CREATED:20251216T133941Z
LAST-MODIFIED:20251216T133942Z
UID:10003049-1826298000-1826301600@michigancityin.gov
SUMMARY:Licensing Board Regular Meeting
DESCRIPTION:
URL:https://michigancityin.gov/city-event/licensing-board-regular-meeting-3-2/2027-11-15/
LOCATION:ALCO Meeting Studio\, 301 E. 8th St.\, Michigan City\, 46360\, United States
CATEGORIES:Licensing Board
END:VEVENT
BEGIN:VEVENT
DTSTART;TZID=America/Chicago:20271115T180000
DTEND;TZID=America/Chicago:20271115T190000
DTSTAMP:20260422T221645
CREATED:20250609T022526Z
LAST-MODIFIED:20250609T022526Z
UID:10001953-1826301600-1826305200@michigancityin.gov
SUMMARY:Urban Enterprise Association Regular Meeting
DESCRIPTION:
URL:https://michigancityin.gov/city-event/urban-enterprise-association-regular-meeting/2027-11-15/
LOCATION:ALCO Meeting Studio\, 301 E. 8th St.\, Michigan City\, 46360\, United States
CATEGORIES:Urban Enterprise Association
END:VEVENT
BEGIN:VEVENT
DTSTART;TZID=America/Chicago:20271123T173000
DTEND;TZID=America/Chicago:20271123T183000
DTSTAMP:20260422T221645
CREATED:20250916T170603Z
LAST-MODIFIED:20250916T170604Z
UID:10002714-1826991000-1826994600@michigancityin.gov
SUMMARY:Commission for Women Regular Meeting
DESCRIPTION:
URL:https://michigancityin.gov/city-event/commission-for-women-regular-meeting-3/2027-11-23/
LOCATION:ALCO Meeting Studio\, 301 E. 8th St.\, Michigan City\, 46360\, United States
CATEGORIES:Commission for Women
END:VEVENT
BEGIN:VEVENT
DTSTART;TZID=America/Chicago:20271201T173000
DTEND;TZID=America/Chicago:20271201T183000
DTSTAMP:20260422T221645
CREATED:20260109T131155Z
LAST-MODIFIED:20260305T163559Z
UID:10003409-1827682200-1827685800@michigancityin.gov
SUMMARY:Tree Board Regular Meeting
DESCRIPTION:
URL:https://michigancityin.gov/city-event/tree-board-regular-meeting-3-2/2027-12-01/
LOCATION:ALCO Meeting Studio\, 301 E. 8th St.\, Michigan City\, 46360\, United States
CATEGORIES:Tree Board
END:VEVENT
BEGIN:VEVENT
DTSTART;TZID=America/Chicago:20271208T120000
DTEND;TZID=America/Chicago:20271208T130000
DTSTAMP:20260422T221645
CREATED:20250909T192135Z
LAST-MODIFIED:20250909T192135Z
UID:10000754-1828267200-1828270800@michigancityin.gov
SUMMARY:Commission on the Social Status of African-American Males Regular Meeting
DESCRIPTION:
URL:https://michigancityin.gov/city-event/commission-on-the-social-status-of-african-american-males-regular-meeting-2/2027-12-08/
LOCATION:ALCO Meeting Studio\, 301 E. 8th St.\, Michigan City\, 46360\, United States
CATEGORIES:Commission on the Social Status of African-American Males
END:VEVENT
BEGIN:VEVENT
DTSTART;TZID=America/Chicago:20271220T170000
DTEND;TZID=America/Chicago:20271220T180000
DTSTAMP:20260422T221645
CREATED:20251216T133941Z
LAST-MODIFIED:20251216T133942Z
UID:10003050-1829322000-1829325600@michigancityin.gov
SUMMARY:Licensing Board Regular Meeting
DESCRIPTION:
URL:https://michigancityin.gov/city-event/licensing-board-regular-meeting-3-2/2027-12-20/
LOCATION:ALCO Meeting Studio\, 301 E. 8th St.\, Michigan City\, 46360\, United States
CATEGORIES:Licensing Board
END:VEVENT
BEGIN:VEVENT
DTSTART;TZID=America/Chicago:20271220T180000
DTEND;TZID=America/Chicago:20271220T190000
DTSTAMP:20260422T221645
CREATED:20250609T022526Z
LAST-MODIFIED:20250609T022526Z
UID:10001954-1829325600-1829329200@michigancityin.gov
SUMMARY:Urban Enterprise Association Regular Meeting
DESCRIPTION:
URL:https://michigancityin.gov/city-event/urban-enterprise-association-regular-meeting/2027-12-20/
LOCATION:ALCO Meeting Studio\, 301 E. 8th St.\, Michigan City\, 46360\, United States
CATEGORIES:Urban Enterprise Association
END:VEVENT
BEGIN:VEVENT
DTSTART;TZID=America/Chicago:20271228T173000
DTEND;TZID=America/Chicago:20271228T183000
DTSTAMP:20260422T221645
CREATED:20250916T170603Z
LAST-MODIFIED:20250916T170604Z
UID:10002715-1830015000-1830018600@michigancityin.gov
SUMMARY:Commission for Women Regular Meeting
DESCRIPTION:
URL:https://michigancityin.gov/city-event/commission-for-women-regular-meeting-3/2027-12-28/
LOCATION:ALCO Meeting Studio\, 301 E. 8th St.\, Michigan City\, 46360\, United States
CATEGORIES:Commission for Women
END:VEVENT
BEGIN:VEVENT
DTSTART;TZID=America/Chicago:20280105T173000
DTEND;TZID=America/Chicago:20280105T183000
DTSTAMP:20260422T221645
CREATED:20260109T131155Z
LAST-MODIFIED:20260305T163559Z
UID:10003410-1830706200-1830709800@michigancityin.gov
SUMMARY:Tree Board Regular Meeting
DESCRIPTION:
URL:https://michigancityin.gov/city-event/tree-board-regular-meeting-3-2/2028-01-05/
LOCATION:ALCO Meeting Studio\, 301 E. 8th St.\, Michigan City\, 46360\, United States
CATEGORIES:Tree Board
END:VEVENT
END:VCALENDAR