BEGIN:VCALENDAR
VERSION:2.0
PRODID:-//City of Michigan City Indiana - ECPv6.15.20//NONSGML v1.0//EN
CALSCALE:GREGORIAN
METHOD:PUBLISH
X-ORIGINAL-URL:https://michigancityin.gov
X-WR-CALDESC:Events for City of Michigan City Indiana
REFRESH-INTERVAL;VALUE=DURATION:PT1H
X-Robots-Tag:noindex
X-PUBLISHED-TTL:PT1H
BEGIN:VTIMEZONE
TZID:America/Chicago
BEGIN:DAYLIGHT
TZOFFSETFROM:-0600
TZOFFSETTO:-0500
TZNAME:CDT
DTSTART:20260308T080000
END:DAYLIGHT
BEGIN:STANDARD
TZOFFSETFROM:-0500
TZOFFSETTO:-0600
TZNAME:CST
DTSTART:20261101T070000
END:STANDARD
BEGIN:DAYLIGHT
TZOFFSETFROM:-0600
TZOFFSETTO:-0500
TZNAME:CDT
DTSTART:20270314T080000
END:DAYLIGHT
BEGIN:STANDARD
TZOFFSETFROM:-0500
TZOFFSETTO:-0600
TZNAME:CST
DTSTART:20271107T070000
END:STANDARD
BEGIN:DAYLIGHT
TZOFFSETFROM:-0600
TZOFFSETTO:-0500
TZNAME:CDT
DTSTART:20280312T080000
END:DAYLIGHT
BEGIN:STANDARD
TZOFFSETFROM:-0500
TZOFFSETTO:-0600
TZNAME:CST
DTSTART:20281105T070000
END:STANDARD
BEGIN:DAYLIGHT
TZOFFSETFROM:-0600
TZOFFSETTO:-0500
TZNAME:CDT
DTSTART:20290311T080000
END:DAYLIGHT
BEGIN:STANDARD
TZOFFSETFROM:-0500
TZOFFSETTO:-0600
TZNAME:CST
DTSTART:20291104T070000
END:STANDARD
END:VTIMEZONE
BEGIN:VEVENT
DTSTART;TZID=America/Chicago:20271201T173000
DTEND;TZID=America/Chicago:20271201T183000
DTSTAMP:20260423T010332
CREATED:20260109T131155Z
LAST-MODIFIED:20260305T163559Z
UID:10003409-1827682200-1827685800@michigancityin.gov
SUMMARY:Tree Board Regular Meeting
DESCRIPTION:
URL:https://michigancityin.gov/city-event/tree-board-regular-meeting-3-2/2027-12-01/
LOCATION:ALCO Meeting Studio\, 301 E. 8th St.\, Michigan City\, 46360\, United States
CATEGORIES:Tree Board
END:VEVENT
BEGIN:VEVENT
DTSTART;TZID=America/Chicago:20271208T120000
DTEND;TZID=America/Chicago:20271208T130000
DTSTAMP:20260423T010332
CREATED:20250909T192135Z
LAST-MODIFIED:20250909T192135Z
UID:10000754-1828267200-1828270800@michigancityin.gov
SUMMARY:Commission on the Social Status of African-American Males Regular Meeting
DESCRIPTION:
URL:https://michigancityin.gov/city-event/commission-on-the-social-status-of-african-american-males-regular-meeting-2/2027-12-08/
LOCATION:ALCO Meeting Studio\, 301 E. 8th St.\, Michigan City\, 46360\, United States
CATEGORIES:Commission on the Social Status of African-American Males
END:VEVENT
BEGIN:VEVENT
DTSTART;TZID=America/Chicago:20271220T170000
DTEND;TZID=America/Chicago:20271220T180000
DTSTAMP:20260423T010332
CREATED:20251216T133941Z
LAST-MODIFIED:20251216T133942Z
UID:10003050-1829322000-1829325600@michigancityin.gov
SUMMARY:Licensing Board Regular Meeting
DESCRIPTION:
URL:https://michigancityin.gov/city-event/licensing-board-regular-meeting-3-2/2027-12-20/
LOCATION:ALCO Meeting Studio\, 301 E. 8th St.\, Michigan City\, 46360\, United States
CATEGORIES:Licensing Board
END:VEVENT
BEGIN:VEVENT
DTSTART;TZID=America/Chicago:20271220T180000
DTEND;TZID=America/Chicago:20271220T190000
DTSTAMP:20260423T010332
CREATED:20250609T022526Z
LAST-MODIFIED:20250609T022526Z
UID:10001954-1829325600-1829329200@michigancityin.gov
SUMMARY:Urban Enterprise Association Regular Meeting
DESCRIPTION:
URL:https://michigancityin.gov/city-event/urban-enterprise-association-regular-meeting/2027-12-20/
LOCATION:ALCO Meeting Studio\, 301 E. 8th St.\, Michigan City\, 46360\, United States
CATEGORIES:Urban Enterprise Association
END:VEVENT
BEGIN:VEVENT
DTSTART;TZID=America/Chicago:20271228T173000
DTEND;TZID=America/Chicago:20271228T183000
DTSTAMP:20260423T010332
CREATED:20250916T170603Z
LAST-MODIFIED:20250916T170604Z
UID:10002715-1830015000-1830018600@michigancityin.gov
SUMMARY:Commission for Women Regular Meeting
DESCRIPTION:
URL:https://michigancityin.gov/city-event/commission-for-women-regular-meeting-3/2027-12-28/
LOCATION:ALCO Meeting Studio\, 301 E. 8th St.\, Michigan City\, 46360\, United States
CATEGORIES:Commission for Women
END:VEVENT
BEGIN:VEVENT
DTSTART;TZID=America/Chicago:20280105T173000
DTEND;TZID=America/Chicago:20280105T183000
DTSTAMP:20260423T010332
CREATED:20260109T131155Z
LAST-MODIFIED:20260305T163559Z
UID:10003410-1830706200-1830709800@michigancityin.gov
SUMMARY:Tree Board Regular Meeting
DESCRIPTION:
URL:https://michigancityin.gov/city-event/tree-board-regular-meeting-3-2/2028-01-05/
LOCATION:ALCO Meeting Studio\, 301 E. 8th St.\, Michigan City\, 46360\, United States
CATEGORIES:Tree Board
END:VEVENT
BEGIN:VEVENT
DTSTART;TZID=America/Chicago:20280112T120000
DTEND;TZID=America/Chicago:20280112T130000
DTSTAMP:20260423T010332
CREATED:20250909T192135Z
LAST-MODIFIED:20250909T192135Z
UID:10000755-1831291200-1831294800@michigancityin.gov
SUMMARY:Commission on the Social Status of African-American Males Regular Meeting
DESCRIPTION:
URL:https://michigancityin.gov/city-event/commission-on-the-social-status-of-african-american-males-regular-meeting-2/2028-01-12/
LOCATION:ALCO Meeting Studio\, 301 E. 8th St.\, Michigan City\, 46360\, United States
CATEGORIES:Commission on the Social Status of African-American Males
END:VEVENT
BEGIN:VEVENT
DTSTART;TZID=America/Chicago:20280117T170000
DTEND;TZID=America/Chicago:20280117T180000
DTSTAMP:20260423T010332
CREATED:20251216T133941Z
LAST-MODIFIED:20251216T133942Z
UID:10003051-1831741200-1831744800@michigancityin.gov
SUMMARY:Licensing Board Regular Meeting
DESCRIPTION:
URL:https://michigancityin.gov/city-event/licensing-board-regular-meeting-3-2/2028-01-17/
LOCATION:ALCO Meeting Studio\, 301 E. 8th St.\, Michigan City\, 46360\, United States
CATEGORIES:Licensing Board
END:VEVENT
BEGIN:VEVENT
DTSTART;TZID=America/Chicago:20280117T180000
DTEND;TZID=America/Chicago:20280117T190000
DTSTAMP:20260423T010332
CREATED:20250609T022526Z
LAST-MODIFIED:20250609T022526Z
UID:10001955-1831744800-1831748400@michigancityin.gov
SUMMARY:Urban Enterprise Association Regular Meeting
DESCRIPTION:
URL:https://michigancityin.gov/city-event/urban-enterprise-association-regular-meeting/2028-01-17/
LOCATION:ALCO Meeting Studio\, 301 E. 8th St.\, Michigan City\, 46360\, United States
CATEGORIES:Urban Enterprise Association
END:VEVENT
BEGIN:VEVENT
DTSTART;TZID=America/Chicago:20280125T173000
DTEND;TZID=America/Chicago:20280125T183000
DTSTAMP:20260423T010332
CREATED:20250916T170603Z
LAST-MODIFIED:20250916T170604Z
UID:10002716-1832434200-1832437800@michigancityin.gov
SUMMARY:Commission for Women Regular Meeting
DESCRIPTION:
URL:https://michigancityin.gov/city-event/commission-for-women-regular-meeting-3/2028-01-25/
LOCATION:ALCO Meeting Studio\, 301 E. 8th St.\, Michigan City\, 46360\, United States
CATEGORIES:Commission for Women
END:VEVENT
BEGIN:VEVENT
DTSTART;TZID=America/Chicago:20280202T173000
DTEND;TZID=America/Chicago:20280202T183000
DTSTAMP:20260423T010332
CREATED:20260109T131155Z
LAST-MODIFIED:20260305T163559Z
UID:10003411-1833125400-1833129000@michigancityin.gov
SUMMARY:Tree Board Regular Meeting
DESCRIPTION:
URL:https://michigancityin.gov/city-event/tree-board-regular-meeting-3-2/2028-02-02/
LOCATION:ALCO Meeting Studio\, 301 E. 8th St.\, Michigan City\, 46360\, United States
CATEGORIES:Tree Board
END:VEVENT
BEGIN:VEVENT
DTSTART;TZID=America/Chicago:20280209T120000
DTEND;TZID=America/Chicago:20280209T130000
DTSTAMP:20260423T010332
CREATED:20250909T192135Z
LAST-MODIFIED:20250909T192135Z
UID:10000756-1833710400-1833714000@michigancityin.gov
SUMMARY:Commission on the Social Status of African-American Males Regular Meeting
DESCRIPTION:
URL:https://michigancityin.gov/city-event/commission-on-the-social-status-of-african-american-males-regular-meeting-2/2028-02-09/
LOCATION:ALCO Meeting Studio\, 301 E. 8th St.\, Michigan City\, 46360\, United States
CATEGORIES:Commission on the Social Status of African-American Males
END:VEVENT
BEGIN:VEVENT
DTSTART;TZID=America/Chicago:20280221T170000
DTEND;TZID=America/Chicago:20280221T180000
DTSTAMP:20260423T010332
CREATED:20251216T133941Z
LAST-MODIFIED:20251216T133942Z
UID:10003052-1834765200-1834768800@michigancityin.gov
SUMMARY:Licensing Board Regular Meeting
DESCRIPTION:
URL:https://michigancityin.gov/city-event/licensing-board-regular-meeting-3-2/2028-02-21/
LOCATION:ALCO Meeting Studio\, 301 E. 8th St.\, Michigan City\, 46360\, United States
CATEGORIES:Licensing Board
END:VEVENT
BEGIN:VEVENT
DTSTART;TZID=America/Chicago:20280221T180000
DTEND;TZID=America/Chicago:20280221T190000
DTSTAMP:20260423T010332
CREATED:20250609T022526Z
LAST-MODIFIED:20250609T022526Z
UID:10001956-1834768800-1834772400@michigancityin.gov
SUMMARY:Urban Enterprise Association Regular Meeting
DESCRIPTION:
URL:https://michigancityin.gov/city-event/urban-enterprise-association-regular-meeting/2028-02-21/
LOCATION:ALCO Meeting Studio\, 301 E. 8th St.\, Michigan City\, 46360\, United States
CATEGORIES:Urban Enterprise Association
END:VEVENT
BEGIN:VEVENT
DTSTART;TZID=America/Chicago:20280222T173000
DTEND;TZID=America/Chicago:20280222T183000
DTSTAMP:20260423T010332
CREATED:20250916T170603Z
LAST-MODIFIED:20250916T170604Z
UID:10002717-1834853400-1834857000@michigancityin.gov
SUMMARY:Commission for Women Regular Meeting
DESCRIPTION:
URL:https://michigancityin.gov/city-event/commission-for-women-regular-meeting-3/2028-02-22/
LOCATION:ALCO Meeting Studio\, 301 E. 8th St.\, Michigan City\, 46360\, United States
CATEGORIES:Commission for Women
END:VEVENT
BEGIN:VEVENT
DTSTART;TZID=America/Chicago:20280301T173000
DTEND;TZID=America/Chicago:20280301T183000
DTSTAMP:20260423T010332
CREATED:20260109T131155Z
LAST-MODIFIED:20260305T163559Z
UID:10003412-1835544600-1835548200@michigancityin.gov
SUMMARY:Tree Board Regular Meeting
DESCRIPTION:
URL:https://michigancityin.gov/city-event/tree-board-regular-meeting-3-2/2028-03-01/
LOCATION:ALCO Meeting Studio\, 301 E. 8th St.\, Michigan City\, 46360\, United States
CATEGORIES:Tree Board
END:VEVENT
BEGIN:VEVENT
DTSTART;TZID=America/Chicago:20280308T120000
DTEND;TZID=America/Chicago:20280308T130000
DTSTAMP:20260423T010332
CREATED:20250909T192135Z
LAST-MODIFIED:20250909T192135Z
UID:10000757-1836129600-1836133200@michigancityin.gov
SUMMARY:Commission on the Social Status of African-American Males Regular Meeting
DESCRIPTION:
URL:https://michigancityin.gov/city-event/commission-on-the-social-status-of-african-american-males-regular-meeting-2/2028-03-08/
LOCATION:ALCO Meeting Studio\, 301 E. 8th St.\, Michigan City\, 46360\, United States
CATEGORIES:Commission on the Social Status of African-American Males
END:VEVENT
BEGIN:VEVENT
DTSTART;TZID=America/Chicago:20280320T170000
DTEND;TZID=America/Chicago:20280320T180000
DTSTAMP:20260423T010332
CREATED:20251216T133941Z
LAST-MODIFIED:20251216T133942Z
UID:10003053-1837184400-1837188000@michigancityin.gov
SUMMARY:Licensing Board Regular Meeting
DESCRIPTION:
URL:https://michigancityin.gov/city-event/licensing-board-regular-meeting-3-2/2028-03-20/
LOCATION:ALCO Meeting Studio\, 301 E. 8th St.\, Michigan City\, 46360\, United States
CATEGORIES:Licensing Board
END:VEVENT
BEGIN:VEVENT
DTSTART;TZID=America/Chicago:20280320T180000
DTEND;TZID=America/Chicago:20280320T190000
DTSTAMP:20260423T010332
CREATED:20250609T022526Z
LAST-MODIFIED:20250609T022526Z
UID:10001957-1837188000-1837191600@michigancityin.gov
SUMMARY:Urban Enterprise Association Regular Meeting
DESCRIPTION:
URL:https://michigancityin.gov/city-event/urban-enterprise-association-regular-meeting/2028-03-20/
LOCATION:ALCO Meeting Studio\, 301 E. 8th St.\, Michigan City\, 46360\, United States
CATEGORIES:Urban Enterprise Association
END:VEVENT
BEGIN:VEVENT
DTSTART;TZID=America/Chicago:20280328T173000
DTEND;TZID=America/Chicago:20280328T183000
DTSTAMP:20260423T010332
CREATED:20250916T170603Z
LAST-MODIFIED:20250916T170604Z
UID:10002718-1837877400-1837881000@michigancityin.gov
SUMMARY:Commission for Women Regular Meeting
DESCRIPTION:
URL:https://michigancityin.gov/city-event/commission-for-women-regular-meeting-3/2028-03-28/
LOCATION:ALCO Meeting Studio\, 301 E. 8th St.\, Michigan City\, 46360\, United States
CATEGORIES:Commission for Women
END:VEVENT
BEGIN:VEVENT
DTSTART;TZID=America/Chicago:20280405T173000
DTEND;TZID=America/Chicago:20280405T183000
DTSTAMP:20260423T010332
CREATED:20260109T131155Z
LAST-MODIFIED:20260305T163559Z
UID:10003413-1838568600-1838572200@michigancityin.gov
SUMMARY:Tree Board Regular Meeting
DESCRIPTION:
URL:https://michigancityin.gov/city-event/tree-board-regular-meeting-3-2/2028-04-05/
LOCATION:ALCO Meeting Studio\, 301 E. 8th St.\, Michigan City\, 46360\, United States
CATEGORIES:Tree Board
END:VEVENT
BEGIN:VEVENT
DTSTART;TZID=America/Chicago:20280412T120000
DTEND;TZID=America/Chicago:20280412T130000
DTSTAMP:20260423T010332
CREATED:20250909T192135Z
LAST-MODIFIED:20250909T192135Z
UID:10000758-1839153600-1839157200@michigancityin.gov
SUMMARY:Commission on the Social Status of African-American Males Regular Meeting
DESCRIPTION:
URL:https://michigancityin.gov/city-event/commission-on-the-social-status-of-african-american-males-regular-meeting-2/2028-04-12/
LOCATION:ALCO Meeting Studio\, 301 E. 8th St.\, Michigan City\, 46360\, United States
CATEGORIES:Commission on the Social Status of African-American Males
END:VEVENT
BEGIN:VEVENT
DTSTART;TZID=America/Chicago:20280417T170000
DTEND;TZID=America/Chicago:20280417T180000
DTSTAMP:20260423T010332
CREATED:20251216T133941Z
LAST-MODIFIED:20251216T133942Z
UID:10003054-1839603600-1839607200@michigancityin.gov
SUMMARY:Licensing Board Regular Meeting
DESCRIPTION:
URL:https://michigancityin.gov/city-event/licensing-board-regular-meeting-3-2/2028-04-17/
LOCATION:ALCO Meeting Studio\, 301 E. 8th St.\, Michigan City\, 46360\, United States
CATEGORIES:Licensing Board
END:VEVENT
BEGIN:VEVENT
DTSTART;TZID=America/Chicago:20280417T180000
DTEND;TZID=America/Chicago:20280417T190000
DTSTAMP:20260423T010332
CREATED:20250609T022526Z
LAST-MODIFIED:20250609T022526Z
UID:10001958-1839607200-1839610800@michigancityin.gov
SUMMARY:Urban Enterprise Association Regular Meeting
DESCRIPTION:
URL:https://michigancityin.gov/city-event/urban-enterprise-association-regular-meeting/2028-04-17/
LOCATION:ALCO Meeting Studio\, 301 E. 8th St.\, Michigan City\, 46360\, United States
CATEGORIES:Urban Enterprise Association
END:VEVENT
BEGIN:VEVENT
DTSTART;TZID=America/Chicago:20280425T173000
DTEND;TZID=America/Chicago:20280425T183000
DTSTAMP:20260423T010332
CREATED:20250916T170603Z
LAST-MODIFIED:20250916T170604Z
UID:10002719-1840296600-1840300200@michigancityin.gov
SUMMARY:Commission for Women Regular Meeting
DESCRIPTION:
URL:https://michigancityin.gov/city-event/commission-for-women-regular-meeting-3/2028-04-25/
LOCATION:ALCO Meeting Studio\, 301 E. 8th St.\, Michigan City\, 46360\, United States
CATEGORIES:Commission for Women
END:VEVENT
BEGIN:VEVENT
DTSTART;TZID=America/Chicago:20280503T173000
DTEND;TZID=America/Chicago:20280503T183000
DTSTAMP:20260423T010332
CREATED:20260109T131155Z
LAST-MODIFIED:20260305T163559Z
UID:10003414-1840987800-1840991400@michigancityin.gov
SUMMARY:Tree Board Regular Meeting
DESCRIPTION:
URL:https://michigancityin.gov/city-event/tree-board-regular-meeting-3-2/2028-05-03/
LOCATION:ALCO Meeting Studio\, 301 E. 8th St.\, Michigan City\, 46360\, United States
CATEGORIES:Tree Board
END:VEVENT
BEGIN:VEVENT
DTSTART;TZID=America/Chicago:20280510T120000
DTEND;TZID=America/Chicago:20280510T130000
DTSTAMP:20260423T010332
CREATED:20250909T192135Z
LAST-MODIFIED:20250909T192135Z
UID:10000759-1841572800-1841576400@michigancityin.gov
SUMMARY:Commission on the Social Status of African-American Males Regular Meeting
DESCRIPTION:
URL:https://michigancityin.gov/city-event/commission-on-the-social-status-of-african-american-males-regular-meeting-2/2028-05-10/
LOCATION:ALCO Meeting Studio\, 301 E. 8th St.\, Michigan City\, 46360\, United States
CATEGORIES:Commission on the Social Status of African-American Males
END:VEVENT
BEGIN:VEVENT
DTSTART;TZID=America/Chicago:20280515T170000
DTEND;TZID=America/Chicago:20280515T180000
DTSTAMP:20260423T010332
CREATED:20251216T133941Z
LAST-MODIFIED:20251216T133942Z
UID:10003055-1842022800-1842026400@michigancityin.gov
SUMMARY:Licensing Board Regular Meeting
DESCRIPTION:
URL:https://michigancityin.gov/city-event/licensing-board-regular-meeting-3-2/2028-05-15/
LOCATION:ALCO Meeting Studio\, 301 E. 8th St.\, Michigan City\, 46360\, United States
CATEGORIES:Licensing Board
END:VEVENT
BEGIN:VEVENT
DTSTART;TZID=America/Chicago:20280515T180000
DTEND;TZID=America/Chicago:20280515T190000
DTSTAMP:20260423T010332
CREATED:20250609T022526Z
LAST-MODIFIED:20250609T022526Z
UID:10001959-1842026400-1842030000@michigancityin.gov
SUMMARY:Urban Enterprise Association Regular Meeting
DESCRIPTION:
URL:https://michigancityin.gov/city-event/urban-enterprise-association-regular-meeting/2028-05-15/
LOCATION:ALCO Meeting Studio\, 301 E. 8th St.\, Michigan City\, 46360\, United States
CATEGORIES:Urban Enterprise Association
END:VEVENT
BEGIN:VEVENT
DTSTART;TZID=America/Chicago:20280523T173000
DTEND;TZID=America/Chicago:20280523T183000
DTSTAMP:20260423T010332
CREATED:20250916T170603Z
LAST-MODIFIED:20250916T170604Z
UID:10002720-1842715800-1842719400@michigancityin.gov
SUMMARY:Commission for Women Regular Meeting
DESCRIPTION:
URL:https://michigancityin.gov/city-event/commission-for-women-regular-meeting-3/2028-05-23/
LOCATION:ALCO Meeting Studio\, 301 E. 8th St.\, Michigan City\, 46360\, United States
CATEGORIES:Commission for Women
END:VEVENT
END:VCALENDAR