BEGIN:VCALENDAR
VERSION:2.0
PRODID:-//City of Michigan City Indiana - ECPv6.15.20//NONSGML v1.0//EN
CALSCALE:GREGORIAN
METHOD:PUBLISH
X-ORIGINAL-URL:https://michigancityin.gov
X-WR-CALDESC:Events for City of Michigan City Indiana
REFRESH-INTERVAL;VALUE=DURATION:PT1H
X-Robots-Tag:noindex
X-PUBLISHED-TTL:PT1H
BEGIN:VTIMEZONE
TZID:America/Chicago
BEGIN:DAYLIGHT
TZOFFSETFROM:-0600
TZOFFSETTO:-0500
TZNAME:CDT
DTSTART:20260308T080000
END:DAYLIGHT
BEGIN:STANDARD
TZOFFSETFROM:-0500
TZOFFSETTO:-0600
TZNAME:CST
DTSTART:20261101T070000
END:STANDARD
BEGIN:DAYLIGHT
TZOFFSETFROM:-0600
TZOFFSETTO:-0500
TZNAME:CDT
DTSTART:20270314T080000
END:DAYLIGHT
BEGIN:STANDARD
TZOFFSETFROM:-0500
TZOFFSETTO:-0600
TZNAME:CST
DTSTART:20271107T070000
END:STANDARD
BEGIN:DAYLIGHT
TZOFFSETFROM:-0600
TZOFFSETTO:-0500
TZNAME:CDT
DTSTART:20280312T080000
END:DAYLIGHT
BEGIN:STANDARD
TZOFFSETFROM:-0500
TZOFFSETTO:-0600
TZNAME:CST
DTSTART:20281105T070000
END:STANDARD
BEGIN:DAYLIGHT
TZOFFSETFROM:-0600
TZOFFSETTO:-0500
TZNAME:CDT
DTSTART:20290311T080000
END:DAYLIGHT
BEGIN:STANDARD
TZOFFSETFROM:-0500
TZOFFSETTO:-0600
TZNAME:CST
DTSTART:20291104T070000
END:STANDARD
BEGIN:DAYLIGHT
TZOFFSETFROM:-0600
TZOFFSETTO:-0500
TZNAME:CDT
DTSTART:20300310T080000
END:DAYLIGHT
BEGIN:STANDARD
TZOFFSETFROM:-0500
TZOFFSETTO:-0600
TZNAME:CST
DTSTART:20301103T070000
END:STANDARD
END:VTIMEZONE
BEGIN:VEVENT
DTSTART;TZID=America/Chicago:20270518T150000
DTEND;TZID=America/Chicago:20270518T160000
DTSTAMP:20260423T032016
CREATED:20250609T014758Z
LAST-MODIFIED:20250609T014758Z
UID:10001047-1810652400-1810656000@michigancityin.gov
SUMMARY:Housing Authority Board of Commissioners Regular Meeting
DESCRIPTION:
URL:https://michigancityin.gov/city-event/housing-authority-board-of-commissioners-regular-meeting/2027-05-18/
LOCATION:Housing Authority\, 621 E Michigan Blvd\, Michigan City\, 46360\, United States
CATEGORIES:Housing Authority Board of Commissioners
END:VEVENT
BEGIN:VEVENT
DTSTART;TZID=America/Chicago:20270615T150000
DTEND;TZID=America/Chicago:20270615T160000
DTSTAMP:20260423T032016
CREATED:20250609T014758Z
LAST-MODIFIED:20250609T014758Z
UID:10001048-1813071600-1813075200@michigancityin.gov
SUMMARY:Housing Authority Board of Commissioners Regular Meeting
DESCRIPTION:
URL:https://michigancityin.gov/city-event/housing-authority-board-of-commissioners-regular-meeting/2027-06-15/
LOCATION:Housing Authority\, 621 E Michigan Blvd\, Michigan City\, 46360\, United States
CATEGORIES:Housing Authority Board of Commissioners
END:VEVENT
BEGIN:VEVENT
DTSTART;TZID=America/Chicago:20270720T150000
DTEND;TZID=America/Chicago:20270720T160000
DTSTAMP:20260423T032016
CREATED:20250609T014758Z
LAST-MODIFIED:20250609T014758Z
UID:10001049-1816095600-1816099200@michigancityin.gov
SUMMARY:Housing Authority Board of Commissioners Regular Meeting
DESCRIPTION:
URL:https://michigancityin.gov/city-event/housing-authority-board-of-commissioners-regular-meeting/2027-07-20/
LOCATION:Housing Authority\, 621 E Michigan Blvd\, Michigan City\, 46360\, United States
CATEGORIES:Housing Authority Board of Commissioners
END:VEVENT
BEGIN:VEVENT
DTSTART;TZID=America/Chicago:20270817T150000
DTEND;TZID=America/Chicago:20270817T160000
DTSTAMP:20260423T032016
CREATED:20250609T014758Z
LAST-MODIFIED:20250609T014758Z
UID:10001050-1818514800-1818518400@michigancityin.gov
SUMMARY:Housing Authority Board of Commissioners Regular Meeting
DESCRIPTION:
URL:https://michigancityin.gov/city-event/housing-authority-board-of-commissioners-regular-meeting/2027-08-17/
LOCATION:Housing Authority\, 621 E Michigan Blvd\, Michigan City\, 46360\, United States
CATEGORIES:Housing Authority Board of Commissioners
END:VEVENT
BEGIN:VEVENT
DTSTART;TZID=America/Chicago:20270921T150000
DTEND;TZID=America/Chicago:20270921T160000
DTSTAMP:20260423T032016
CREATED:20250609T014758Z
LAST-MODIFIED:20250609T014758Z
UID:10001051-1821538800-1821542400@michigancityin.gov
SUMMARY:Housing Authority Board of Commissioners Regular Meeting
DESCRIPTION:
URL:https://michigancityin.gov/city-event/housing-authority-board-of-commissioners-regular-meeting/2027-09-21/
LOCATION:Housing Authority\, 621 E Michigan Blvd\, Michigan City\, 46360\, United States
CATEGORIES:Housing Authority Board of Commissioners
END:VEVENT
BEGIN:VEVENT
DTSTART;TZID=America/Chicago:20271019T150000
DTEND;TZID=America/Chicago:20271019T160000
DTSTAMP:20260423T032016
CREATED:20250609T014758Z
LAST-MODIFIED:20250609T014758Z
UID:10001052-1823958000-1823961600@michigancityin.gov
SUMMARY:Housing Authority Board of Commissioners Regular Meeting
DESCRIPTION:
URL:https://michigancityin.gov/city-event/housing-authority-board-of-commissioners-regular-meeting/2027-10-19/
LOCATION:Housing Authority\, 621 E Michigan Blvd\, Michigan City\, 46360\, United States
CATEGORIES:Housing Authority Board of Commissioners
END:VEVENT
BEGIN:VEVENT
DTSTART;TZID=America/Chicago:20271116T150000
DTEND;TZID=America/Chicago:20271116T160000
DTSTAMP:20260423T032016
CREATED:20250609T014758Z
LAST-MODIFIED:20250609T014758Z
UID:10001053-1826377200-1826380800@michigancityin.gov
SUMMARY:Housing Authority Board of Commissioners Regular Meeting
DESCRIPTION:
URL:https://michigancityin.gov/city-event/housing-authority-board-of-commissioners-regular-meeting/2027-11-16/
LOCATION:Housing Authority\, 621 E Michigan Blvd\, Michigan City\, 46360\, United States
CATEGORIES:Housing Authority Board of Commissioners
END:VEVENT
BEGIN:VEVENT
DTSTART;TZID=America/Chicago:20271221T150000
DTEND;TZID=America/Chicago:20271221T160000
DTSTAMP:20260423T032016
CREATED:20250609T014758Z
LAST-MODIFIED:20250609T014758Z
UID:10001054-1829401200-1829404800@michigancityin.gov
SUMMARY:Housing Authority Board of Commissioners Regular Meeting
DESCRIPTION:
URL:https://michigancityin.gov/city-event/housing-authority-board-of-commissioners-regular-meeting/2027-12-21/
LOCATION:Housing Authority\, 621 E Michigan Blvd\, Michigan City\, 46360\, United States
CATEGORIES:Housing Authority Board of Commissioners
END:VEVENT
BEGIN:VEVENT
DTSTART;TZID=America/Chicago:20280118T150000
DTEND;TZID=America/Chicago:20280118T160000
DTSTAMP:20260423T032016
CREATED:20250609T014758Z
LAST-MODIFIED:20250609T014758Z
UID:10001055-1831820400-1831824000@michigancityin.gov
SUMMARY:Housing Authority Board of Commissioners Regular Meeting
DESCRIPTION:
URL:https://michigancityin.gov/city-event/housing-authority-board-of-commissioners-regular-meeting/2028-01-18/
LOCATION:Housing Authority\, 621 E Michigan Blvd\, Michigan City\, 46360\, United States
CATEGORIES:Housing Authority Board of Commissioners
END:VEVENT
BEGIN:VEVENT
DTSTART;TZID=America/Chicago:20280215T150000
DTEND;TZID=America/Chicago:20280215T160000
DTSTAMP:20260423T032016
CREATED:20250609T014758Z
LAST-MODIFIED:20250609T014758Z
UID:10001056-1834239600-1834243200@michigancityin.gov
SUMMARY:Housing Authority Board of Commissioners Regular Meeting
DESCRIPTION:
URL:https://michigancityin.gov/city-event/housing-authority-board-of-commissioners-regular-meeting/2028-02-15/
LOCATION:Housing Authority\, 621 E Michigan Blvd\, Michigan City\, 46360\, United States
CATEGORIES:Housing Authority Board of Commissioners
END:VEVENT
BEGIN:VEVENT
DTSTART;TZID=America/Chicago:20280321T150000
DTEND;TZID=America/Chicago:20280321T160000
DTSTAMP:20260423T032016
CREATED:20250609T014758Z
LAST-MODIFIED:20250609T014758Z
UID:10001057-1837263600-1837267200@michigancityin.gov
SUMMARY:Housing Authority Board of Commissioners Regular Meeting
DESCRIPTION:
URL:https://michigancityin.gov/city-event/housing-authority-board-of-commissioners-regular-meeting/2028-03-21/
LOCATION:Housing Authority\, 621 E Michigan Blvd\, Michigan City\, 46360\, United States
CATEGORIES:Housing Authority Board of Commissioners
END:VEVENT
BEGIN:VEVENT
DTSTART;TZID=America/Chicago:20280418T150000
DTEND;TZID=America/Chicago:20280418T160000
DTSTAMP:20260423T032016
CREATED:20250609T014758Z
LAST-MODIFIED:20250609T014758Z
UID:10001058-1839682800-1839686400@michigancityin.gov
SUMMARY:Housing Authority Board of Commissioners Regular Meeting
DESCRIPTION:
URL:https://michigancityin.gov/city-event/housing-authority-board-of-commissioners-regular-meeting/2028-04-18/
LOCATION:Housing Authority\, 621 E Michigan Blvd\, Michigan City\, 46360\, United States
CATEGORIES:Housing Authority Board of Commissioners
END:VEVENT
BEGIN:VEVENT
DTSTART;TZID=America/Chicago:20280516T150000
DTEND;TZID=America/Chicago:20280516T160000
DTSTAMP:20260423T032016
CREATED:20250609T014758Z
LAST-MODIFIED:20250609T014758Z
UID:10001059-1842102000-1842105600@michigancityin.gov
SUMMARY:Housing Authority Board of Commissioners Regular Meeting
DESCRIPTION:
URL:https://michigancityin.gov/city-event/housing-authority-board-of-commissioners-regular-meeting/2028-05-16/
LOCATION:Housing Authority\, 621 E Michigan Blvd\, Michigan City\, 46360\, United States
CATEGORIES:Housing Authority Board of Commissioners
END:VEVENT
BEGIN:VEVENT
DTSTART;TZID=America/Chicago:20280620T150000
DTEND;TZID=America/Chicago:20280620T160000
DTSTAMP:20260423T032016
CREATED:20250609T014758Z
LAST-MODIFIED:20250609T014758Z
UID:10001060-1845126000-1845129600@michigancityin.gov
SUMMARY:Housing Authority Board of Commissioners Regular Meeting
DESCRIPTION:
URL:https://michigancityin.gov/city-event/housing-authority-board-of-commissioners-regular-meeting/2028-06-20/
LOCATION:Housing Authority\, 621 E Michigan Blvd\, Michigan City\, 46360\, United States
CATEGORIES:Housing Authority Board of Commissioners
END:VEVENT
BEGIN:VEVENT
DTSTART;TZID=America/Chicago:20280718T150000
DTEND;TZID=America/Chicago:20280718T160000
DTSTAMP:20260423T032016
CREATED:20250609T014758Z
LAST-MODIFIED:20250609T014758Z
UID:10001061-1847545200-1847548800@michigancityin.gov
SUMMARY:Housing Authority Board of Commissioners Regular Meeting
DESCRIPTION:
URL:https://michigancityin.gov/city-event/housing-authority-board-of-commissioners-regular-meeting/2028-07-18/
LOCATION:Housing Authority\, 621 E Michigan Blvd\, Michigan City\, 46360\, United States
CATEGORIES:Housing Authority Board of Commissioners
END:VEVENT
BEGIN:VEVENT
DTSTART;TZID=America/Chicago:20280815T150000
DTEND;TZID=America/Chicago:20280815T160000
DTSTAMP:20260423T032016
CREATED:20250609T014758Z
LAST-MODIFIED:20250609T014758Z
UID:10001062-1849964400-1849968000@michigancityin.gov
SUMMARY:Housing Authority Board of Commissioners Regular Meeting
DESCRIPTION:
URL:https://michigancityin.gov/city-event/housing-authority-board-of-commissioners-regular-meeting/2028-08-15/
LOCATION:Housing Authority\, 621 E Michigan Blvd\, Michigan City\, 46360\, United States
CATEGORIES:Housing Authority Board of Commissioners
END:VEVENT
BEGIN:VEVENT
DTSTART;TZID=America/Chicago:20280919T150000
DTEND;TZID=America/Chicago:20280919T160000
DTSTAMP:20260423T032016
CREATED:20250609T014758Z
LAST-MODIFIED:20250609T014758Z
UID:10001063-1852988400-1852992000@michigancityin.gov
SUMMARY:Housing Authority Board of Commissioners Regular Meeting
DESCRIPTION:
URL:https://michigancityin.gov/city-event/housing-authority-board-of-commissioners-regular-meeting/2028-09-19/
LOCATION:Housing Authority\, 621 E Michigan Blvd\, Michigan City\, 46360\, United States
CATEGORIES:Housing Authority Board of Commissioners
END:VEVENT
BEGIN:VEVENT
DTSTART;TZID=America/Chicago:20281017T150000
DTEND;TZID=America/Chicago:20281017T160000
DTSTAMP:20260423T032016
CREATED:20250609T014758Z
LAST-MODIFIED:20250609T014758Z
UID:10001064-1855407600-1855411200@michigancityin.gov
SUMMARY:Housing Authority Board of Commissioners Regular Meeting
DESCRIPTION:
URL:https://michigancityin.gov/city-event/housing-authority-board-of-commissioners-regular-meeting/2028-10-17/
LOCATION:Housing Authority\, 621 E Michigan Blvd\, Michigan City\, 46360\, United States
CATEGORIES:Housing Authority Board of Commissioners
END:VEVENT
BEGIN:VEVENT
DTSTART;TZID=America/Chicago:20281121T150000
DTEND;TZID=America/Chicago:20281121T160000
DTSTAMP:20260423T032016
CREATED:20250609T014758Z
LAST-MODIFIED:20250609T014758Z
UID:10001065-1858431600-1858435200@michigancityin.gov
SUMMARY:Housing Authority Board of Commissioners Regular Meeting
DESCRIPTION:
URL:https://michigancityin.gov/city-event/housing-authority-board-of-commissioners-regular-meeting/2028-11-21/
LOCATION:Housing Authority\, 621 E Michigan Blvd\, Michigan City\, 46360\, United States
CATEGORIES:Housing Authority Board of Commissioners
END:VEVENT
BEGIN:VEVENT
DTSTART;TZID=America/Chicago:20281219T150000
DTEND;TZID=America/Chicago:20281219T160000
DTSTAMP:20260423T032016
CREATED:20250609T014758Z
LAST-MODIFIED:20250609T014758Z
UID:10001066-1860850800-1860854400@michigancityin.gov
SUMMARY:Housing Authority Board of Commissioners Regular Meeting
DESCRIPTION:
URL:https://michigancityin.gov/city-event/housing-authority-board-of-commissioners-regular-meeting/2028-12-19/
LOCATION:Housing Authority\, 621 E Michigan Blvd\, Michigan City\, 46360\, United States
CATEGORIES:Housing Authority Board of Commissioners
END:VEVENT
BEGIN:VEVENT
DTSTART;TZID=America/Chicago:20290116T150000
DTEND;TZID=America/Chicago:20290116T160000
DTSTAMP:20260423T032016
CREATED:20250609T014758Z
LAST-MODIFIED:20250609T014758Z
UID:10001067-1863270000-1863273600@michigancityin.gov
SUMMARY:Housing Authority Board of Commissioners Regular Meeting
DESCRIPTION:
URL:https://michigancityin.gov/city-event/housing-authority-board-of-commissioners-regular-meeting/2029-01-16/
LOCATION:Housing Authority\, 621 E Michigan Blvd\, Michigan City\, 46360\, United States
CATEGORIES:Housing Authority Board of Commissioners
END:VEVENT
BEGIN:VEVENT
DTSTART;TZID=America/Chicago:20290220T150000
DTEND;TZID=America/Chicago:20290220T160000
DTSTAMP:20260423T032016
CREATED:20250609T014758Z
LAST-MODIFIED:20250609T014758Z
UID:10001068-1866294000-1866297600@michigancityin.gov
SUMMARY:Housing Authority Board of Commissioners Regular Meeting
DESCRIPTION:
URL:https://michigancityin.gov/city-event/housing-authority-board-of-commissioners-regular-meeting/2029-02-20/
LOCATION:Housing Authority\, 621 E Michigan Blvd\, Michigan City\, 46360\, United States
CATEGORIES:Housing Authority Board of Commissioners
END:VEVENT
BEGIN:VEVENT
DTSTART;TZID=America/Chicago:20290320T150000
DTEND;TZID=America/Chicago:20290320T160000
DTSTAMP:20260423T032016
CREATED:20250609T014758Z
LAST-MODIFIED:20250609T014758Z
UID:10001069-1868713200-1868716800@michigancityin.gov
SUMMARY:Housing Authority Board of Commissioners Regular Meeting
DESCRIPTION:
URL:https://michigancityin.gov/city-event/housing-authority-board-of-commissioners-regular-meeting/2029-03-20/
LOCATION:Housing Authority\, 621 E Michigan Blvd\, Michigan City\, 46360\, United States
CATEGORIES:Housing Authority Board of Commissioners
END:VEVENT
BEGIN:VEVENT
DTSTART;TZID=America/Chicago:20290417T150000
DTEND;TZID=America/Chicago:20290417T160000
DTSTAMP:20260423T032016
CREATED:20250609T014758Z
LAST-MODIFIED:20250609T014758Z
UID:10001070-1871132400-1871136000@michigancityin.gov
SUMMARY:Housing Authority Board of Commissioners Regular Meeting
DESCRIPTION:
URL:https://michigancityin.gov/city-event/housing-authority-board-of-commissioners-regular-meeting/2029-04-17/
LOCATION:Housing Authority\, 621 E Michigan Blvd\, Michigan City\, 46360\, United States
CATEGORIES:Housing Authority Board of Commissioners
END:VEVENT
BEGIN:VEVENT
DTSTART;TZID=America/Chicago:20290515T150000
DTEND;TZID=America/Chicago:20290515T160000
DTSTAMP:20260423T032016
CREATED:20250609T014758Z
LAST-MODIFIED:20250609T014758Z
UID:10001071-1873551600-1873555200@michigancityin.gov
SUMMARY:Housing Authority Board of Commissioners Regular Meeting
DESCRIPTION:
URL:https://michigancityin.gov/city-event/housing-authority-board-of-commissioners-regular-meeting/2029-05-15/
LOCATION:Housing Authority\, 621 E Michigan Blvd\, Michigan City\, 46360\, United States
CATEGORIES:Housing Authority Board of Commissioners
END:VEVENT
BEGIN:VEVENT
DTSTART;TZID=America/Chicago:20290619T150000
DTEND;TZID=America/Chicago:20290619T160000
DTSTAMP:20260423T032016
CREATED:20250609T014758Z
LAST-MODIFIED:20250609T014758Z
UID:10001072-1876575600-1876579200@michigancityin.gov
SUMMARY:Housing Authority Board of Commissioners Regular Meeting
DESCRIPTION:
URL:https://michigancityin.gov/city-event/housing-authority-board-of-commissioners-regular-meeting/2029-06-19/
LOCATION:Housing Authority\, 621 E Michigan Blvd\, Michigan City\, 46360\, United States
CATEGORIES:Housing Authority Board of Commissioners
END:VEVENT
BEGIN:VEVENT
DTSTART;TZID=America/Chicago:20290717T150000
DTEND;TZID=America/Chicago:20290717T160000
DTSTAMP:20260423T032016
CREATED:20250609T014758Z
LAST-MODIFIED:20250609T014758Z
UID:10001073-1878994800-1878998400@michigancityin.gov
SUMMARY:Housing Authority Board of Commissioners Regular Meeting
DESCRIPTION:
URL:https://michigancityin.gov/city-event/housing-authority-board-of-commissioners-regular-meeting/2029-07-17/
LOCATION:Housing Authority\, 621 E Michigan Blvd\, Michigan City\, 46360\, United States
CATEGORIES:Housing Authority Board of Commissioners
END:VEVENT
BEGIN:VEVENT
DTSTART;TZID=America/Chicago:20290821T150000
DTEND;TZID=America/Chicago:20290821T160000
DTSTAMP:20260423T032016
CREATED:20250609T014758Z
LAST-MODIFIED:20250609T014758Z
UID:10001074-1882018800-1882022400@michigancityin.gov
SUMMARY:Housing Authority Board of Commissioners Regular Meeting
DESCRIPTION:
URL:https://michigancityin.gov/city-event/housing-authority-board-of-commissioners-regular-meeting/2029-08-21/
LOCATION:Housing Authority\, 621 E Michigan Blvd\, Michigan City\, 46360\, United States
CATEGORIES:Housing Authority Board of Commissioners
END:VEVENT
BEGIN:VEVENT
DTSTART;TZID=America/Chicago:20290918T150000
DTEND;TZID=America/Chicago:20290918T160000
DTSTAMP:20260423T032016
CREATED:20250609T014758Z
LAST-MODIFIED:20250609T014758Z
UID:10001075-1884438000-1884441600@michigancityin.gov
SUMMARY:Housing Authority Board of Commissioners Regular Meeting
DESCRIPTION:
URL:https://michigancityin.gov/city-event/housing-authority-board-of-commissioners-regular-meeting/2029-09-18/
LOCATION:Housing Authority\, 621 E Michigan Blvd\, Michigan City\, 46360\, United States
CATEGORIES:Housing Authority Board of Commissioners
END:VEVENT
BEGIN:VEVENT
DTSTART;TZID=America/Chicago:20291016T150000
DTEND;TZID=America/Chicago:20291016T160000
DTSTAMP:20260423T032016
CREATED:20250609T014758Z
LAST-MODIFIED:20250609T014758Z
UID:10001076-1886857200-1886860800@michigancityin.gov
SUMMARY:Housing Authority Board of Commissioners Regular Meeting
DESCRIPTION:
URL:https://michigancityin.gov/city-event/housing-authority-board-of-commissioners-regular-meeting/2029-10-16/
LOCATION:Housing Authority\, 621 E Michigan Blvd\, Michigan City\, 46360\, United States
CATEGORIES:Housing Authority Board of Commissioners
END:VEVENT
END:VCALENDAR