BEGIN:VCALENDAR
VERSION:2.0
PRODID:-//City of Michigan City Indiana - ECPv6.15.20//NONSGML v1.0//EN
CALSCALE:GREGORIAN
METHOD:PUBLISH
X-WR-CALNAME:City of Michigan City Indiana
X-ORIGINAL-URL:https://michigancityin.gov
X-WR-CALDESC:Events for City of Michigan City Indiana
REFRESH-INTERVAL;VALUE=DURATION:PT1H
X-Robots-Tag:noindex
X-PUBLISHED-TTL:PT1H
BEGIN:VTIMEZONE
TZID:America/Chicago
BEGIN:DAYLIGHT
TZOFFSETFROM:-0600
TZOFFSETTO:-0500
TZNAME:CDT
DTSTART:20280312T080000
END:DAYLIGHT
BEGIN:STANDARD
TZOFFSETFROM:-0500
TZOFFSETTO:-0600
TZNAME:CST
DTSTART:20281105T070000
END:STANDARD
BEGIN:DAYLIGHT
TZOFFSETFROM:-0600
TZOFFSETTO:-0500
TZNAME:CDT
DTSTART:20290311T080000
END:DAYLIGHT
BEGIN:STANDARD
TZOFFSETFROM:-0500
TZOFFSETTO:-0600
TZNAME:CST
DTSTART:20291104T070000
END:STANDARD
BEGIN:DAYLIGHT
TZOFFSETFROM:-0600
TZOFFSETTO:-0500
TZNAME:CDT
DTSTART:20300310T080000
END:DAYLIGHT
BEGIN:STANDARD
TZOFFSETFROM:-0500
TZOFFSETTO:-0600
TZNAME:CST
DTSTART:20301103T070000
END:STANDARD
BEGIN:DAYLIGHT
TZOFFSETFROM:-0600
TZOFFSETTO:-0500
TZNAME:CDT
DTSTART:20310309T080000
END:DAYLIGHT
BEGIN:STANDARD
TZOFFSETFROM:-0500
TZOFFSETTO:-0600
TZNAME:CST
DTSTART:20311102T070000
END:STANDARD
END:VTIMEZONE
BEGIN:VEVENT
DTSTART;TZID=America/Chicago:20290515T150000
DTEND;TZID=America/Chicago:20290515T160000
DTSTAMP:20260423T062938
CREATED:20250609T014758Z
LAST-MODIFIED:20250609T014758Z
UID:10001071-1873551600-1873555200@michigancityin.gov
SUMMARY:Housing Authority Board of Commissioners Regular Meeting
DESCRIPTION:
URL:https://michigancityin.gov/city-event/housing-authority-board-of-commissioners-regular-meeting/2029-05-15/
LOCATION:Housing Authority\, 621 E Michigan Blvd\, Michigan City\, 46360\, United States
CATEGORIES:Housing Authority Board of Commissioners
END:VEVENT
BEGIN:VEVENT
DTSTART;TZID=America/Chicago:20290619T150000
DTEND;TZID=America/Chicago:20290619T160000
DTSTAMP:20260423T062938
CREATED:20250609T014758Z
LAST-MODIFIED:20250609T014758Z
UID:10001072-1876575600-1876579200@michigancityin.gov
SUMMARY:Housing Authority Board of Commissioners Regular Meeting
DESCRIPTION:
URL:https://michigancityin.gov/city-event/housing-authority-board-of-commissioners-regular-meeting/2029-06-19/
LOCATION:Housing Authority\, 621 E Michigan Blvd\, Michigan City\, 46360\, United States
CATEGORIES:Housing Authority Board of Commissioners
END:VEVENT
BEGIN:VEVENT
DTSTART;TZID=America/Chicago:20290717T150000
DTEND;TZID=America/Chicago:20290717T160000
DTSTAMP:20260423T062938
CREATED:20250609T014758Z
LAST-MODIFIED:20250609T014758Z
UID:10001073-1878994800-1878998400@michigancityin.gov
SUMMARY:Housing Authority Board of Commissioners Regular Meeting
DESCRIPTION:
URL:https://michigancityin.gov/city-event/housing-authority-board-of-commissioners-regular-meeting/2029-07-17/
LOCATION:Housing Authority\, 621 E Michigan Blvd\, Michigan City\, 46360\, United States
CATEGORIES:Housing Authority Board of Commissioners
END:VEVENT
BEGIN:VEVENT
DTSTART;TZID=America/Chicago:20290821T150000
DTEND;TZID=America/Chicago:20290821T160000
DTSTAMP:20260423T062938
CREATED:20250609T014758Z
LAST-MODIFIED:20250609T014758Z
UID:10001074-1882018800-1882022400@michigancityin.gov
SUMMARY:Housing Authority Board of Commissioners Regular Meeting
DESCRIPTION:
URL:https://michigancityin.gov/city-event/housing-authority-board-of-commissioners-regular-meeting/2029-08-21/
LOCATION:Housing Authority\, 621 E Michigan Blvd\, Michigan City\, 46360\, United States
CATEGORIES:Housing Authority Board of Commissioners
END:VEVENT
BEGIN:VEVENT
DTSTART;TZID=America/Chicago:20290918T150000
DTEND;TZID=America/Chicago:20290918T160000
DTSTAMP:20260423T062938
CREATED:20250609T014758Z
LAST-MODIFIED:20250609T014758Z
UID:10001075-1884438000-1884441600@michigancityin.gov
SUMMARY:Housing Authority Board of Commissioners Regular Meeting
DESCRIPTION:
URL:https://michigancityin.gov/city-event/housing-authority-board-of-commissioners-regular-meeting/2029-09-18/
LOCATION:Housing Authority\, 621 E Michigan Blvd\, Michigan City\, 46360\, United States
CATEGORIES:Housing Authority Board of Commissioners
END:VEVENT
BEGIN:VEVENT
DTSTART;TZID=America/Chicago:20291016T150000
DTEND;TZID=America/Chicago:20291016T160000
DTSTAMP:20260423T062938
CREATED:20250609T014758Z
LAST-MODIFIED:20250609T014758Z
UID:10001076-1886857200-1886860800@michigancityin.gov
SUMMARY:Housing Authority Board of Commissioners Regular Meeting
DESCRIPTION:
URL:https://michigancityin.gov/city-event/housing-authority-board-of-commissioners-regular-meeting/2029-10-16/
LOCATION:Housing Authority\, 621 E Michigan Blvd\, Michigan City\, 46360\, United States
CATEGORIES:Housing Authority Board of Commissioners
END:VEVENT
BEGIN:VEVENT
DTSTART;TZID=America/Chicago:20291120T150000
DTEND;TZID=America/Chicago:20291120T160000
DTSTAMP:20260423T062938
CREATED:20250609T014758Z
LAST-MODIFIED:20250609T014758Z
UID:10001077-1889881200-1889884800@michigancityin.gov
SUMMARY:Housing Authority Board of Commissioners Regular Meeting
DESCRIPTION:
URL:https://michigancityin.gov/city-event/housing-authority-board-of-commissioners-regular-meeting/2029-11-20/
LOCATION:Housing Authority\, 621 E Michigan Blvd\, Michigan City\, 46360\, United States
CATEGORIES:Housing Authority Board of Commissioners
END:VEVENT
BEGIN:VEVENT
DTSTART;TZID=America/Chicago:20291218T150000
DTEND;TZID=America/Chicago:20291218T160000
DTSTAMP:20260423T062938
CREATED:20250609T014758Z
LAST-MODIFIED:20250609T014758Z
UID:10001078-1892300400-1892304000@michigancityin.gov
SUMMARY:Housing Authority Board of Commissioners Regular Meeting
DESCRIPTION:
URL:https://michigancityin.gov/city-event/housing-authority-board-of-commissioners-regular-meeting/2029-12-18/
LOCATION:Housing Authority\, 621 E Michigan Blvd\, Michigan City\, 46360\, United States
CATEGORIES:Housing Authority Board of Commissioners
END:VEVENT
BEGIN:VEVENT
DTSTART;TZID=America/Chicago:20300115T150000
DTEND;TZID=America/Chicago:20300115T160000
DTSTAMP:20260423T062938
CREATED:20250609T014758Z
LAST-MODIFIED:20250609T014758Z
UID:10001079-1894719600-1894723200@michigancityin.gov
SUMMARY:Housing Authority Board of Commissioners Regular Meeting
DESCRIPTION:
URL:https://michigancityin.gov/city-event/housing-authority-board-of-commissioners-regular-meeting/2030-01-15/
LOCATION:Housing Authority\, 621 E Michigan Blvd\, Michigan City\, 46360\, United States
CATEGORIES:Housing Authority Board of Commissioners
END:VEVENT
BEGIN:VEVENT
DTSTART;TZID=America/Chicago:20300219T150000
DTEND;TZID=America/Chicago:20300219T160000
DTSTAMP:20260423T062938
CREATED:20250609T014758Z
LAST-MODIFIED:20250609T014758Z
UID:10001080-1897743600-1897747200@michigancityin.gov
SUMMARY:Housing Authority Board of Commissioners Regular Meeting
DESCRIPTION:
URL:https://michigancityin.gov/city-event/housing-authority-board-of-commissioners-regular-meeting/2030-02-19/
LOCATION:Housing Authority\, 621 E Michigan Blvd\, Michigan City\, 46360\, United States
CATEGORIES:Housing Authority Board of Commissioners
END:VEVENT
BEGIN:VEVENT
DTSTART;TZID=America/Chicago:20300319T150000
DTEND;TZID=America/Chicago:20300319T160000
DTSTAMP:20260423T062938
CREATED:20250609T014758Z
LAST-MODIFIED:20250609T014758Z
UID:10001081-1900162800-1900166400@michigancityin.gov
SUMMARY:Housing Authority Board of Commissioners Regular Meeting
DESCRIPTION:
URL:https://michigancityin.gov/city-event/housing-authority-board-of-commissioners-regular-meeting/2030-03-19/
LOCATION:Housing Authority\, 621 E Michigan Blvd\, Michigan City\, 46360\, United States
CATEGORIES:Housing Authority Board of Commissioners
END:VEVENT
BEGIN:VEVENT
DTSTART;TZID=America/Chicago:20300416T150000
DTEND;TZID=America/Chicago:20300416T160000
DTSTAMP:20260423T062938
CREATED:20250609T014758Z
LAST-MODIFIED:20250609T014758Z
UID:10001082-1902582000-1902585600@michigancityin.gov
SUMMARY:Housing Authority Board of Commissioners Regular Meeting
DESCRIPTION:
URL:https://michigancityin.gov/city-event/housing-authority-board-of-commissioners-regular-meeting/2030-04-16/
LOCATION:Housing Authority\, 621 E Michigan Blvd\, Michigan City\, 46360\, United States
CATEGORIES:Housing Authority Board of Commissioners
END:VEVENT
BEGIN:VEVENT
DTSTART;TZID=America/Chicago:20300521T150000
DTEND;TZID=America/Chicago:20300521T160000
DTSTAMP:20260423T062938
CREATED:20250609T014758Z
LAST-MODIFIED:20250609T014758Z
UID:10001083-1905606000-1905609600@michigancityin.gov
SUMMARY:Housing Authority Board of Commissioners Regular Meeting
DESCRIPTION:
URL:https://michigancityin.gov/city-event/housing-authority-board-of-commissioners-regular-meeting/2030-05-21/
LOCATION:Housing Authority\, 621 E Michigan Blvd\, Michigan City\, 46360\, United States
CATEGORIES:Housing Authority Board of Commissioners
END:VEVENT
END:VCALENDAR