BEGIN:VCALENDAR
VERSION:2.0
PRODID:-//City of Michigan City Indiana - ECPv6.15.20//NONSGML v1.0//EN
CALSCALE:GREGORIAN
METHOD:PUBLISH
X-WR-CALNAME:City of Michigan City Indiana
X-ORIGINAL-URL:https://michigancityin.gov
X-WR-CALDESC:Events for City of Michigan City Indiana
REFRESH-INTERVAL;VALUE=DURATION:PT1H
X-Robots-Tag:noindex
X-PUBLISHED-TTL:PT1H
BEGIN:VTIMEZONE
TZID:America/Chicago
BEGIN:DAYLIGHT
TZOFFSETFROM:-0600
TZOFFSETTO:-0500
TZNAME:CDT
DTSTART:20260308T080000
END:DAYLIGHT
BEGIN:STANDARD
TZOFFSETFROM:-0500
TZOFFSETTO:-0600
TZNAME:CST
DTSTART:20261101T070000
END:STANDARD
BEGIN:DAYLIGHT
TZOFFSETFROM:-0600
TZOFFSETTO:-0500
TZNAME:CDT
DTSTART:20270314T080000
END:DAYLIGHT
BEGIN:STANDARD
TZOFFSETFROM:-0500
TZOFFSETTO:-0600
TZNAME:CST
DTSTART:20271107T070000
END:STANDARD
BEGIN:DAYLIGHT
TZOFFSETFROM:-0600
TZOFFSETTO:-0500
TZNAME:CDT
DTSTART:20280312T080000
END:DAYLIGHT
BEGIN:STANDARD
TZOFFSETFROM:-0500
TZOFFSETTO:-0600
TZNAME:CST
DTSTART:20281105T070000
END:STANDARD
BEGIN:DAYLIGHT
TZOFFSETFROM:-0600
TZOFFSETTO:-0500
TZNAME:CDT
DTSTART:20290311T080000
END:DAYLIGHT
BEGIN:STANDARD
TZOFFSETFROM:-0500
TZOFFSETTO:-0600
TZNAME:CST
DTSTART:20291104T070000
END:STANDARD
BEGIN:DAYLIGHT
TZOFFSETFROM:-0600
TZOFFSETTO:-0500
TZNAME:CDT
DTSTART:20300310T080000
END:DAYLIGHT
BEGIN:STANDARD
TZOFFSETFROM:-0500
TZOFFSETTO:-0600
TZNAME:CST
DTSTART:20301103T070000
END:STANDARD
END:VTIMEZONE
BEGIN:VEVENT
DTSTART;TZID=America/Chicago:20270510T160000
DTEND;TZID=America/Chicago:20270510T170000
DTSTAMP:20260422T181726
CREATED:20250609T021656Z
LAST-MODIFIED:20250609T021656Z
UID:10001647-1809964800-1809968400@michigancityin.gov
SUMMARY:Redevelopment Commission Executive Meeting
DESCRIPTION:
URL:https://michigancityin.gov/city-event/redevelopment-commission-executive-meeting/2027-05-10/
LOCATION:Planning Conference Room (East)\, 100 E Michigan Blvd\, Michigan City\, 46360\, United States
CATEGORIES:Redevelopment Commission
END:VEVENT
BEGIN:VEVENT
DTSTART;TZID=America/Chicago:20270614T160000
DTEND;TZID=America/Chicago:20270614T170000
DTSTAMP:20260422T181726
CREATED:20250609T021656Z
LAST-MODIFIED:20250609T021656Z
UID:10001648-1812988800-1812992400@michigancityin.gov
SUMMARY:Redevelopment Commission Executive Meeting
DESCRIPTION:
URL:https://michigancityin.gov/city-event/redevelopment-commission-executive-meeting/2027-06-14/
LOCATION:Planning Conference Room (East)\, 100 E Michigan Blvd\, Michigan City\, 46360\, United States
CATEGORIES:Redevelopment Commission
END:VEVENT
BEGIN:VEVENT
DTSTART;TZID=America/Chicago:20270712T160000
DTEND;TZID=America/Chicago:20270712T170000
DTSTAMP:20260422T181726
CREATED:20250609T021656Z
LAST-MODIFIED:20250609T021656Z
UID:10001649-1815408000-1815411600@michigancityin.gov
SUMMARY:Redevelopment Commission Executive Meeting
DESCRIPTION:
URL:https://michigancityin.gov/city-event/redevelopment-commission-executive-meeting/2027-07-12/
LOCATION:Planning Conference Room (East)\, 100 E Michigan Blvd\, Michigan City\, 46360\, United States
CATEGORIES:Redevelopment Commission
END:VEVENT
BEGIN:VEVENT
DTSTART;TZID=America/Chicago:20270809T160000
DTEND;TZID=America/Chicago:20270809T170000
DTSTAMP:20260422T181726
CREATED:20250609T021656Z
LAST-MODIFIED:20250609T021656Z
UID:10001650-1817827200-1817830800@michigancityin.gov
SUMMARY:Redevelopment Commission Executive Meeting
DESCRIPTION:
URL:https://michigancityin.gov/city-event/redevelopment-commission-executive-meeting/2027-08-09/
LOCATION:Planning Conference Room (East)\, 100 E Michigan Blvd\, Michigan City\, 46360\, United States
CATEGORIES:Redevelopment Commission
END:VEVENT
BEGIN:VEVENT
DTSTART;TZID=America/Chicago:20270913T160000
DTEND;TZID=America/Chicago:20270913T170000
DTSTAMP:20260422T181726
CREATED:20250609T021656Z
LAST-MODIFIED:20250609T021656Z
UID:10001651-1820851200-1820854800@michigancityin.gov
SUMMARY:Redevelopment Commission Executive Meeting
DESCRIPTION:
URL:https://michigancityin.gov/city-event/redevelopment-commission-executive-meeting/2027-09-13/
LOCATION:Planning Conference Room (East)\, 100 E Michigan Blvd\, Michigan City\, 46360\, United States
CATEGORIES:Redevelopment Commission
END:VEVENT
BEGIN:VEVENT
DTSTART;TZID=America/Chicago:20271011T160000
DTEND;TZID=America/Chicago:20271011T170000
DTSTAMP:20260422T181726
CREATED:20250609T021656Z
LAST-MODIFIED:20250609T021656Z
UID:10001652-1823270400-1823274000@michigancityin.gov
SUMMARY:Redevelopment Commission Executive Meeting
DESCRIPTION:
URL:https://michigancityin.gov/city-event/redevelopment-commission-executive-meeting/2027-10-11/
LOCATION:Planning Conference Room (East)\, 100 E Michigan Blvd\, Michigan City\, 46360\, United States
CATEGORIES:Redevelopment Commission
END:VEVENT
BEGIN:VEVENT
DTSTART;TZID=America/Chicago:20271108T160000
DTEND;TZID=America/Chicago:20271108T170000
DTSTAMP:20260422T181726
CREATED:20250609T021656Z
LAST-MODIFIED:20250609T021656Z
UID:10001653-1825689600-1825693200@michigancityin.gov
SUMMARY:Redevelopment Commission Executive Meeting
DESCRIPTION:
URL:https://michigancityin.gov/city-event/redevelopment-commission-executive-meeting/2027-11-08/
LOCATION:Planning Conference Room (East)\, 100 E Michigan Blvd\, Michigan City\, 46360\, United States
CATEGORIES:Redevelopment Commission
END:VEVENT
BEGIN:VEVENT
DTSTART;TZID=America/Chicago:20271213T160000
DTEND;TZID=America/Chicago:20271213T170000
DTSTAMP:20260422T181726
CREATED:20250609T021656Z
LAST-MODIFIED:20250609T021656Z
UID:10001654-1828713600-1828717200@michigancityin.gov
SUMMARY:Redevelopment Commission Executive Meeting
DESCRIPTION:
URL:https://michigancityin.gov/city-event/redevelopment-commission-executive-meeting/2027-12-13/
LOCATION:Planning Conference Room (East)\, 100 E Michigan Blvd\, Michigan City\, 46360\, United States
CATEGORIES:Redevelopment Commission
END:VEVENT
BEGIN:VEVENT
DTSTART;TZID=America/Chicago:20280110T160000
DTEND;TZID=America/Chicago:20280110T170000
DTSTAMP:20260422T181726
CREATED:20250609T021656Z
LAST-MODIFIED:20250609T021656Z
UID:10001655-1831132800-1831136400@michigancityin.gov
SUMMARY:Redevelopment Commission Executive Meeting
DESCRIPTION:
URL:https://michigancityin.gov/city-event/redevelopment-commission-executive-meeting/2028-01-10/
LOCATION:Planning Conference Room (East)\, 100 E Michigan Blvd\, Michigan City\, 46360\, United States
CATEGORIES:Redevelopment Commission
END:VEVENT
BEGIN:VEVENT
DTSTART;TZID=America/Chicago:20280214T160000
DTEND;TZID=America/Chicago:20280214T170000
DTSTAMP:20260422T181726
CREATED:20250609T021656Z
LAST-MODIFIED:20250609T021656Z
UID:10001656-1834156800-1834160400@michigancityin.gov
SUMMARY:Redevelopment Commission Executive Meeting
DESCRIPTION:
URL:https://michigancityin.gov/city-event/redevelopment-commission-executive-meeting/2028-02-14/
LOCATION:Planning Conference Room (East)\, 100 E Michigan Blvd\, Michigan City\, 46360\, United States
CATEGORIES:Redevelopment Commission
END:VEVENT
BEGIN:VEVENT
DTSTART;TZID=America/Chicago:20280313T160000
DTEND;TZID=America/Chicago:20280313T170000
DTSTAMP:20260422T181726
CREATED:20250609T021656Z
LAST-MODIFIED:20250609T021656Z
UID:10001657-1836576000-1836579600@michigancityin.gov
SUMMARY:Redevelopment Commission Executive Meeting
DESCRIPTION:
URL:https://michigancityin.gov/city-event/redevelopment-commission-executive-meeting/2028-03-13/
LOCATION:Planning Conference Room (East)\, 100 E Michigan Blvd\, Michigan City\, 46360\, United States
CATEGORIES:Redevelopment Commission
END:VEVENT
BEGIN:VEVENT
DTSTART;TZID=America/Chicago:20280410T160000
DTEND;TZID=America/Chicago:20280410T170000
DTSTAMP:20260422T181726
CREATED:20250609T021656Z
LAST-MODIFIED:20250609T021656Z
UID:10001658-1838995200-1838998800@michigancityin.gov
SUMMARY:Redevelopment Commission Executive Meeting
DESCRIPTION:
URL:https://michigancityin.gov/city-event/redevelopment-commission-executive-meeting/2028-04-10/
LOCATION:Planning Conference Room (East)\, 100 E Michigan Blvd\, Michigan City\, 46360\, United States
CATEGORIES:Redevelopment Commission
END:VEVENT
BEGIN:VEVENT
DTSTART;TZID=America/Chicago:20280508T160000
DTEND;TZID=America/Chicago:20280508T170000
DTSTAMP:20260422T181726
CREATED:20250609T021656Z
LAST-MODIFIED:20250609T021656Z
UID:10001659-1841414400-1841418000@michigancityin.gov
SUMMARY:Redevelopment Commission Executive Meeting
DESCRIPTION:
URL:https://michigancityin.gov/city-event/redevelopment-commission-executive-meeting/2028-05-08/
LOCATION:Planning Conference Room (East)\, 100 E Michigan Blvd\, Michigan City\, 46360\, United States
CATEGORIES:Redevelopment Commission
END:VEVENT
BEGIN:VEVENT
DTSTART;TZID=America/Chicago:20280612T160000
DTEND;TZID=America/Chicago:20280612T170000
DTSTAMP:20260422T181726
CREATED:20250609T021656Z
LAST-MODIFIED:20250609T021656Z
UID:10001660-1844438400-1844442000@michigancityin.gov
SUMMARY:Redevelopment Commission Executive Meeting
DESCRIPTION:
URL:https://michigancityin.gov/city-event/redevelopment-commission-executive-meeting/2028-06-12/
LOCATION:Planning Conference Room (East)\, 100 E Michigan Blvd\, Michigan City\, 46360\, United States
CATEGORIES:Redevelopment Commission
END:VEVENT
BEGIN:VEVENT
DTSTART;TZID=America/Chicago:20280710T160000
DTEND;TZID=America/Chicago:20280710T170000
DTSTAMP:20260422T181726
CREATED:20250609T021656Z
LAST-MODIFIED:20250609T021656Z
UID:10001661-1846857600-1846861200@michigancityin.gov
SUMMARY:Redevelopment Commission Executive Meeting
DESCRIPTION:
URL:https://michigancityin.gov/city-event/redevelopment-commission-executive-meeting/2028-07-10/
LOCATION:Planning Conference Room (East)\, 100 E Michigan Blvd\, Michigan City\, 46360\, United States
CATEGORIES:Redevelopment Commission
END:VEVENT
BEGIN:VEVENT
DTSTART;TZID=America/Chicago:20280814T160000
DTEND;TZID=America/Chicago:20280814T170000
DTSTAMP:20260422T181726
CREATED:20250609T021656Z
LAST-MODIFIED:20250609T021656Z
UID:10001662-1849881600-1849885200@michigancityin.gov
SUMMARY:Redevelopment Commission Executive Meeting
DESCRIPTION:
URL:https://michigancityin.gov/city-event/redevelopment-commission-executive-meeting/2028-08-14/
LOCATION:Planning Conference Room (East)\, 100 E Michigan Blvd\, Michigan City\, 46360\, United States
CATEGORIES:Redevelopment Commission
END:VEVENT
BEGIN:VEVENT
DTSTART;TZID=America/Chicago:20280911T160000
DTEND;TZID=America/Chicago:20280911T170000
DTSTAMP:20260422T181726
CREATED:20250609T021656Z
LAST-MODIFIED:20250609T021656Z
UID:10001663-1852300800-1852304400@michigancityin.gov
SUMMARY:Redevelopment Commission Executive Meeting
DESCRIPTION:
URL:https://michigancityin.gov/city-event/redevelopment-commission-executive-meeting/2028-09-11/
LOCATION:Planning Conference Room (East)\, 100 E Michigan Blvd\, Michigan City\, 46360\, United States
CATEGORIES:Redevelopment Commission
END:VEVENT
BEGIN:VEVENT
DTSTART;TZID=America/Chicago:20281009T160000
DTEND;TZID=America/Chicago:20281009T170000
DTSTAMP:20260422T181726
CREATED:20250609T021656Z
LAST-MODIFIED:20250609T021656Z
UID:10001664-1854720000-1854723600@michigancityin.gov
SUMMARY:Redevelopment Commission Executive Meeting
DESCRIPTION:
URL:https://michigancityin.gov/city-event/redevelopment-commission-executive-meeting/2028-10-09/
LOCATION:Planning Conference Room (East)\, 100 E Michigan Blvd\, Michigan City\, 46360\, United States
CATEGORIES:Redevelopment Commission
END:VEVENT
BEGIN:VEVENT
DTSTART;TZID=America/Chicago:20281113T160000
DTEND;TZID=America/Chicago:20281113T170000
DTSTAMP:20260422T181726
CREATED:20250609T021656Z
LAST-MODIFIED:20250609T021656Z
UID:10001665-1857744000-1857747600@michigancityin.gov
SUMMARY:Redevelopment Commission Executive Meeting
DESCRIPTION:
URL:https://michigancityin.gov/city-event/redevelopment-commission-executive-meeting/2028-11-13/
LOCATION:Planning Conference Room (East)\, 100 E Michigan Blvd\, Michigan City\, 46360\, United States
CATEGORIES:Redevelopment Commission
END:VEVENT
BEGIN:VEVENT
DTSTART;TZID=America/Chicago:20281211T160000
DTEND;TZID=America/Chicago:20281211T170000
DTSTAMP:20260422T181726
CREATED:20250609T021656Z
LAST-MODIFIED:20250609T021656Z
UID:10001666-1860163200-1860166800@michigancityin.gov
SUMMARY:Redevelopment Commission Executive Meeting
DESCRIPTION:
URL:https://michigancityin.gov/city-event/redevelopment-commission-executive-meeting/2028-12-11/
LOCATION:Planning Conference Room (East)\, 100 E Michigan Blvd\, Michigan City\, 46360\, United States
CATEGORIES:Redevelopment Commission
END:VEVENT
BEGIN:VEVENT
DTSTART;TZID=America/Chicago:20290108T160000
DTEND;TZID=America/Chicago:20290108T170000
DTSTAMP:20260422T181726
CREATED:20250609T021656Z
LAST-MODIFIED:20250609T021656Z
UID:10001667-1862582400-1862586000@michigancityin.gov
SUMMARY:Redevelopment Commission Executive Meeting
DESCRIPTION:
URL:https://michigancityin.gov/city-event/redevelopment-commission-executive-meeting/2029-01-08/
LOCATION:Planning Conference Room (East)\, 100 E Michigan Blvd\, Michigan City\, 46360\, United States
CATEGORIES:Redevelopment Commission
END:VEVENT
BEGIN:VEVENT
DTSTART;TZID=America/Chicago:20290212T160000
DTEND;TZID=America/Chicago:20290212T170000
DTSTAMP:20260422T181726
CREATED:20250609T021656Z
LAST-MODIFIED:20250609T021656Z
UID:10001668-1865606400-1865610000@michigancityin.gov
SUMMARY:Redevelopment Commission Executive Meeting
DESCRIPTION:
URL:https://michigancityin.gov/city-event/redevelopment-commission-executive-meeting/2029-02-12/
LOCATION:Planning Conference Room (East)\, 100 E Michigan Blvd\, Michigan City\, 46360\, United States
CATEGORIES:Redevelopment Commission
END:VEVENT
BEGIN:VEVENT
DTSTART;TZID=America/Chicago:20290312T160000
DTEND;TZID=America/Chicago:20290312T170000
DTSTAMP:20260422T181726
CREATED:20250609T021656Z
LAST-MODIFIED:20250609T021656Z
UID:10001669-1868025600-1868029200@michigancityin.gov
SUMMARY:Redevelopment Commission Executive Meeting
DESCRIPTION:
URL:https://michigancityin.gov/city-event/redevelopment-commission-executive-meeting/2029-03-12/
LOCATION:Planning Conference Room (East)\, 100 E Michigan Blvd\, Michigan City\, 46360\, United States
CATEGORIES:Redevelopment Commission
END:VEVENT
BEGIN:VEVENT
DTSTART;TZID=America/Chicago:20290409T160000
DTEND;TZID=America/Chicago:20290409T170000
DTSTAMP:20260422T181726
CREATED:20250609T021656Z
LAST-MODIFIED:20250609T021656Z
UID:10001670-1870444800-1870448400@michigancityin.gov
SUMMARY:Redevelopment Commission Executive Meeting
DESCRIPTION:
URL:https://michigancityin.gov/city-event/redevelopment-commission-executive-meeting/2029-04-09/
LOCATION:Planning Conference Room (East)\, 100 E Michigan Blvd\, Michigan City\, 46360\, United States
CATEGORIES:Redevelopment Commission
END:VEVENT
BEGIN:VEVENT
DTSTART;TZID=America/Chicago:20290514T160000
DTEND;TZID=America/Chicago:20290514T170000
DTSTAMP:20260422T181726
CREATED:20250609T021656Z
LAST-MODIFIED:20250609T021656Z
UID:10001671-1873468800-1873472400@michigancityin.gov
SUMMARY:Redevelopment Commission Executive Meeting
DESCRIPTION:
URL:https://michigancityin.gov/city-event/redevelopment-commission-executive-meeting/2029-05-14/
LOCATION:Planning Conference Room (East)\, 100 E Michigan Blvd\, Michigan City\, 46360\, United States
CATEGORIES:Redevelopment Commission
END:VEVENT
BEGIN:VEVENT
DTSTART;TZID=America/Chicago:20290611T160000
DTEND;TZID=America/Chicago:20290611T170000
DTSTAMP:20260422T181726
CREATED:20250609T021656Z
LAST-MODIFIED:20250609T021656Z
UID:10001672-1875888000-1875891600@michigancityin.gov
SUMMARY:Redevelopment Commission Executive Meeting
DESCRIPTION:
URL:https://michigancityin.gov/city-event/redevelopment-commission-executive-meeting/2029-06-11/
LOCATION:Planning Conference Room (East)\, 100 E Michigan Blvd\, Michigan City\, 46360\, United States
CATEGORIES:Redevelopment Commission
END:VEVENT
BEGIN:VEVENT
DTSTART;TZID=America/Chicago:20290709T160000
DTEND;TZID=America/Chicago:20290709T170000
DTSTAMP:20260422T181726
CREATED:20250609T021656Z
LAST-MODIFIED:20250609T021656Z
UID:10001673-1878307200-1878310800@michigancityin.gov
SUMMARY:Redevelopment Commission Executive Meeting
DESCRIPTION:
URL:https://michigancityin.gov/city-event/redevelopment-commission-executive-meeting/2029-07-09/
LOCATION:Planning Conference Room (East)\, 100 E Michigan Blvd\, Michigan City\, 46360\, United States
CATEGORIES:Redevelopment Commission
END:VEVENT
BEGIN:VEVENT
DTSTART;TZID=America/Chicago:20290813T160000
DTEND;TZID=America/Chicago:20290813T170000
DTSTAMP:20260422T181726
CREATED:20250609T021656Z
LAST-MODIFIED:20250609T021656Z
UID:10001674-1881331200-1881334800@michigancityin.gov
SUMMARY:Redevelopment Commission Executive Meeting
DESCRIPTION:
URL:https://michigancityin.gov/city-event/redevelopment-commission-executive-meeting/2029-08-13/
LOCATION:Planning Conference Room (East)\, 100 E Michigan Blvd\, Michigan City\, 46360\, United States
CATEGORIES:Redevelopment Commission
END:VEVENT
BEGIN:VEVENT
DTSTART;TZID=America/Chicago:20290910T160000
DTEND;TZID=America/Chicago:20290910T170000
DTSTAMP:20260422T181726
CREATED:20250609T021656Z
LAST-MODIFIED:20250609T021656Z
UID:10001675-1883750400-1883754000@michigancityin.gov
SUMMARY:Redevelopment Commission Executive Meeting
DESCRIPTION:
URL:https://michigancityin.gov/city-event/redevelopment-commission-executive-meeting/2029-09-10/
LOCATION:Planning Conference Room (East)\, 100 E Michigan Blvd\, Michigan City\, 46360\, United States
CATEGORIES:Redevelopment Commission
END:VEVENT
BEGIN:VEVENT
DTSTART;TZID=America/Chicago:20291008T160000
DTEND;TZID=America/Chicago:20291008T170000
DTSTAMP:20260422T181726
CREATED:20250609T021656Z
LAST-MODIFIED:20250609T021656Z
UID:10001676-1886169600-1886173200@michigancityin.gov
SUMMARY:Redevelopment Commission Executive Meeting
DESCRIPTION:
URL:https://michigancityin.gov/city-event/redevelopment-commission-executive-meeting/2029-10-08/
LOCATION:Planning Conference Room (East)\, 100 E Michigan Blvd\, Michigan City\, 46360\, United States
CATEGORIES:Redevelopment Commission
END:VEVENT
END:VCALENDAR