BEGIN:VCALENDAR
VERSION:2.0
PRODID:-//City of Michigan City Indiana - ECPv6.15.20//NONSGML v1.0//EN
CALSCALE:GREGORIAN
METHOD:PUBLISH
X-ORIGINAL-URL:https://michigancityin.gov
X-WR-CALDESC:Events for City of Michigan City Indiana
REFRESH-INTERVAL;VALUE=DURATION:PT1H
X-Robots-Tag:noindex
X-PUBLISHED-TTL:PT1H
BEGIN:VTIMEZONE
TZID:America/Chicago
BEGIN:DAYLIGHT
TZOFFSETFROM:-0600
TZOFFSETTO:-0500
TZNAME:CDT
DTSTART:20260308T080000
END:DAYLIGHT
BEGIN:STANDARD
TZOFFSETFROM:-0500
TZOFFSETTO:-0600
TZNAME:CST
DTSTART:20261101T070000
END:STANDARD
BEGIN:DAYLIGHT
TZOFFSETFROM:-0600
TZOFFSETTO:-0500
TZNAME:CDT
DTSTART:20270314T080000
END:DAYLIGHT
BEGIN:STANDARD
TZOFFSETFROM:-0500
TZOFFSETTO:-0600
TZNAME:CST
DTSTART:20271107T070000
END:STANDARD
BEGIN:DAYLIGHT
TZOFFSETFROM:-0600
TZOFFSETTO:-0500
TZNAME:CDT
DTSTART:20280312T080000
END:DAYLIGHT
BEGIN:STANDARD
TZOFFSETFROM:-0500
TZOFFSETTO:-0600
TZNAME:CST
DTSTART:20281105T070000
END:STANDARD
BEGIN:DAYLIGHT
TZOFFSETFROM:-0600
TZOFFSETTO:-0500
TZNAME:CDT
DTSTART:20290311T080000
END:DAYLIGHT
BEGIN:STANDARD
TZOFFSETFROM:-0500
TZOFFSETTO:-0600
TZNAME:CST
DTSTART:20291104T070000
END:STANDARD
END:VTIMEZONE
BEGIN:VEVENT
DTSTART;TZID=America/Chicago:20270309T183000
DTEND;TZID=America/Chicago:20270309T193000
DTSTAMP:20260422T205134
CREATED:20260319T184735Z
LAST-MODIFIED:20260319T184736Z
UID:10002125-1804617000-1804620600@michigancityin.gov
SUMMARY:Water Works Board Tentative Meeting
DESCRIPTION:
URL:https://michigancityin.gov/city-event/water-works-board-tentative-meeting-3/2027-03-09/
LOCATION:Water Works Main Office\, 532 Franklin Street\, Michigan City\, 46360\, United States
CATEGORIES:Water Works Board
END:VEVENT
BEGIN:VEVENT
DTSTART;TZID=America/Chicago:20270330T190000
DTEND;TZID=America/Chicago:20270330T200000
DTSTAMP:20260422T205134
CREATED:20260319T184722Z
LAST-MODIFIED:20260319T184723Z
UID:10003470-1806433200-1806436800@michigancityin.gov
SUMMARY:Water Works Board Regular Meeting
DESCRIPTION:
URL:https://michigancityin.gov/city-event/water-works-board-regular-meeting-2/2027-03-30/
LOCATION:Water Works Main Office\, 532 Franklin Street\, Michigan City\, 46360\, United States
CATEGORIES:Water Works Board
END:VEVENT
BEGIN:VEVENT
DTSTART;TZID=America/Chicago:20270413T180000
DTEND;TZID=America/Chicago:20270413T183000
DTSTAMP:20260422T205134
CREATED:20250609T022844Z
LAST-MODIFIED:20250609T022844Z
UID:10002066-1807639200-1807641000@michigancityin.gov
SUMMARY:Water Works Board Executive Meeting
DESCRIPTION:
URL:https://michigancityin.gov/city-event/water-works-board-executive-meeting/2027-04-13/
LOCATION:Water Works Main Office\, 532 Franklin Street\, Michigan City\, 46360\, United States
CATEGORIES:Water Works Board
END:VEVENT
BEGIN:VEVENT
DTSTART;TZID=America/Chicago:20270413T183000
DTEND;TZID=America/Chicago:20270413T193000
DTSTAMP:20260422T205134
CREATED:20260319T184735Z
LAST-MODIFIED:20260319T184736Z
UID:10002126-1807641000-1807644600@michigancityin.gov
SUMMARY:Water Works Board Tentative Meeting
DESCRIPTION:
URL:https://michigancityin.gov/city-event/water-works-board-tentative-meeting-3/2027-04-13/
LOCATION:Water Works Main Office\, 532 Franklin Street\, Michigan City\, 46360\, United States
CATEGORIES:Water Works Board
END:VEVENT
BEGIN:VEVENT
DTSTART;TZID=America/Chicago:20270511T180000
DTEND;TZID=America/Chicago:20270511T183000
DTSTAMP:20260422T205134
CREATED:20250609T022844Z
LAST-MODIFIED:20250609T022844Z
UID:10002067-1810058400-1810060200@michigancityin.gov
SUMMARY:Water Works Board Executive Meeting
DESCRIPTION:
URL:https://michigancityin.gov/city-event/water-works-board-executive-meeting/2027-05-11/
LOCATION:Water Works Main Office\, 532 Franklin Street\, Michigan City\, 46360\, United States
CATEGORIES:Water Works Board
END:VEVENT
BEGIN:VEVENT
DTSTART;TZID=America/Chicago:20270511T183000
DTEND;TZID=America/Chicago:20270511T193000
DTSTAMP:20260422T205134
CREATED:20260319T184735Z
LAST-MODIFIED:20260319T184736Z
UID:10002127-1810060200-1810063800@michigancityin.gov
SUMMARY:Water Works Board Tentative Meeting
DESCRIPTION:
URL:https://michigancityin.gov/city-event/water-works-board-tentative-meeting-3/2027-05-11/
LOCATION:Water Works Main Office\, 532 Franklin Street\, Michigan City\, 46360\, United States
CATEGORIES:Water Works Board
END:VEVENT
BEGIN:VEVENT
DTSTART;TZID=America/Chicago:20270608T180000
DTEND;TZID=America/Chicago:20270608T183000
DTSTAMP:20260422T205134
CREATED:20250609T022844Z
LAST-MODIFIED:20250609T022844Z
UID:10002068-1812477600-1812479400@michigancityin.gov
SUMMARY:Water Works Board Executive Meeting
DESCRIPTION:
URL:https://michigancityin.gov/city-event/water-works-board-executive-meeting/2027-06-08/
LOCATION:Water Works Main Office\, 532 Franklin Street\, Michigan City\, 46360\, United States
CATEGORIES:Water Works Board
END:VEVENT
BEGIN:VEVENT
DTSTART;TZID=America/Chicago:20270608T183000
DTEND;TZID=America/Chicago:20270608T193000
DTSTAMP:20260422T205134
CREATED:20260319T184735Z
LAST-MODIFIED:20260319T184736Z
UID:10002128-1812479400-1812483000@michigancityin.gov
SUMMARY:Water Works Board Tentative Meeting
DESCRIPTION:
URL:https://michigancityin.gov/city-event/water-works-board-tentative-meeting-3/2027-06-08/
LOCATION:Water Works Main Office\, 532 Franklin Street\, Michigan City\, 46360\, United States
CATEGORIES:Water Works Board
END:VEVENT
BEGIN:VEVENT
DTSTART;TZID=America/Chicago:20270629T190000
DTEND;TZID=America/Chicago:20270629T200000
DTSTAMP:20260422T205134
CREATED:20260319T184722Z
LAST-MODIFIED:20260319T184723Z
UID:10003471-1814295600-1814299200@michigancityin.gov
SUMMARY:Water Works Board Regular Meeting
DESCRIPTION:
URL:https://michigancityin.gov/city-event/water-works-board-regular-meeting-2/2027-06-29/
LOCATION:Water Works Main Office\, 532 Franklin Street\, Michigan City\, 46360\, United States
CATEGORIES:Water Works Board
END:VEVENT
BEGIN:VEVENT
DTSTART;TZID=America/Chicago:20270713T180000
DTEND;TZID=America/Chicago:20270713T183000
DTSTAMP:20260422T205134
CREATED:20250609T022844Z
LAST-MODIFIED:20250609T022844Z
UID:10002069-1815501600-1815503400@michigancityin.gov
SUMMARY:Water Works Board Executive Meeting
DESCRIPTION:
URL:https://michigancityin.gov/city-event/water-works-board-executive-meeting/2027-07-13/
LOCATION:Water Works Main Office\, 532 Franklin Street\, Michigan City\, 46360\, United States
CATEGORIES:Water Works Board
END:VEVENT
BEGIN:VEVENT
DTSTART;TZID=America/Chicago:20270713T183000
DTEND;TZID=America/Chicago:20270713T193000
DTSTAMP:20260422T205134
CREATED:20260319T184735Z
LAST-MODIFIED:20260319T184736Z
UID:10002129-1815503400-1815507000@michigancityin.gov
SUMMARY:Water Works Board Tentative Meeting
DESCRIPTION:
URL:https://michigancityin.gov/city-event/water-works-board-tentative-meeting-3/2027-07-13/
LOCATION:Water Works Main Office\, 532 Franklin Street\, Michigan City\, 46360\, United States
CATEGORIES:Water Works Board
END:VEVENT
BEGIN:VEVENT
DTSTART;TZID=America/Chicago:20270810T180000
DTEND;TZID=America/Chicago:20270810T183000
DTSTAMP:20260422T205134
CREATED:20250609T022844Z
LAST-MODIFIED:20250609T022844Z
UID:10002070-1817920800-1817922600@michigancityin.gov
SUMMARY:Water Works Board Executive Meeting
DESCRIPTION:
URL:https://michigancityin.gov/city-event/water-works-board-executive-meeting/2027-08-10/
LOCATION:Water Works Main Office\, 532 Franklin Street\, Michigan City\, 46360\, United States
CATEGORIES:Water Works Board
END:VEVENT
BEGIN:VEVENT
DTSTART;TZID=America/Chicago:20270810T183000
DTEND;TZID=America/Chicago:20270810T193000
DTSTAMP:20260422T205134
CREATED:20260319T184735Z
LAST-MODIFIED:20260319T184736Z
UID:10002130-1817922600-1817926200@michigancityin.gov
SUMMARY:Water Works Board Tentative Meeting
DESCRIPTION:
URL:https://michigancityin.gov/city-event/water-works-board-tentative-meeting-3/2027-08-10/
LOCATION:Water Works Main Office\, 532 Franklin Street\, Michigan City\, 46360\, United States
CATEGORIES:Water Works Board
END:VEVENT
BEGIN:VEVENT
DTSTART;TZID=America/Chicago:20270831T190000
DTEND;TZID=America/Chicago:20270831T200000
DTSTAMP:20260422T205134
CREATED:20260319T184722Z
LAST-MODIFIED:20260319T184723Z
UID:10003472-1819738800-1819742400@michigancityin.gov
SUMMARY:Water Works Board Regular Meeting
DESCRIPTION:
URL:https://michigancityin.gov/city-event/water-works-board-regular-meeting-2/2027-08-31/
LOCATION:Water Works Main Office\, 532 Franklin Street\, Michigan City\, 46360\, United States
CATEGORIES:Water Works Board
END:VEVENT
BEGIN:VEVENT
DTSTART;TZID=America/Chicago:20270914T180000
DTEND;TZID=America/Chicago:20270914T183000
DTSTAMP:20260422T205134
CREATED:20250609T022844Z
LAST-MODIFIED:20250609T022844Z
UID:10002071-1820944800-1820946600@michigancityin.gov
SUMMARY:Water Works Board Executive Meeting
DESCRIPTION:
URL:https://michigancityin.gov/city-event/water-works-board-executive-meeting/2027-09-14/
LOCATION:Water Works Main Office\, 532 Franklin Street\, Michigan City\, 46360\, United States
CATEGORIES:Water Works Board
END:VEVENT
BEGIN:VEVENT
DTSTART;TZID=America/Chicago:20270914T183000
DTEND;TZID=America/Chicago:20270914T193000
DTSTAMP:20260422T205134
CREATED:20260319T184735Z
LAST-MODIFIED:20260319T184736Z
UID:10002131-1820946600-1820950200@michigancityin.gov
SUMMARY:Water Works Board Tentative Meeting
DESCRIPTION:
URL:https://michigancityin.gov/city-event/water-works-board-tentative-meeting-3/2027-09-14/
LOCATION:Water Works Main Office\, 532 Franklin Street\, Michigan City\, 46360\, United States
CATEGORIES:Water Works Board
END:VEVENT
BEGIN:VEVENT
DTSTART;TZID=America/Chicago:20271012T180000
DTEND;TZID=America/Chicago:20271012T183000
DTSTAMP:20260422T205134
CREATED:20250609T022844Z
LAST-MODIFIED:20250609T022844Z
UID:10002072-1823364000-1823365800@michigancityin.gov
SUMMARY:Water Works Board Executive Meeting
DESCRIPTION:
URL:https://michigancityin.gov/city-event/water-works-board-executive-meeting/2027-10-12/
LOCATION:Water Works Main Office\, 532 Franklin Street\, Michigan City\, 46360\, United States
CATEGORIES:Water Works Board
END:VEVENT
BEGIN:VEVENT
DTSTART;TZID=America/Chicago:20271012T183000
DTEND;TZID=America/Chicago:20271012T193000
DTSTAMP:20260422T205134
CREATED:20260319T184735Z
LAST-MODIFIED:20260319T184736Z
UID:10002132-1823365800-1823369400@michigancityin.gov
SUMMARY:Water Works Board Tentative Meeting
DESCRIPTION:
URL:https://michigancityin.gov/city-event/water-works-board-tentative-meeting-3/2027-10-12/
LOCATION:Water Works Main Office\, 532 Franklin Street\, Michigan City\, 46360\, United States
CATEGORIES:Water Works Board
END:VEVENT
BEGIN:VEVENT
DTSTART;TZID=America/Chicago:20271109T180000
DTEND;TZID=America/Chicago:20271109T183000
DTSTAMP:20260422T205134
CREATED:20250609T022844Z
LAST-MODIFIED:20250609T022844Z
UID:10002073-1825783200-1825785000@michigancityin.gov
SUMMARY:Water Works Board Executive Meeting
DESCRIPTION:
URL:https://michigancityin.gov/city-event/water-works-board-executive-meeting/2027-11-09/
LOCATION:Water Works Main Office\, 532 Franklin Street\, Michigan City\, 46360\, United States
CATEGORIES:Water Works Board
END:VEVENT
BEGIN:VEVENT
DTSTART;TZID=America/Chicago:20271109T183000
DTEND;TZID=America/Chicago:20271109T193000
DTSTAMP:20260422T205134
CREATED:20260319T184735Z
LAST-MODIFIED:20260319T184736Z
UID:10002133-1825785000-1825788600@michigancityin.gov
SUMMARY:Water Works Board Tentative Meeting
DESCRIPTION:
URL:https://michigancityin.gov/city-event/water-works-board-tentative-meeting-3/2027-11-09/
LOCATION:Water Works Main Office\, 532 Franklin Street\, Michigan City\, 46360\, United States
CATEGORIES:Water Works Board
END:VEVENT
BEGIN:VEVENT
DTSTART;TZID=America/Chicago:20271130T190000
DTEND;TZID=America/Chicago:20271130T200000
DTSTAMP:20260422T205134
CREATED:20260319T184722Z
LAST-MODIFIED:20260319T184723Z
UID:10003473-1827601200-1827604800@michigancityin.gov
SUMMARY:Water Works Board Regular Meeting
DESCRIPTION:
URL:https://michigancityin.gov/city-event/water-works-board-regular-meeting-2/2027-11-30/
LOCATION:Water Works Main Office\, 532 Franklin Street\, Michigan City\, 46360\, United States
CATEGORIES:Water Works Board
END:VEVENT
BEGIN:VEVENT
DTSTART;TZID=America/Chicago:20271214T180000
DTEND;TZID=America/Chicago:20271214T183000
DTSTAMP:20260422T205134
CREATED:20250609T022844Z
LAST-MODIFIED:20250609T022844Z
UID:10002074-1828807200-1828809000@michigancityin.gov
SUMMARY:Water Works Board Executive Meeting
DESCRIPTION:
URL:https://michigancityin.gov/city-event/water-works-board-executive-meeting/2027-12-14/
LOCATION:Water Works Main Office\, 532 Franklin Street\, Michigan City\, 46360\, United States
CATEGORIES:Water Works Board
END:VEVENT
BEGIN:VEVENT
DTSTART;TZID=America/Chicago:20271214T183000
DTEND;TZID=America/Chicago:20271214T193000
DTSTAMP:20260422T205134
CREATED:20260319T184735Z
LAST-MODIFIED:20260319T184736Z
UID:10002134-1828809000-1828812600@michigancityin.gov
SUMMARY:Water Works Board Tentative Meeting
DESCRIPTION:
URL:https://michigancityin.gov/city-event/water-works-board-tentative-meeting-3/2027-12-14/
LOCATION:Water Works Main Office\, 532 Franklin Street\, Michigan City\, 46360\, United States
CATEGORIES:Water Works Board
END:VEVENT
BEGIN:VEVENT
DTSTART;TZID=America/Chicago:20280111T180000
DTEND;TZID=America/Chicago:20280111T183000
DTSTAMP:20260422T205134
CREATED:20250609T022844Z
LAST-MODIFIED:20250609T022844Z
UID:10002075-1831226400-1831228200@michigancityin.gov
SUMMARY:Water Works Board Executive Meeting
DESCRIPTION:
URL:https://michigancityin.gov/city-event/water-works-board-executive-meeting/2028-01-11/
LOCATION:Water Works Main Office\, 532 Franklin Street\, Michigan City\, 46360\, United States
CATEGORIES:Water Works Board
END:VEVENT
BEGIN:VEVENT
DTSTART;TZID=America/Chicago:20280111T183000
DTEND;TZID=America/Chicago:20280111T193000
DTSTAMP:20260422T205134
CREATED:20260319T184735Z
LAST-MODIFIED:20260319T184736Z
UID:10002135-1831228200-1831231800@michigancityin.gov
SUMMARY:Water Works Board Tentative Meeting
DESCRIPTION:
URL:https://michigancityin.gov/city-event/water-works-board-tentative-meeting-3/2028-01-11/
LOCATION:Water Works Main Office\, 532 Franklin Street\, Michigan City\, 46360\, United States
CATEGORIES:Water Works Board
END:VEVENT
BEGIN:VEVENT
DTSTART;TZID=America/Chicago:20280208T180000
DTEND;TZID=America/Chicago:20280208T183000
DTSTAMP:20260422T205134
CREATED:20250609T022844Z
LAST-MODIFIED:20250609T022844Z
UID:10002076-1833645600-1833647400@michigancityin.gov
SUMMARY:Water Works Board Executive Meeting
DESCRIPTION:
URL:https://michigancityin.gov/city-event/water-works-board-executive-meeting/2028-02-08/
LOCATION:Water Works Main Office\, 532 Franklin Street\, Michigan City\, 46360\, United States
CATEGORIES:Water Works Board
END:VEVENT
BEGIN:VEVENT
DTSTART;TZID=America/Chicago:20280208T183000
DTEND;TZID=America/Chicago:20280208T193000
DTSTAMP:20260422T205134
CREATED:20260319T184735Z
LAST-MODIFIED:20260319T184736Z
UID:10002136-1833647400-1833651000@michigancityin.gov
SUMMARY:Water Works Board Tentative Meeting
DESCRIPTION:
URL:https://michigancityin.gov/city-event/water-works-board-tentative-meeting-3/2028-02-08/
LOCATION:Water Works Main Office\, 532 Franklin Street\, Michigan City\, 46360\, United States
CATEGORIES:Water Works Board
END:VEVENT
BEGIN:VEVENT
DTSTART;TZID=America/Chicago:20280229T190000
DTEND;TZID=America/Chicago:20280229T200000
DTSTAMP:20260422T205134
CREATED:20260319T184722Z
LAST-MODIFIED:20260319T184723Z
UID:10003474-1835463600-1835467200@michigancityin.gov
SUMMARY:Water Works Board Regular Meeting
DESCRIPTION:
URL:https://michigancityin.gov/city-event/water-works-board-regular-meeting-2/2028-02-29/
LOCATION:Water Works Main Office\, 532 Franklin Street\, Michigan City\, 46360\, United States
CATEGORIES:Water Works Board
END:VEVENT
BEGIN:VEVENT
DTSTART;TZID=America/Chicago:20280314T180000
DTEND;TZID=America/Chicago:20280314T183000
DTSTAMP:20260422T205134
CREATED:20250609T022844Z
LAST-MODIFIED:20250609T022844Z
UID:10002077-1836669600-1836671400@michigancityin.gov
SUMMARY:Water Works Board Executive Meeting
DESCRIPTION:
URL:https://michigancityin.gov/city-event/water-works-board-executive-meeting/2028-03-14/
LOCATION:Water Works Main Office\, 532 Franklin Street\, Michigan City\, 46360\, United States
CATEGORIES:Water Works Board
END:VEVENT
BEGIN:VEVENT
DTSTART;TZID=America/Chicago:20280314T183000
DTEND;TZID=America/Chicago:20280314T193000
DTSTAMP:20260422T205134
CREATED:20260319T184735Z
LAST-MODIFIED:20260319T184736Z
UID:10002137-1836671400-1836675000@michigancityin.gov
SUMMARY:Water Works Board Tentative Meeting
DESCRIPTION:
URL:https://michigancityin.gov/city-event/water-works-board-tentative-meeting-3/2028-03-14/
LOCATION:Water Works Main Office\, 532 Franklin Street\, Michigan City\, 46360\, United States
CATEGORIES:Water Works Board
END:VEVENT
END:VCALENDAR