BEGIN:VCALENDAR
VERSION:2.0
PRODID:-//City of Michigan City Indiana - ECPv6.15.20//NONSGML v1.0//EN
CALSCALE:GREGORIAN
METHOD:PUBLISH
X-ORIGINAL-URL:https://michigancityin.gov
X-WR-CALDESC:Events for City of Michigan City Indiana
REFRESH-INTERVAL;VALUE=DURATION:PT1H
X-Robots-Tag:noindex
X-PUBLISHED-TTL:PT1H
BEGIN:VTIMEZONE
TZID:America/Chicago
BEGIN:DAYLIGHT
TZOFFSETFROM:-0600
TZOFFSETTO:-0500
TZNAME:CDT
DTSTART:20270314T080000
END:DAYLIGHT
BEGIN:STANDARD
TZOFFSETFROM:-0500
TZOFFSETTO:-0600
TZNAME:CST
DTSTART:20271107T070000
END:STANDARD
BEGIN:DAYLIGHT
TZOFFSETFROM:-0600
TZOFFSETTO:-0500
TZNAME:CDT
DTSTART:20280312T080000
END:DAYLIGHT
BEGIN:STANDARD
TZOFFSETFROM:-0500
TZOFFSETTO:-0600
TZNAME:CST
DTSTART:20281105T070000
END:STANDARD
BEGIN:DAYLIGHT
TZOFFSETFROM:-0600
TZOFFSETTO:-0500
TZNAME:CDT
DTSTART:20290311T080000
END:DAYLIGHT
BEGIN:STANDARD
TZOFFSETFROM:-0500
TZOFFSETTO:-0600
TZNAME:CST
DTSTART:20291104T070000
END:STANDARD
BEGIN:DAYLIGHT
TZOFFSETFROM:-0600
TZOFFSETTO:-0500
TZNAME:CDT
DTSTART:20300310T080000
END:DAYLIGHT
BEGIN:STANDARD
TZOFFSETFROM:-0500
TZOFFSETTO:-0600
TZNAME:CST
DTSTART:20301103T070000
END:STANDARD
END:VTIMEZONE
BEGIN:VEVENT
DTSTART;TZID=America/Chicago:20280111T183000
DTEND;TZID=America/Chicago:20280111T193000
DTSTAMP:20260422T234015
CREATED:20260319T184735Z
LAST-MODIFIED:20260319T184736Z
UID:10002135-1831228200-1831231800@michigancityin.gov
SUMMARY:Water Works Board Tentative Meeting
DESCRIPTION:
URL:https://michigancityin.gov/city-event/water-works-board-tentative-meeting-3/2028-01-11/
LOCATION:Water Works Main Office\, 532 Franklin Street\, Michigan City\, 46360\, United States
CATEGORIES:Water Works Board
END:VEVENT
BEGIN:VEVENT
DTSTART;TZID=America/Chicago:20280208T180000
DTEND;TZID=America/Chicago:20280208T183000
DTSTAMP:20260422T234015
CREATED:20250609T022844Z
LAST-MODIFIED:20250609T022844Z
UID:10002076-1833645600-1833647400@michigancityin.gov
SUMMARY:Water Works Board Executive Meeting
DESCRIPTION:
URL:https://michigancityin.gov/city-event/water-works-board-executive-meeting/2028-02-08/
LOCATION:Water Works Main Office\, 532 Franklin Street\, Michigan City\, 46360\, United States
CATEGORIES:Water Works Board
END:VEVENT
BEGIN:VEVENT
DTSTART;TZID=America/Chicago:20280208T183000
DTEND;TZID=America/Chicago:20280208T193000
DTSTAMP:20260422T234015
CREATED:20260319T184735Z
LAST-MODIFIED:20260319T184736Z
UID:10002136-1833647400-1833651000@michigancityin.gov
SUMMARY:Water Works Board Tentative Meeting
DESCRIPTION:
URL:https://michigancityin.gov/city-event/water-works-board-tentative-meeting-3/2028-02-08/
LOCATION:Water Works Main Office\, 532 Franklin Street\, Michigan City\, 46360\, United States
CATEGORIES:Water Works Board
END:VEVENT
BEGIN:VEVENT
DTSTART;TZID=America/Chicago:20280229T190000
DTEND;TZID=America/Chicago:20280229T200000
DTSTAMP:20260422T234015
CREATED:20260319T184722Z
LAST-MODIFIED:20260319T184723Z
UID:10003474-1835463600-1835467200@michigancityin.gov
SUMMARY:Water Works Board Regular Meeting
DESCRIPTION:
URL:https://michigancityin.gov/city-event/water-works-board-regular-meeting-2/2028-02-29/
LOCATION:Water Works Main Office\, 532 Franklin Street\, Michigan City\, 46360\, United States
CATEGORIES:Water Works Board
END:VEVENT
BEGIN:VEVENT
DTSTART;TZID=America/Chicago:20280314T180000
DTEND;TZID=America/Chicago:20280314T183000
DTSTAMP:20260422T234015
CREATED:20250609T022844Z
LAST-MODIFIED:20250609T022844Z
UID:10002077-1836669600-1836671400@michigancityin.gov
SUMMARY:Water Works Board Executive Meeting
DESCRIPTION:
URL:https://michigancityin.gov/city-event/water-works-board-executive-meeting/2028-03-14/
LOCATION:Water Works Main Office\, 532 Franklin Street\, Michigan City\, 46360\, United States
CATEGORIES:Water Works Board
END:VEVENT
BEGIN:VEVENT
DTSTART;TZID=America/Chicago:20280314T183000
DTEND;TZID=America/Chicago:20280314T193000
DTSTAMP:20260422T234015
CREATED:20260319T184735Z
LAST-MODIFIED:20260319T184736Z
UID:10002137-1836671400-1836675000@michigancityin.gov
SUMMARY:Water Works Board Tentative Meeting
DESCRIPTION:
URL:https://michigancityin.gov/city-event/water-works-board-tentative-meeting-3/2028-03-14/
LOCATION:Water Works Main Office\, 532 Franklin Street\, Michigan City\, 46360\, United States
CATEGORIES:Water Works Board
END:VEVENT
BEGIN:VEVENT
DTSTART;TZID=America/Chicago:20280411T180000
DTEND;TZID=America/Chicago:20280411T183000
DTSTAMP:20260422T234015
CREATED:20250609T022844Z
LAST-MODIFIED:20250609T022844Z
UID:10002078-1839088800-1839090600@michigancityin.gov
SUMMARY:Water Works Board Executive Meeting
DESCRIPTION:
URL:https://michigancityin.gov/city-event/water-works-board-executive-meeting/2028-04-11/
LOCATION:Water Works Main Office\, 532 Franklin Street\, Michigan City\, 46360\, United States
CATEGORIES:Water Works Board
END:VEVENT
BEGIN:VEVENT
DTSTART;TZID=America/Chicago:20280411T183000
DTEND;TZID=America/Chicago:20280411T193000
DTSTAMP:20260422T234015
CREATED:20260319T184735Z
LAST-MODIFIED:20260319T184736Z
UID:10002138-1839090600-1839094200@michigancityin.gov
SUMMARY:Water Works Board Tentative Meeting
DESCRIPTION:
URL:https://michigancityin.gov/city-event/water-works-board-tentative-meeting-3/2028-04-11/
LOCATION:Water Works Main Office\, 532 Franklin Street\, Michigan City\, 46360\, United States
CATEGORIES:Water Works Board
END:VEVENT
BEGIN:VEVENT
DTSTART;TZID=America/Chicago:20280509T180000
DTEND;TZID=America/Chicago:20280509T183000
DTSTAMP:20260422T234015
CREATED:20250609T022844Z
LAST-MODIFIED:20250609T022844Z
UID:10002079-1841508000-1841509800@michigancityin.gov
SUMMARY:Water Works Board Executive Meeting
DESCRIPTION:
URL:https://michigancityin.gov/city-event/water-works-board-executive-meeting/2028-05-09/
LOCATION:Water Works Main Office\, 532 Franklin Street\, Michigan City\, 46360\, United States
CATEGORIES:Water Works Board
END:VEVENT
BEGIN:VEVENT
DTSTART;TZID=America/Chicago:20280509T183000
DTEND;TZID=America/Chicago:20280509T193000
DTSTAMP:20260422T234015
CREATED:20260319T184735Z
LAST-MODIFIED:20260319T184736Z
UID:10002139-1841509800-1841513400@michigancityin.gov
SUMMARY:Water Works Board Tentative Meeting
DESCRIPTION:
URL:https://michigancityin.gov/city-event/water-works-board-tentative-meeting-3/2028-05-09/
LOCATION:Water Works Main Office\, 532 Franklin Street\, Michigan City\, 46360\, United States
CATEGORIES:Water Works Board
END:VEVENT
BEGIN:VEVENT
DTSTART;TZID=America/Chicago:20280530T190000
DTEND;TZID=America/Chicago:20280530T200000
DTSTAMP:20260422T234015
CREATED:20260319T184722Z
LAST-MODIFIED:20260319T184723Z
UID:10003475-1843326000-1843329600@michigancityin.gov
SUMMARY:Water Works Board Regular Meeting
DESCRIPTION:
URL:https://michigancityin.gov/city-event/water-works-board-regular-meeting-2/2028-05-30/
LOCATION:Water Works Main Office\, 532 Franklin Street\, Michigan City\, 46360\, United States
CATEGORIES:Water Works Board
END:VEVENT
BEGIN:VEVENT
DTSTART;TZID=America/Chicago:20280613T180000
DTEND;TZID=America/Chicago:20280613T183000
DTSTAMP:20260422T234015
CREATED:20250609T022844Z
LAST-MODIFIED:20250609T022844Z
UID:10002080-1844532000-1844533800@michigancityin.gov
SUMMARY:Water Works Board Executive Meeting
DESCRIPTION:
URL:https://michigancityin.gov/city-event/water-works-board-executive-meeting/2028-06-13/
LOCATION:Water Works Main Office\, 532 Franklin Street\, Michigan City\, 46360\, United States
CATEGORIES:Water Works Board
END:VEVENT
BEGIN:VEVENT
DTSTART;TZID=America/Chicago:20280613T183000
DTEND;TZID=America/Chicago:20280613T193000
DTSTAMP:20260422T234015
CREATED:20260319T184735Z
LAST-MODIFIED:20260319T184736Z
UID:10002140-1844533800-1844537400@michigancityin.gov
SUMMARY:Water Works Board Tentative Meeting
DESCRIPTION:
URL:https://michigancityin.gov/city-event/water-works-board-tentative-meeting-3/2028-06-13/
LOCATION:Water Works Main Office\, 532 Franklin Street\, Michigan City\, 46360\, United States
CATEGORIES:Water Works Board
END:VEVENT
BEGIN:VEVENT
DTSTART;TZID=America/Chicago:20280711T180000
DTEND;TZID=America/Chicago:20280711T183000
DTSTAMP:20260422T234015
CREATED:20250609T022844Z
LAST-MODIFIED:20250609T022844Z
UID:10002081-1846951200-1846953000@michigancityin.gov
SUMMARY:Water Works Board Executive Meeting
DESCRIPTION:
URL:https://michigancityin.gov/city-event/water-works-board-executive-meeting/2028-07-11/
LOCATION:Water Works Main Office\, 532 Franklin Street\, Michigan City\, 46360\, United States
CATEGORIES:Water Works Board
END:VEVENT
BEGIN:VEVENT
DTSTART;TZID=America/Chicago:20280711T183000
DTEND;TZID=America/Chicago:20280711T193000
DTSTAMP:20260422T234015
CREATED:20260319T184735Z
LAST-MODIFIED:20260319T184736Z
UID:10002141-1846953000-1846956600@michigancityin.gov
SUMMARY:Water Works Board Tentative Meeting
DESCRIPTION:
URL:https://michigancityin.gov/city-event/water-works-board-tentative-meeting-3/2028-07-11/
LOCATION:Water Works Main Office\, 532 Franklin Street\, Michigan City\, 46360\, United States
CATEGORIES:Water Works Board
END:VEVENT
BEGIN:VEVENT
DTSTART;TZID=America/Chicago:20280808T180000
DTEND;TZID=America/Chicago:20280808T183000
DTSTAMP:20260422T234015
CREATED:20250609T022844Z
LAST-MODIFIED:20250609T022844Z
UID:10002082-1849370400-1849372200@michigancityin.gov
SUMMARY:Water Works Board Executive Meeting
DESCRIPTION:
URL:https://michigancityin.gov/city-event/water-works-board-executive-meeting/2028-08-08/
LOCATION:Water Works Main Office\, 532 Franklin Street\, Michigan City\, 46360\, United States
CATEGORIES:Water Works Board
END:VEVENT
BEGIN:VEVENT
DTSTART;TZID=America/Chicago:20280808T183000
DTEND;TZID=America/Chicago:20280808T193000
DTSTAMP:20260422T234015
CREATED:20260319T184735Z
LAST-MODIFIED:20260319T184736Z
UID:10002142-1849372200-1849375800@michigancityin.gov
SUMMARY:Water Works Board Tentative Meeting
DESCRIPTION:
URL:https://michigancityin.gov/city-event/water-works-board-tentative-meeting-3/2028-08-08/
LOCATION:Water Works Main Office\, 532 Franklin Street\, Michigan City\, 46360\, United States
CATEGORIES:Water Works Board
END:VEVENT
BEGIN:VEVENT
DTSTART;TZID=America/Chicago:20280829T190000
DTEND;TZID=America/Chicago:20280829T200000
DTSTAMP:20260422T234015
CREATED:20260319T184722Z
LAST-MODIFIED:20260319T184723Z
UID:10003476-1851188400-1851192000@michigancityin.gov
SUMMARY:Water Works Board Regular Meeting
DESCRIPTION:
URL:https://michigancityin.gov/city-event/water-works-board-regular-meeting-2/2028-08-29/
LOCATION:Water Works Main Office\, 532 Franklin Street\, Michigan City\, 46360\, United States
CATEGORIES:Water Works Board
END:VEVENT
BEGIN:VEVENT
DTSTART;TZID=America/Chicago:20280912T180000
DTEND;TZID=America/Chicago:20280912T183000
DTSTAMP:20260422T234015
CREATED:20250609T022844Z
LAST-MODIFIED:20250609T022844Z
UID:10002083-1852394400-1852396200@michigancityin.gov
SUMMARY:Water Works Board Executive Meeting
DESCRIPTION:
URL:https://michigancityin.gov/city-event/water-works-board-executive-meeting/2028-09-12/
LOCATION:Water Works Main Office\, 532 Franklin Street\, Michigan City\, 46360\, United States
CATEGORIES:Water Works Board
END:VEVENT
BEGIN:VEVENT
DTSTART;TZID=America/Chicago:20280912T183000
DTEND;TZID=America/Chicago:20280912T193000
DTSTAMP:20260422T234015
CREATED:20260319T184735Z
LAST-MODIFIED:20260319T184736Z
UID:10002143-1852396200-1852399800@michigancityin.gov
SUMMARY:Water Works Board Tentative Meeting
DESCRIPTION:
URL:https://michigancityin.gov/city-event/water-works-board-tentative-meeting-3/2028-09-12/
LOCATION:Water Works Main Office\, 532 Franklin Street\, Michigan City\, 46360\, United States
CATEGORIES:Water Works Board
END:VEVENT
BEGIN:VEVENT
DTSTART;TZID=America/Chicago:20281010T180000
DTEND;TZID=America/Chicago:20281010T183000
DTSTAMP:20260422T234015
CREATED:20250609T022844Z
LAST-MODIFIED:20250609T022844Z
UID:10002084-1854813600-1854815400@michigancityin.gov
SUMMARY:Water Works Board Executive Meeting
DESCRIPTION:
URL:https://michigancityin.gov/city-event/water-works-board-executive-meeting/2028-10-10/
LOCATION:Water Works Main Office\, 532 Franklin Street\, Michigan City\, 46360\, United States
CATEGORIES:Water Works Board
END:VEVENT
BEGIN:VEVENT
DTSTART;TZID=America/Chicago:20281010T183000
DTEND;TZID=America/Chicago:20281010T193000
DTSTAMP:20260422T234015
CREATED:20260319T184735Z
LAST-MODIFIED:20260319T184736Z
UID:10002144-1854815400-1854819000@michigancityin.gov
SUMMARY:Water Works Board Tentative Meeting
DESCRIPTION:
URL:https://michigancityin.gov/city-event/water-works-board-tentative-meeting-3/2028-10-10/
LOCATION:Water Works Main Office\, 532 Franklin Street\, Michigan City\, 46360\, United States
CATEGORIES:Water Works Board
END:VEVENT
BEGIN:VEVENT
DTSTART;TZID=America/Chicago:20281031T190000
DTEND;TZID=America/Chicago:20281031T200000
DTSTAMP:20260422T234015
CREATED:20260319T184722Z
LAST-MODIFIED:20260319T184723Z
UID:10003477-1856631600-1856635200@michigancityin.gov
SUMMARY:Water Works Board Regular Meeting
DESCRIPTION:
URL:https://michigancityin.gov/city-event/water-works-board-regular-meeting-2/2028-10-31/
LOCATION:Water Works Main Office\, 532 Franklin Street\, Michigan City\, 46360\, United States
CATEGORIES:Water Works Board
END:VEVENT
BEGIN:VEVENT
DTSTART;TZID=America/Chicago:20281114T180000
DTEND;TZID=America/Chicago:20281114T183000
DTSTAMP:20260422T234015
CREATED:20250609T022844Z
LAST-MODIFIED:20250609T022844Z
UID:10002085-1857837600-1857839400@michigancityin.gov
SUMMARY:Water Works Board Executive Meeting
DESCRIPTION:
URL:https://michigancityin.gov/city-event/water-works-board-executive-meeting/2028-11-14/
LOCATION:Water Works Main Office\, 532 Franklin Street\, Michigan City\, 46360\, United States
CATEGORIES:Water Works Board
END:VEVENT
BEGIN:VEVENT
DTSTART;TZID=America/Chicago:20281114T183000
DTEND;TZID=America/Chicago:20281114T193000
DTSTAMP:20260422T234015
CREATED:20260319T184735Z
LAST-MODIFIED:20260319T184736Z
UID:10002145-1857839400-1857843000@michigancityin.gov
SUMMARY:Water Works Board Tentative Meeting
DESCRIPTION:
URL:https://michigancityin.gov/city-event/water-works-board-tentative-meeting-3/2028-11-14/
LOCATION:Water Works Main Office\, 532 Franklin Street\, Michigan City\, 46360\, United States
CATEGORIES:Water Works Board
END:VEVENT
BEGIN:VEVENT
DTSTART;TZID=America/Chicago:20281212T180000
DTEND;TZID=America/Chicago:20281212T183000
DTSTAMP:20260422T234015
CREATED:20250609T022844Z
LAST-MODIFIED:20250609T022844Z
UID:10002086-1860256800-1860258600@michigancityin.gov
SUMMARY:Water Works Board Executive Meeting
DESCRIPTION:
URL:https://michigancityin.gov/city-event/water-works-board-executive-meeting/2028-12-12/
LOCATION:Water Works Main Office\, 532 Franklin Street\, Michigan City\, 46360\, United States
CATEGORIES:Water Works Board
END:VEVENT
BEGIN:VEVENT
DTSTART;TZID=America/Chicago:20281212T183000
DTEND;TZID=America/Chicago:20281212T193000
DTSTAMP:20260422T234015
CREATED:20260319T184735Z
LAST-MODIFIED:20260319T184736Z
UID:10002146-1860258600-1860262200@michigancityin.gov
SUMMARY:Water Works Board Tentative Meeting
DESCRIPTION:
URL:https://michigancityin.gov/city-event/water-works-board-tentative-meeting-3/2028-12-12/
LOCATION:Water Works Main Office\, 532 Franklin Street\, Michigan City\, 46360\, United States
CATEGORIES:Water Works Board
END:VEVENT
BEGIN:VEVENT
DTSTART;TZID=America/Chicago:20290109T180000
DTEND;TZID=America/Chicago:20290109T183000
DTSTAMP:20260422T234015
CREATED:20250609T022844Z
LAST-MODIFIED:20250609T022844Z
UID:10002087-1862676000-1862677800@michigancityin.gov
SUMMARY:Water Works Board Executive Meeting
DESCRIPTION:
URL:https://michigancityin.gov/city-event/water-works-board-executive-meeting/2029-01-09/
LOCATION:Water Works Main Office\, 532 Franklin Street\, Michigan City\, 46360\, United States
CATEGORIES:Water Works Board
END:VEVENT
BEGIN:VEVENT
DTSTART;TZID=America/Chicago:20290109T183000
DTEND;TZID=America/Chicago:20290109T193000
DTSTAMP:20260422T234015
CREATED:20260319T184735Z
LAST-MODIFIED:20260319T184736Z
UID:10002147-1862677800-1862681400@michigancityin.gov
SUMMARY:Water Works Board Tentative Meeting
DESCRIPTION:
URL:https://michigancityin.gov/city-event/water-works-board-tentative-meeting-3/2029-01-09/
LOCATION:Water Works Main Office\, 532 Franklin Street\, Michigan City\, 46360\, United States
CATEGORIES:Water Works Board
END:VEVENT
BEGIN:VEVENT
DTSTART;TZID=America/Chicago:20290130T190000
DTEND;TZID=America/Chicago:20290130T200000
DTSTAMP:20260422T234015
CREATED:20260319T184722Z
LAST-MODIFIED:20260319T184723Z
UID:10003478-1864494000-1864497600@michigancityin.gov
SUMMARY:Water Works Board Regular Meeting
DESCRIPTION:
URL:https://michigancityin.gov/city-event/water-works-board-regular-meeting-2/2029-01-30/
LOCATION:Water Works Main Office\, 532 Franklin Street\, Michigan City\, 46360\, United States
CATEGORIES:Water Works Board
END:VEVENT
END:VCALENDAR