BEGIN:VCALENDAR
VERSION:2.0
PRODID:-//City of Michigan City Indiana - ECPv6.15.20//NONSGML v1.0//EN
CALSCALE:GREGORIAN
METHOD:PUBLISH
X-ORIGINAL-URL:https://michigancityin.gov
X-WR-CALDESC:Events for City of Michigan City Indiana
REFRESH-INTERVAL;VALUE=DURATION:PT1H
X-Robots-Tag:noindex
X-PUBLISHED-TTL:PT1H
BEGIN:VTIMEZONE
TZID:America/Chicago
BEGIN:DAYLIGHT
TZOFFSETFROM:-0600
TZOFFSETTO:-0500
TZNAME:CDT
DTSTART:20280312T080000
END:DAYLIGHT
BEGIN:STANDARD
TZOFFSETFROM:-0500
TZOFFSETTO:-0600
TZNAME:CST
DTSTART:20281105T070000
END:STANDARD
BEGIN:DAYLIGHT
TZOFFSETFROM:-0600
TZOFFSETTO:-0500
TZNAME:CDT
DTSTART:20290311T080000
END:DAYLIGHT
BEGIN:STANDARD
TZOFFSETFROM:-0500
TZOFFSETTO:-0600
TZNAME:CST
DTSTART:20291104T070000
END:STANDARD
BEGIN:DAYLIGHT
TZOFFSETFROM:-0600
TZOFFSETTO:-0500
TZNAME:CDT
DTSTART:20300310T080000
END:DAYLIGHT
BEGIN:STANDARD
TZOFFSETFROM:-0500
TZOFFSETTO:-0600
TZNAME:CST
DTSTART:20301103T070000
END:STANDARD
BEGIN:DAYLIGHT
TZOFFSETFROM:-0600
TZOFFSETTO:-0500
TZNAME:CDT
DTSTART:20310309T080000
END:DAYLIGHT
BEGIN:STANDARD
TZOFFSETFROM:-0500
TZOFFSETTO:-0600
TZNAME:CST
DTSTART:20311102T070000
END:STANDARD
END:VTIMEZONE
BEGIN:VEVENT
DTSTART;TZID=America/Chicago:20290508T180000
DTEND;TZID=America/Chicago:20290508T183000
DTSTAMP:20260423T044003
CREATED:20250609T022844Z
LAST-MODIFIED:20250609T022844Z
UID:10002091-1872957600-1872959400@michigancityin.gov
SUMMARY:Water Works Board Executive Meeting
DESCRIPTION:
URL:https://michigancityin.gov/city-event/water-works-board-executive-meeting/2029-05-08/
LOCATION:Water Works Main Office\, 532 Franklin Street\, Michigan City\, 46360\, United States
CATEGORIES:Water Works Board
END:VEVENT
BEGIN:VEVENT
DTSTART;TZID=America/Chicago:20290508T183000
DTEND;TZID=America/Chicago:20290508T193000
DTSTAMP:20260423T044003
CREATED:20260319T184735Z
LAST-MODIFIED:20260319T184736Z
UID:10002151-1872959400-1872963000@michigancityin.gov
SUMMARY:Water Works Board Tentative Meeting
DESCRIPTION:
URL:https://michigancityin.gov/city-event/water-works-board-tentative-meeting-3/2029-05-08/
LOCATION:Water Works Main Office\, 532 Franklin Street\, Michigan City\, 46360\, United States
CATEGORIES:Water Works Board
END:VEVENT
BEGIN:VEVENT
DTSTART;TZID=America/Chicago:20290529T190000
DTEND;TZID=America/Chicago:20290529T200000
DTSTAMP:20260423T044003
CREATED:20260319T184722Z
LAST-MODIFIED:20260319T184723Z
UID:10003479-1874775600-1874779200@michigancityin.gov
SUMMARY:Water Works Board Regular Meeting
DESCRIPTION:
URL:https://michigancityin.gov/city-event/water-works-board-regular-meeting-2/2029-05-29/
LOCATION:Water Works Main Office\, 532 Franklin Street\, Michigan City\, 46360\, United States
CATEGORIES:Water Works Board
END:VEVENT
BEGIN:VEVENT
DTSTART;TZID=America/Chicago:20290612T180000
DTEND;TZID=America/Chicago:20290612T183000
DTSTAMP:20260423T044003
CREATED:20250609T022844Z
LAST-MODIFIED:20250609T022844Z
UID:10002092-1875981600-1875983400@michigancityin.gov
SUMMARY:Water Works Board Executive Meeting
DESCRIPTION:
URL:https://michigancityin.gov/city-event/water-works-board-executive-meeting/2029-06-12/
LOCATION:Water Works Main Office\, 532 Franklin Street\, Michigan City\, 46360\, United States
CATEGORIES:Water Works Board
END:VEVENT
BEGIN:VEVENT
DTSTART;TZID=America/Chicago:20290612T183000
DTEND;TZID=America/Chicago:20290612T193000
DTSTAMP:20260423T044003
CREATED:20260319T184735Z
LAST-MODIFIED:20260319T184736Z
UID:10002152-1875983400-1875987000@michigancityin.gov
SUMMARY:Water Works Board Tentative Meeting
DESCRIPTION:
URL:https://michigancityin.gov/city-event/water-works-board-tentative-meeting-3/2029-06-12/
LOCATION:Water Works Main Office\, 532 Franklin Street\, Michigan City\, 46360\, United States
CATEGORIES:Water Works Board
END:VEVENT
BEGIN:VEVENT
DTSTART;TZID=America/Chicago:20290710T180000
DTEND;TZID=America/Chicago:20290710T183000
DTSTAMP:20260423T044003
CREATED:20250609T022844Z
LAST-MODIFIED:20250609T022844Z
UID:10002093-1878400800-1878402600@michigancityin.gov
SUMMARY:Water Works Board Executive Meeting
DESCRIPTION:
URL:https://michigancityin.gov/city-event/water-works-board-executive-meeting/2029-07-10/
LOCATION:Water Works Main Office\, 532 Franklin Street\, Michigan City\, 46360\, United States
CATEGORIES:Water Works Board
END:VEVENT
BEGIN:VEVENT
DTSTART;TZID=America/Chicago:20290710T183000
DTEND;TZID=America/Chicago:20290710T193000
DTSTAMP:20260423T044003
CREATED:20260319T184735Z
LAST-MODIFIED:20260319T184736Z
UID:10002153-1878402600-1878406200@michigancityin.gov
SUMMARY:Water Works Board Tentative Meeting
DESCRIPTION:
URL:https://michigancityin.gov/city-event/water-works-board-tentative-meeting-3/2029-07-10/
LOCATION:Water Works Main Office\, 532 Franklin Street\, Michigan City\, 46360\, United States
CATEGORIES:Water Works Board
END:VEVENT
BEGIN:VEVENT
DTSTART;TZID=America/Chicago:20290731T190000
DTEND;TZID=America/Chicago:20290731T200000
DTSTAMP:20260423T044003
CREATED:20260319T184722Z
LAST-MODIFIED:20260319T184723Z
UID:10003480-1880218800-1880222400@michigancityin.gov
SUMMARY:Water Works Board Regular Meeting
DESCRIPTION:
URL:https://michigancityin.gov/city-event/water-works-board-regular-meeting-2/2029-07-31/
LOCATION:Water Works Main Office\, 532 Franklin Street\, Michigan City\, 46360\, United States
CATEGORIES:Water Works Board
END:VEVENT
BEGIN:VEVENT
DTSTART;TZID=America/Chicago:20290814T180000
DTEND;TZID=America/Chicago:20290814T183000
DTSTAMP:20260423T044003
CREATED:20250609T022844Z
LAST-MODIFIED:20250609T022844Z
UID:10002094-1881424800-1881426600@michigancityin.gov
SUMMARY:Water Works Board Executive Meeting
DESCRIPTION:
URL:https://michigancityin.gov/city-event/water-works-board-executive-meeting/2029-08-14/
LOCATION:Water Works Main Office\, 532 Franklin Street\, Michigan City\, 46360\, United States
CATEGORIES:Water Works Board
END:VEVENT
BEGIN:VEVENT
DTSTART;TZID=America/Chicago:20290814T183000
DTEND;TZID=America/Chicago:20290814T193000
DTSTAMP:20260423T044003
CREATED:20260319T184735Z
LAST-MODIFIED:20260319T184736Z
UID:10002154-1881426600-1881430200@michigancityin.gov
SUMMARY:Water Works Board Tentative Meeting
DESCRIPTION:
URL:https://michigancityin.gov/city-event/water-works-board-tentative-meeting-3/2029-08-14/
LOCATION:Water Works Main Office\, 532 Franklin Street\, Michigan City\, 46360\, United States
CATEGORIES:Water Works Board
END:VEVENT
BEGIN:VEVENT
DTSTART;TZID=America/Chicago:20290911T180000
DTEND;TZID=America/Chicago:20290911T183000
DTSTAMP:20260423T044003
CREATED:20250609T022844Z
LAST-MODIFIED:20250609T022844Z
UID:10002095-1883844000-1883845800@michigancityin.gov
SUMMARY:Water Works Board Executive Meeting
DESCRIPTION:
URL:https://michigancityin.gov/city-event/water-works-board-executive-meeting/2029-09-11/
LOCATION:Water Works Main Office\, 532 Franklin Street\, Michigan City\, 46360\, United States
CATEGORIES:Water Works Board
END:VEVENT
BEGIN:VEVENT
DTSTART;TZID=America/Chicago:20290911T183000
DTEND;TZID=America/Chicago:20290911T193000
DTSTAMP:20260423T044003
CREATED:20260319T184735Z
LAST-MODIFIED:20260319T184736Z
UID:10002155-1883845800-1883849400@michigancityin.gov
SUMMARY:Water Works Board Tentative Meeting
DESCRIPTION:
URL:https://michigancityin.gov/city-event/water-works-board-tentative-meeting-3/2029-09-11/
LOCATION:Water Works Main Office\, 532 Franklin Street\, Michigan City\, 46360\, United States
CATEGORIES:Water Works Board
END:VEVENT
BEGIN:VEVENT
DTSTART;TZID=America/Chicago:20291009T180000
DTEND;TZID=America/Chicago:20291009T183000
DTSTAMP:20260423T044003
CREATED:20250609T022844Z
LAST-MODIFIED:20250609T022844Z
UID:10002096-1886263200-1886265000@michigancityin.gov
SUMMARY:Water Works Board Executive Meeting
DESCRIPTION:
URL:https://michigancityin.gov/city-event/water-works-board-executive-meeting/2029-10-09/
LOCATION:Water Works Main Office\, 532 Franklin Street\, Michigan City\, 46360\, United States
CATEGORIES:Water Works Board
END:VEVENT
BEGIN:VEVENT
DTSTART;TZID=America/Chicago:20291009T183000
DTEND;TZID=America/Chicago:20291009T193000
DTSTAMP:20260423T044003
CREATED:20260319T184735Z
LAST-MODIFIED:20260319T184736Z
UID:10002156-1886265000-1886268600@michigancityin.gov
SUMMARY:Water Works Board Tentative Meeting
DESCRIPTION:
URL:https://michigancityin.gov/city-event/water-works-board-tentative-meeting-3/2029-10-09/
LOCATION:Water Works Main Office\, 532 Franklin Street\, Michigan City\, 46360\, United States
CATEGORIES:Water Works Board
END:VEVENT
BEGIN:VEVENT
DTSTART;TZID=America/Chicago:20291030T190000
DTEND;TZID=America/Chicago:20291030T200000
DTSTAMP:20260423T044003
CREATED:20260319T184722Z
LAST-MODIFIED:20260319T184723Z
UID:10003481-1888081200-1888084800@michigancityin.gov
SUMMARY:Water Works Board Regular Meeting
DESCRIPTION:
URL:https://michigancityin.gov/city-event/water-works-board-regular-meeting-2/2029-10-30/
LOCATION:Water Works Main Office\, 532 Franklin Street\, Michigan City\, 46360\, United States
CATEGORIES:Water Works Board
END:VEVENT
BEGIN:VEVENT
DTSTART;TZID=America/Chicago:20291113T180000
DTEND;TZID=America/Chicago:20291113T183000
DTSTAMP:20260423T044003
CREATED:20250609T022844Z
LAST-MODIFIED:20250609T022844Z
UID:10002097-1889287200-1889289000@michigancityin.gov
SUMMARY:Water Works Board Executive Meeting
DESCRIPTION:
URL:https://michigancityin.gov/city-event/water-works-board-executive-meeting/2029-11-13/
LOCATION:Water Works Main Office\, 532 Franklin Street\, Michigan City\, 46360\, United States
CATEGORIES:Water Works Board
END:VEVENT
BEGIN:VEVENT
DTSTART;TZID=America/Chicago:20291113T183000
DTEND;TZID=America/Chicago:20291113T193000
DTSTAMP:20260423T044003
CREATED:20260319T184735Z
LAST-MODIFIED:20260319T184736Z
UID:10002157-1889289000-1889292600@michigancityin.gov
SUMMARY:Water Works Board Tentative Meeting
DESCRIPTION:
URL:https://michigancityin.gov/city-event/water-works-board-tentative-meeting-3/2029-11-13/
LOCATION:Water Works Main Office\, 532 Franklin Street\, Michigan City\, 46360\, United States
CATEGORIES:Water Works Board
END:VEVENT
BEGIN:VEVENT
DTSTART;TZID=America/Chicago:20291211T180000
DTEND;TZID=America/Chicago:20291211T183000
DTSTAMP:20260423T044003
CREATED:20250609T022844Z
LAST-MODIFIED:20250609T022844Z
UID:10002098-1891706400-1891708200@michigancityin.gov
SUMMARY:Water Works Board Executive Meeting
DESCRIPTION:
URL:https://michigancityin.gov/city-event/water-works-board-executive-meeting/2029-12-11/
LOCATION:Water Works Main Office\, 532 Franklin Street\, Michigan City\, 46360\, United States
CATEGORIES:Water Works Board
END:VEVENT
BEGIN:VEVENT
DTSTART;TZID=America/Chicago:20291211T183000
DTEND;TZID=America/Chicago:20291211T193000
DTSTAMP:20260423T044003
CREATED:20260319T184735Z
LAST-MODIFIED:20260319T184736Z
UID:10002158-1891708200-1891711800@michigancityin.gov
SUMMARY:Water Works Board Tentative Meeting
DESCRIPTION:
URL:https://michigancityin.gov/city-event/water-works-board-tentative-meeting-3/2029-12-11/
LOCATION:Water Works Main Office\, 532 Franklin Street\, Michigan City\, 46360\, United States
CATEGORIES:Water Works Board
END:VEVENT
BEGIN:VEVENT
DTSTART;TZID=America/Chicago:20300108T180000
DTEND;TZID=America/Chicago:20300108T183000
DTSTAMP:20260423T044003
CREATED:20250609T022844Z
LAST-MODIFIED:20250609T022844Z
UID:10002099-1894125600-1894127400@michigancityin.gov
SUMMARY:Water Works Board Executive Meeting
DESCRIPTION:
URL:https://michigancityin.gov/city-event/water-works-board-executive-meeting/2030-01-08/
LOCATION:Water Works Main Office\, 532 Franklin Street\, Michigan City\, 46360\, United States
CATEGORIES:Water Works Board
END:VEVENT
BEGIN:VEVENT
DTSTART;TZID=America/Chicago:20300108T183000
DTEND;TZID=America/Chicago:20300108T193000
DTSTAMP:20260423T044003
CREATED:20260319T184735Z
LAST-MODIFIED:20260319T184736Z
UID:10002159-1894127400-1894131000@michigancityin.gov
SUMMARY:Water Works Board Tentative Meeting
DESCRIPTION:
URL:https://michigancityin.gov/city-event/water-works-board-tentative-meeting-3/2030-01-08/
LOCATION:Water Works Main Office\, 532 Franklin Street\, Michigan City\, 46360\, United States
CATEGORIES:Water Works Board
END:VEVENT
BEGIN:VEVENT
DTSTART;TZID=America/Chicago:20300129T190000
DTEND;TZID=America/Chicago:20300129T200000
DTSTAMP:20260423T044003
CREATED:20260319T184722Z
LAST-MODIFIED:20260319T184723Z
UID:10003482-1895943600-1895947200@michigancityin.gov
SUMMARY:Water Works Board Regular Meeting
DESCRIPTION:
URL:https://michigancityin.gov/city-event/water-works-board-regular-meeting-2/2030-01-29/
LOCATION:Water Works Main Office\, 532 Franklin Street\, Michigan City\, 46360\, United States
CATEGORIES:Water Works Board
END:VEVENT
BEGIN:VEVENT
DTSTART;TZID=America/Chicago:20300212T180000
DTEND;TZID=America/Chicago:20300212T183000
DTSTAMP:20260423T044003
CREATED:20250609T022844Z
LAST-MODIFIED:20250609T022844Z
UID:10002100-1897149600-1897151400@michigancityin.gov
SUMMARY:Water Works Board Executive Meeting
DESCRIPTION:
URL:https://michigancityin.gov/city-event/water-works-board-executive-meeting/2030-02-12/
LOCATION:Water Works Main Office\, 532 Franklin Street\, Michigan City\, 46360\, United States
CATEGORIES:Water Works Board
END:VEVENT
BEGIN:VEVENT
DTSTART;TZID=America/Chicago:20300212T183000
DTEND;TZID=America/Chicago:20300212T193000
DTSTAMP:20260423T044003
CREATED:20260319T184735Z
LAST-MODIFIED:20260319T184736Z
UID:10002160-1897151400-1897155000@michigancityin.gov
SUMMARY:Water Works Board Tentative Meeting
DESCRIPTION:
URL:https://michigancityin.gov/city-event/water-works-board-tentative-meeting-3/2030-02-12/
LOCATION:Water Works Main Office\, 532 Franklin Street\, Michigan City\, 46360\, United States
CATEGORIES:Water Works Board
END:VEVENT
BEGIN:VEVENT
DTSTART;TZID=America/Chicago:20300312T180000
DTEND;TZID=America/Chicago:20300312T183000
DTSTAMP:20260423T044003
CREATED:20250609T022844Z
LAST-MODIFIED:20250609T022844Z
UID:10002101-1899568800-1899570600@michigancityin.gov
SUMMARY:Water Works Board Executive Meeting
DESCRIPTION:
URL:https://michigancityin.gov/city-event/water-works-board-executive-meeting/2030-03-12/
LOCATION:Water Works Main Office\, 532 Franklin Street\, Michigan City\, 46360\, United States
CATEGORIES:Water Works Board
END:VEVENT
BEGIN:VEVENT
DTSTART;TZID=America/Chicago:20300312T183000
DTEND;TZID=America/Chicago:20300312T193000
DTSTAMP:20260423T044003
CREATED:20260319T184735Z
LAST-MODIFIED:20260319T184736Z
UID:10002161-1899570600-1899574200@michigancityin.gov
SUMMARY:Water Works Board Tentative Meeting
DESCRIPTION:
URL:https://michigancityin.gov/city-event/water-works-board-tentative-meeting-3/2030-03-12/
LOCATION:Water Works Main Office\, 532 Franklin Street\, Michigan City\, 46360\, United States
CATEGORIES:Water Works Board
END:VEVENT
BEGIN:VEVENT
DTSTART;TZID=America/Chicago:20300409T180000
DTEND;TZID=America/Chicago:20300409T183000
DTSTAMP:20260423T044003
CREATED:20250609T022844Z
LAST-MODIFIED:20250609T022844Z
UID:10002102-1901988000-1901989800@michigancityin.gov
SUMMARY:Water Works Board Executive Meeting
DESCRIPTION:
URL:https://michigancityin.gov/city-event/water-works-board-executive-meeting/2030-04-09/
LOCATION:Water Works Main Office\, 532 Franklin Street\, Michigan City\, 46360\, United States
CATEGORIES:Water Works Board
END:VEVENT
BEGIN:VEVENT
DTSTART;TZID=America/Chicago:20300409T183000
DTEND;TZID=America/Chicago:20300409T193000
DTSTAMP:20260423T044003
CREATED:20260319T184735Z
LAST-MODIFIED:20260319T184736Z
UID:10002162-1901989800-1901993400@michigancityin.gov
SUMMARY:Water Works Board Tentative Meeting
DESCRIPTION:
URL:https://michigancityin.gov/city-event/water-works-board-tentative-meeting-3/2030-04-09/
LOCATION:Water Works Main Office\, 532 Franklin Street\, Michigan City\, 46360\, United States
CATEGORIES:Water Works Board
END:VEVENT
BEGIN:VEVENT
DTSTART;TZID=America/Chicago:20300430T190000
DTEND;TZID=America/Chicago:20300430T200000
DTSTAMP:20260423T044003
CREATED:20260319T184722Z
LAST-MODIFIED:20260319T184723Z
UID:10003483-1903806000-1903809600@michigancityin.gov
SUMMARY:Water Works Board Regular Meeting
DESCRIPTION:
URL:https://michigancityin.gov/city-event/water-works-board-regular-meeting-2/2030-04-30/
LOCATION:Water Works Main Office\, 532 Franklin Street\, Michigan City\, 46360\, United States
CATEGORIES:Water Works Board
END:VEVENT
BEGIN:VEVENT
DTSTART;TZID=America/Chicago:20300514T180000
DTEND;TZID=America/Chicago:20300514T183000
DTSTAMP:20260423T044003
CREATED:20250609T022844Z
LAST-MODIFIED:20250609T022844Z
UID:10002103-1905012000-1905013800@michigancityin.gov
SUMMARY:Water Works Board Executive Meeting
DESCRIPTION:
URL:https://michigancityin.gov/city-event/water-works-board-executive-meeting/2030-05-14/
LOCATION:Water Works Main Office\, 532 Franklin Street\, Michigan City\, 46360\, United States
CATEGORIES:Water Works Board
END:VEVENT
END:VCALENDAR